{"text_format":"1","workbook":"xlsx","n_sheets":9,"sheets":["①入力要項","②基本データ入力","③加入者名簿","④会費納入書","⑤校内用申込用紙","リスト","教科別取込","会費取込","会員データ"],"not_rendered":{"charts":0,"images":0,"macros":1,"external_links":0,"defined_names":11,"comments":1,"pivot_tables":0},"unopened":[],"bounds":{"document_bytes":16777216,"sheet_cells":100000,"rows_first":2000,"rows_last":500,"rows_between":2000,"halvings":0,"cell_chars":16384,"cell_head_chars":4096},"cells_cut":0,"cells_raw":0,"read":"whole","date_system":"1900"}

{"sheet":"①入力要項","index":0,"n_rows":85,"n_cols":8,"rows_kept":85,"cut":false,"hidden":false,"merged":[[1,1,1,11]]}
[]
[null,"新潟県高等学校教育研究会　「加入申込票入力要項」"]
[]
[null,"１　加入申込票(本ファイル)の作成について"]
[null,"(1)","所属ごとに本申込票(MS EXCELファイル)を作成してください。高等学校では、本校/分校別、課程別に作成して"]
[null,null,"ください。"]
[]
[null,"(2)","基本データの入力"]
[null,null,"「②基本データ入力」シートの、着色したセルに必要事項を入力してください。"]
[null,null,"ここで入力したデータは、他のシートにリンクしています。"]
[]
[null,"(3)","加入者名簿の入力"]
[null,null,"「③加入者名簿」シートに、加入希望者名、加入部会等必要事項を入力してください。"]
[null,null,"a)氏名、職名を入力してください。"]
[null,null,"　職名欄には、校長・副校長・教頭・教諭・養護教諭・司書・講師・実習助手等、具体的に記入してください。"]
[null,null,"※氏名入力に外字が必要な場合について"]
[null,null,"　機種に依存しない文字で仮に入力し、備考欄にその旨御記入ください。"]
[null,null,"b)加入を希望する部会に、数字「1」を入力してください。「1」以外の数値は入力できません(入力規制)。"]
[null,null,"c)「会費」は自動的に入力されます。入力に不備がある場合は、エラーメッセージを返しますので、正しく修正して"]
[null,null,"　ください。"]
[null,null,"d)「高教研役職名」には、以下から該当するものを入力してください。"]
[null,null,"　校長が部長・副部長になられている場合がありますので、必ず確認願います。"]
[null,null,"　①会長"]
[null,null,"　②副会長"]
[null,null,"　③顧問"]
[null,null,"　④部長","(入力例)　部長(国語)",null,null,"※複数の部会の役職を兼ねる場合は、すべての役職"]
[null,null,"　⑤副部長","(入力例)　副部長(国語)",null,null,"　を入力してください。"]
[null,null,"　⑥委員",null,null,null,"　(入力例)　部長(国語)、副部長(視聴覚)"]
[null,null,"　⑦会計監査委員"]
[null,null,"　⑧部会幹事","(入力例)　部会幹事(国語)"]
[null,null,"　⑨校内部会代表",null,"「◎(部会名)」を入力してください。　(入力例)　◎国語、◎生徒指導"]
[]
[null,null,"※高教研「委員」とは"]
[null,null,"　所属の加入者の中から「委員」を1名選出してください。"]
[null,null,"　委員は、所属の高教研会員を代表し、議決機関としての「委員会」を構成します。"]
[null,null,"　高等学校では、副校長または教頭が委員を務めます。"]
[]
[null,null,"e)各会員の本年度担当教科名を記入してください。"]
[null,null,"　地歴・公民、理科、芸術、農業、工業の各部会については、各会員の本年度担当「科目」名を記入してください。"]
[null,null,"　担当教科がない場合は、「なし」と入力してください。"]
[null,null,"f)備考欄には、その他特記すべき事柄がある場合等に御使用ください。"]
[]
[null,"２　申込方法"]
[null,"(1)","この EXCELファイルに必要事項を入力し、Groupawreのメッセージに添付してお申し込みください。"]
[null,null,"送付先："]
[null,null," 新潟南高等学校　教頭　宛"]
[null,null," Groupwareメッセージ　:　新潟南高等学校教頭"]
[]
[]
[null,null,"メール件名："]
[null,null,"　「高教研加入申込（学番(２桁)＋学校名＋分校名＋課程）」"]
[null,null,"　例)　高教研加入申込(０３新潟南全)"]
[null,null,"ファイル名："]
[null,null,"　「学番(２桁)＋学校名＋分校名＋課程：０６高教研」",null,null,null,null,"※０６高教研の０６は令和６年を意味します。"]
[null,null,"　例)　０３新潟南全：０６高教研.xls"]
[null,null,"※２回目以降の申込の場合は、メール件名、ファイル名とも、末尾に「２回目」等と付けてください。"]
[]
[null,"(2)","申込期限"]
[null,null,"令和６年４月３０日（月）までにお申し込みください。"]
[null,null,"※理事会・委員会の準備の都合上、期限を厳守くださるようお願いします。"]
[]
[]
[null,"３　追加加入について"]
[null,null,"所属の加入希望者を報告いただいた後で、新たに加入希望者が現れた場合は、以下のように対応してください。"]
[null,"(1)","本申込様式(MS EXCELファイル)に、追加加入の方のみを入力し、上記１～３の流れに沿ってお申し込みください。"]
[]
[null,"(2)","申込様式の「②基本データ入力」において、「13 当年度申込区分」を「追加(○回目)」としてください。"]
[null,null,"(記入例)「追加(1回目)」　(所属で一括申込の後、初めて追加申込する場合)"]
[]
[null,"(3)","追加での申込は随時、受け付けます。ただし、各部会への活動費の配分等に影響がでますので、年度初めの"]
[null,null,"加入とりまとめは上記締切を厳守してください。"]
[]
[null,"４　その他"]
[null,"(1)","加入申込に必要な様式は、新潟県高等学校教育研究会ホームページからダウンロードできます。"]
[null,null,"http://www.kokyoken.nein.ed.jp/"]
[]
[null,"(2)","ワークシートの保護について"]
[null,null,"誤って内容を書き換えてしまわないよう、本Excelファイルにはシートに保護をかけています。"]
[null,null,"必要があれば、保護を解除して内容を訂正してください。保護解除にパスワードは必要ありません。"]
[]
[]
[null,null,null,null,null,"　【　担　当　】"]
[null,null,null,null,null,"　県高等学校教育研究会事務局"]
[null,null,null,null,null,"　（県立新潟南高等学校教頭）"]
[null,null,null,null,null,"　電話　０２５－２４７－7131（直）"]

{"sheet":"②基本データ入力","index":1,"n_rows":34,"n_cols":7,"rows_kept":34,"cut":false,"hidden":false,"merged":[]}
[]
[null,"新潟県高等学校教育研究会　加入申込票　基本データ入力シート"]
[]
[null,"最初に以下の空欄(着色セル)に必要事項を入力してください。*印は必須項目です。"]
[]
[null,null,null,"〈入力欄〉",null,"〈入力例〉"]
[null,1,"加入申込年度*",6,null,6,"西暦でなく和暦で入力してください"]
[]
[null,2,"加入申込日*",null,null,"2024-04-06","MS Excelの日付形式で入力してください"]
[]
[null,3,"所属名１*",null,null,"新潟県立新潟南高等学校","分校は「○○高等学校(○○分校)」としてください"]
[]
[null,4,"所属名２(課程／課･係)*","全日制",null,"全日制","高等学校は全日制／定時制／通信制のいずれかを"]
[null,null,null,null,null,null,"入力してください"]
[null,5,"学番",null,null,3,"県立高等学校･県立中等教育学校･新潟市立学校、"]
[null,null,null,null,null,null,"県立特別支援学校のみ入力してください"]
[null,6,"所属長名*",null,null,"○○　○○"]
[]
[null,7,"高教研委員職*",null,null,"教頭"]
[]
[null,8,"高教研委員氏名*",null,null,"○○　○○","「委員」については申込要項を参照してください"]
[null,null,"(申込責任者氏名)"]
[null,9,"連絡先１(電話番号)*",null,null,"025-247-3331"]
[]
[null,10,"連絡先２(FAX番号)",null,null,"025-247-3489"]
[]
[null,11,"連絡先３(メールアドレス)*",null,null,"sub2@niigatami-h.nein.ed.jp"]
[]
[null,12,"当年度申込区分*","新規",null,"新規","当年度最初の申込の場合は「新規」、追加申込の"]
[null,null,null,{"$f":"LEFT(D29,2)","v":"新規"}]
[null,null,null,null,null,null,"場合は「追加(○回目)」と入力してください"]
[null,13,"年会費",2000]
[]
[null,14,"加入申込ブックver","ver.1.1"]

{"sheet":"③加入者名簿","index":2,"n_rows":157,"n_cols":30,"rows_kept":157,"cut":false,"hidden":false,"merged":[[4,1,5,1],[4,24,5,24],[4,25,5,25],[4,28,5,28],[4,5,5,5]]}
[]
[]
[]
[null,null,{"$f":"IF(②基本データ入力!D30=\"追加\",\"追加申込\",\"\")","v":""},null,null,null,1,2,3,4,5,6,7,8,9,10,11,12,13,14,15,16,17]
[null,"id","氏名/加入実人数","学番","所属名","職名/\n加入者数","国語","地歴\n・公民","数学","理科","芸術","英語","農業","工業","商業","水産","家庭科","保健\n体育","情報","生徒\n指導","図書館","視聴覚","定通","会費","高教研\n役職名","本年度\n担当教科","受付日","申込\n区分","備考","エラー"]
[null,null,{"$f":"C157","v":0},null,null,null,{"$f":"G157","v":0},{"$f":"H157","v":0},0,0,0,0,0,0,0,0,0,0,0,0,0,0,0,{"$f":"X157","v":0},null,null,null,null,null,"メッセージ"]
[null,1,null,null,null,null,null,null,null,null,null,null,null,null,null,null,null,null,null,null,null,null,null,{"$f":"IF(C7<>\"\",IF(SUM(G7:W7)=0,\"加入部会を選んでください\",②基本データ入力!D$32),IF(SUM(G7:W7)>0,\"加入者氏名を入力してください\",\"\"))","v":""},null,null,{"$f":"IF($C7<>\"\",②基本データ入力!$D$9,\"\")","v":""},{"$f":"IF($C7<>\"\",②基本データ入力!$D$29,\"\")","v":""},null,{"$f":"IF(C7<>\"\",IF(F7=\"\",\"職名を入力してください\",IF(Z7=\"\",\"担当教科を入力してください\",\"\")),IF(F7<>\"\",\"加入者氏名を入力してください\",IF(Z7<>\"\",\"加入者氏名を入力してください\",\"\")))","v":""}]
[null,2,null,null,null,null,null,null,null,null,null,null,null,null,null,null,null,null,null,null,null,null,null,{"$f":"IF(C8<>\"\",IF(SUM(G8:W8)=0,\"加入部会を選んでください\",②基本データ入力!D$32),IF(SUM(G8:W8)>0,\"加入者氏名を入力してください\",\"\"))","v":""},null,null,{"$f":"IF($C8<>\"\",②基本データ入力!$D$9,\"\")","v":""},{"$f":"IF($C8<>\"\",②基本データ入力!$D$29,\"\")","v":""},null,{"$f":"IF(C8<>\"\",IF(F8=\"\",\"職名を入力してください\",IF(Z8=\"\",\"担当教科を入力してください\",\"\")),IF(F8<>\"\",\"加入者氏名を入力してください\",IF(Z8<>\"\",\"加入者氏名を入力してください\",\"\")))","v":""}]
[null,3,null,null,null,null,null,null,null,null,null,null,null,null,null,null,null,null,null,null,null,null,null,{"$f":"IF(C9<>\"\",IF(SUM(G9:W9)=0,\"加入部会を選んでください\",②基本データ入力!D$32),IF(SUM(G9:W9)>0,\"加入者氏名を入力してください\",\"\"))","v":""},null,null,{"$f":"IF($C9<>\"\",②基本データ入力!$D$9,\"\")","v":""},{"$f":"IF($C9<>\"\",②基本データ入力!$D$29,\"\")","v":""},null,""]
[null,4,null,null,null,null,null,null,null,null,null,null,null,null,null,null,null,null,null,null,null,null,null,{"$f":"IF(C10<>\"\",IF(SUM(G10:W10)=0,\"加入部会を選んでください\",②基本データ入力!D$32),IF(SUM(G10:W10)>0,\"加入者氏名を入力してください\",\"\"))","v":""},null,null,{"$f":"IF($C10<>\"\",②基本データ入力!$D$9,\"\")","v":""},{"$f":"IF($C10<>\"\",②基本データ入力!$D$29,\"\")","v":""},null,""]
[null,5,null,null,null,null,null,null,null,null,null,null,null,null,null,null,null,null,null,null,null,null,null,{"$f":"IF(C11<>\"\",IF(SUM(G11:W11)=0,\"加入部会を選んでください\",②基本データ入力!D$32),IF(SUM(G11:W11)>0,\"加入者氏名を入力してください\",\"\"))","v":""},null,null,{"$f":"IF($C11<>\"\",②基本データ入力!$D$9,\"\")","v":""},{"$f":"IF($C11<>\"\",②基本データ入力!$D$29,\"\")","v":""},null,""]
[null,6,null,null,null,null,null,null,null,null,null,null,null,null,null,null,null,null,null,null,null,null,null,{"$f":"IF(C12<>\"\",IF(SUM(G12:W12)=0,\"加入部会を選んでください\",②基本データ入力!D$32),IF(SUM(G12:W12)>0,\"加入者氏名を入力してください\",\"\"))","v":""},null,null,{"$f":"IF($C12<>\"\",②基本データ入力!$D$9,\"\")","v":""},{"$f":"IF($C12<>\"\",②基本データ入力!$D$29,\"\")","v":""},null,""]
[null,7,null,null,null,null,null,null,null,null,null,null,null,null,null,null,null,null,null,null,null,null,null,{"$f":"IF(C13<>\"\",IF(SUM(G13:W13)=0,\"加入部会を選んでください\",②基本データ入力!D$32),IF(SUM(G13:W13)>0,\"加入者氏名を入力してください\",\"\"))","v":""},null,null,{"$f":"IF($C13<>\"\",②基本データ入力!$D$9,\"\")","v":""},{"$f":"IF($C13<>\"\",②基本データ入力!$D$29,\"\")","v":""},null,""]
[null,8,null,null,null,null,null,null,null,null,null,null,null,null,null,null,null,null,null,null,null,null,null,{"$f":"IF(C14<>\"\",IF(SUM(G14:W14)=0,\"加入部会を選んでください\",②基本データ入力!D$32),IF(SUM(G14:W14)>0,\"加入者氏名を入力してください\",\"\"))","v":""},null,null,{"$f":"IF($C14<>\"\",②基本データ入力!$D$9,\"\")","v":""},{"$f":"IF($C14<>\"\",②基本データ入力!$D$29,\"\")","v":""},null,""]
[null,9,null,null,null,null,null,null,null,null,null,null,null,null,null,null,null,null,null,null,null,null,null,{"$f":"IF(C15<>\"\",IF(SUM(G15:W15)=0,\"加入部会を選んでください\",②基本データ入力!D$32),IF(SUM(G15:W15)>0,\"加入者氏名を入力してください\",\"\"))","v":""},null,null,{"$f":"IF($C15<>\"\",②基本データ入力!$D$9,\"\")","v":""},{"$f":"IF($C15<>\"\",②基本データ入力!$D$29,\"\")","v":""},null,""]
[null,10,null,null,null,null,null,null,null,null,null,null,null,null,null,null,null,null,null,null,null,null,null,{"$f":"IF(C16<>\"\",IF(SUM(G16:W16)=0,\"加入部会を選んでください\",②基本データ入力!D$32),IF(SUM(G16:W16)>0,\"加入者氏名を入力してください\",\"\"))","v":""},null,null,{"$f":"IF($C16<>\"\",②基本データ入力!$D$9,\"\")","v":""},{"$f":"IF($C16<>\"\",②基本データ入力!$D$29,\"\")","v":""},null,""]
[null,11,null,null,null,null,null,null,null,null,null,null,null,null,null,null,null,null,null,null,null,null,null,{"$f":"IF(C17<>\"\",IF(SUM(G17:W17)=0,\"加入部会を選んでください\",②基本データ入力!D$32),IF(SUM(G17:W17)>0,\"加入者氏名を入力してください\",\"\"))","v":""},null,null,{"$f":"IF($C17<>\"\",②基本データ入力!$D$9,\"\")","v":""},{"$f":"IF($C17<>\"\",②基本データ入力!$D$29,\"\")","v":""},null,""]
[null,12,null,null,null,null,null,null,null,null,null,null,null,null,null,null,null,null,null,null,null,null,null,{"$f":"IF(C18<>\"\",IF(SUM(G18:W18)=0,\"加入部会を選んでください\",②基本データ入力!D$32),IF(SUM(G18:W18)>0,\"加入者氏名を入力してください\",\"\"))","v":""},null,null,{"$f":"IF($C18<>\"\",②基本データ入力!$D$9,\"\")","v":""},{"$f":"IF($C18<>\"\",②基本データ入力!$D$29,\"\")","v":""},null,""]
[null,13,null,null,null,null,null,null,null,null,null,null,null,null,null,null,null,null,null,null,null,null,null,{"$f":"IF(C19<>\"\",IF(SUM(G19:W19)=0,\"加入部会を選んでください\",②基本データ入力!D$32),IF(SUM(G19:W19)>0,\"加入者氏名を入力してください\",\"\"))","v":""},null,null,{"$f":"IF($C19<>\"\",②基本データ入力!$D$9,\"\")","v":""},{"$f":"IF($C19<>\"\",②基本データ入力!$D$29,\"\")","v":""},null,""]
[null,14,null,null,null,null,null,null,null,null,null,null,null,null,null,null,null,null,null,null,null,null,null,{"$f":"IF(C20<>\"\",IF(SUM(G20:W20)=0,\"加入部会を選んでください\",②基本データ入力!D$32),IF(SUM(G20:W20)>0,\"加入者氏名を入力してください\",\"\"))","v":""},null,null,{"$f":"IF($C20<>\"\",②基本データ入力!$D$9,\"\")","v":""},{"$f":"IF($C20<>\"\",②基本データ入力!$D$29,\"\")","v":""},null,""]
[null,15,null,null,null,null,null,null,null,null,null,null,null,null,null,null,null,null,null,null,null,null,null,{"$f":"IF(C21<>\"\",IF(SUM(G21:W21)=0,\"加入部会を選んでください\",②基本データ入力!D$32),IF(SUM(G21:W21)>0,\"加入者氏名を入力してください\",\"\"))","v":""},null,null,{"$f":"IF($C21<>\"\",②基本データ入力!$D$9,\"\")","v":""},{"$f":"IF($C21<>\"\",②基本データ入力!$D$29,\"\")","v":""},null,""]
[null,16,null,null,null,null,null,null,null,null,null,null,null,null,null,null,null,null,null,null,null,null,null,{"$f":"IF(C22<>\"\",IF(SUM(G22:W22)=0,\"加入部会を選んでください\",②基本データ入力!D$32),IF(SUM(G22:W22)>0,\"加入者氏名を入力してください\",\"\"))","v":""},null,null,{"$f":"IF($C22<>\"\",②基本データ入力!$D$9,\"\")","v":""},{"$f":"IF($C22<>\"\",②基本データ入力!$D$29,\"\")","v":""},null,""]
[null,17,null,null,null,null,null,null,null,null,null,null,null,null,null,null,null,null,null,null,null,null,null,{"$f":"IF(C23<>\"\",IF(SUM(G23:W23)=0,\"加入部会を選んでください\",②基本データ入力!D$32),IF(SUM(G23:W23)>0,\"加入者氏名を入力してください\",\"\"))","v":""},null,null,{"$f":"IF($C23<>\"\",②基本データ入力!$D$9,\"\")","v":""},{"$f":"IF($C23<>\"\",②基本データ入力!$D$29,\"\")","v":""},null,""]
[null,18,null,null,null,null,null,null,null,null,null,null,null,null,null,null,null,null,null,null,null,null,null,{"$f":"IF(C24<>\"\",IF(SUM(G24:W24)=0,\"加入部会を選んでください\",②基本データ入力!D$32),IF(SUM(G24:W24)>0,\"加入者氏名を入力してください\",\"\"))","v":""},null,null,{"$f":"IF($C24<>\"\",②基本データ入力!$D$9,\"\")","v":""},{"$f":"IF($C24<>\"\",②基本データ入力!$D$29,\"\")","v":""},null,""]
[null,19,null,null,null,null,null,null,null,null,null,null,null,null,null,null,null,null,null,null,null,null,null,{"$f":"IF(C25<>\"\",IF(SUM(G25:W25)=0,\"加入部会を選んでください\",②基本データ入力!D$32),IF(SUM(G25:W25)>0,\"加入者氏名を入力してください\",\"\"))","v":""},null,null,{"$f":"IF($C25<>\"\",②基本データ入力!$D$9,\"\")","v":""},{"$f":"IF($C25<>\"\",②基本データ入力!$D$29,\"\")","v":""},null,""]
[null,20,null,null,null,null,null,null,null,null,null,null,null,null,null,null,null,null,null,null,null,null,null,{"$f":"IF(C26<>\"\",IF(SUM(G26:W26)=0,\"加入部会を選んでください\",②基本データ入力!D$32),IF(SUM(G26:W26)>0,\"加入者氏名を入力してください\",\"\"))","v":""},null,null,{"$f":"IF($C26<>\"\",②基本データ入力!$D$9,\"\")","v":""},{"$f":"IF($C26<>\"\",②基本データ入力!$D$29,\"\")","v":""},null,""]
[null,21,null,{"$f":"IF($C27<>\"\",②基本データ入力!$D$15,\"\")","v":""},{"$f":"IF($C27<>\"\",②基本データ入力!$D$11&②基本データ入力!$D$13,\"\")","v":""},null,null,null,null,null,null,null,null,null,null,null,null,null,null,null,null,null,null,{"$f":"IF(C27<>\"\",IF(SUM(G27:W27)=0,\"加入部会を選んでください\",②基本データ入力!D$32),IF(SUM(G27:W27)>0,\"加入者氏名を入力してください\",\"\"))","v":""},null,null,{"$f":"IF($C27<>\"\",②基本データ入力!$D$9,\"\")","v":""},{"$f":"IF($C27<>\"\",②基本データ入力!$D$29,\"\")","v":""},null,""]
[null,22,null,{"$f":"IF($C28<>\"\",②基本データ入力!$D$15,\"\")","v":""},{"$f":"IF($C28<>\"\",②基本データ入力!$D$11&②基本データ入力!$D$13,\"\")","v":""},null,null,null,null,null,null,null,null,null,null,null,null,null,null,null,null,null,null,{"$f":"IF(C28<>\"\",IF(SUM(G28:W28)=0,\"加入部会を選んでください\",②基本データ入力!D$32),IF(SUM(G28:W28)>0,\"加入者氏名を入力してください\",\"\"))","v":""},null,null,{"$f":"IF($C28<>\"\",②基本データ入力!$D$9,\"\")","v":""},{"$f":"IF($C28<>\"\",②基本データ入力!$D$29,\"\")","v":""},null,""]
[null,23,null,{"$f":"IF($C29<>\"\",②基本データ入力!$D$15,\"\")","v":""},{"$f":"IF($C29<>\"\",②基本データ入力!$D$11&②基本データ入力!$D$13,\"\")","v":""},null,null,null,null,null,null,null,null,null,null,null,null,null,null,null,null,null,null,{"$f":"IF(C29<>\"\",IF(SUM(G29:W29)=0,\"加入部会を選んでください\",②基本データ入力!D$32),IF(SUM(G29:W29)>0,\"加入者氏名を入力してください\",\"\"))","v":""},null,null,{"$f":"IF($C29<>\"\",②基本データ入力!$D$9,\"\")","v":""},{"$f":"IF($C29<>\"\",②基本データ入力!$D$29,\"\")","v":""},null,""]
[null,24,null,{"$f":"IF($C30<>\"\",②基本データ入力!$D$15,\"\")","v":""},{"$f":"IF($C30<>\"\",②基本データ入力!$D$11&②基本データ入力!$D$13,\"\")","v":""},null,null,null,null,null,null,null,null,null,null,null,null,null,null,null,null,null,null,{"$f":"IF(C30<>\"\",IF(SUM(G30:W30)=0,\"加入部会を選んでください\",②基本データ入力!D$32),IF(SUM(G30:W30)>0,\"加入者氏名を入力してください\",\"\"))","v":""},null,null,{"$f":"IF($C30<>\"\",②基本データ入力!$D$9,\"\")","v":""},{"$f":"IF($C30<>\"\",②基本データ入力!$D$29,\"\")","v":""},null,""]
[null,25,null,{"$f":"IF($C31<>\"\",②基本データ入力!$D$15,\"\")","v":""},{"$f":"IF($C31<>\"\",②基本データ入力!$D$11&②基本データ入力!$D$13,\"\")","v":""},null,null,null,null,null,null,null,null,null,null,null,null,null,null,null,null,null,null,{"$f":"IF(C31<>\"\",IF(SUM(G31:W31)=0,\"加入部会を選んでください\",②基本データ入力!D$32),IF(SUM(G31:W31)>0,\"加入者氏名を入力してください\",\"\"))","v":""},null,null,{"$f":"IF($C31<>\"\",②基本データ入力!$D$9,\"\")","v":""},{"$f":"IF($C31<>\"\",②基本データ入力!$D$29,\"\")","v":""},null,""]
[null,26,null,{"$f":"IF($C32<>\"\",②基本データ入力!$D$15,\"\")","v":""},{"$f":"IF($C32<>\"\",②基本データ入力!$D$11&②基本データ入力!$D$13,\"\")","v":""},null,null,null,null,null,null,null,null,null,null,null,null,null,null,null,null,null,null,{"$f":"IF(C32<>\"\",IF(SUM(G32:W32)=0,\"加入部会を選んでください\",②基本データ入力!D$32),IF(SUM(G32:W32)>0,\"加入者氏名を入力してください\",\"\"))","v":""},null,null,{"$f":"IF($C32<>\"\",②基本データ入力!$D$9,\"\")","v":""},{"$f":"IF($C32<>\"\",②基本データ入力!$D$29,\"\")","v":""},null,""]
[null,27,null,{"$f":"IF($C33<>\"\",②基本データ入力!$D$15,\"\")","v":""},{"$f":"IF($C33<>\"\",②基本データ入力!$D$11&②基本データ入力!$D$13,\"\")","v":""},null,null,null,null,null,null,null,null,null,null,null,null,null,null,null,null,null,null,{"$f":"IF(C33<>\"\",IF(SUM(G33:W33)=0,\"加入部会を選んでください\",②基本データ入力!D$32),IF(SUM(G33:W33)>0,\"加入者氏名を入力してください\",\"\"))","v":""},null,null,{"$f":"IF($C33<>\"\",②基本データ入力!$D$9,\"\")","v":""},{"$f":"IF($C33<>\"\",②基本データ入力!$D$29,\"\")","v":""},null,""]
[null,28,null,{"$f":"IF($C34<>\"\",②基本データ入力!$D$15,\"\")","v":""},{"$f":"IF($C34<>\"\",②基本データ入力!$D$11&②基本データ入力!$D$13,\"\")","v":""},null,null,null,null,null,null,null,null,null,null,null,null,null,null,null,null,null,null,{"$f":"IF(C34<>\"\",IF(SUM(G34:W34)=0,\"加入部会を選んでください\",②基本データ入力!D$32),IF(SUM(G34:W34)>0,\"加入者氏名を入力してください\",\"\"))","v":""},null,null,{"$f":"IF($C34<>\"\",②基本データ入力!$D$9,\"\")","v":""},{"$f":"IF($C34<>\"\",②基本データ入力!$D$29,\"\")","v":""},null,""]
[null,29,null,{"$f":"IF($C35<>\"\",②基本データ入力!$D$15,\"\")","v":""},{"$f":"IF($C35<>\"\",②基本データ入力!$D$11&②基本データ入力!$D$13,\"\")","v":""},null,null,null,null,null,null,null,null,null,null,null,null,null,null,null,null,null,null,{"$f":"IF(C35<>\"\",IF(SUM(G35:W35)=0,\"加入部会を選んでください\",②基本データ入力!D$32),IF(SUM(G35:W35)>0,\"加入者氏名を入力してください\",\"\"))","v":""},null,null,{"$f":"IF($C35<>\"\",②基本データ入力!$D$9,\"\")","v":""},{"$f":"IF($C35<>\"\",②基本データ入力!$D$29,\"\")","v":""},null,""]
[null,30,null,{"$f":"IF($C36<>\"\",②基本データ入力!$D$15,\"\")","v":""},{"$f":"IF($C36<>\"\",②基本データ入力!$D$11&②基本データ入力!$D$13,\"\")","v":""},null,null,null,null,null,null,null,null,null,null,null,null,null,null,null,null,null,null,{"$f":"IF(C36<>\"\",IF(SUM(G36:W36)=0,\"加入部会を選んでください\",②基本データ入力!D$32),IF(SUM(G36:W36)>0,\"加入者氏名を入力してください\",\"\"))","v":""},null,null,{"$f":"IF($C36<>\"\",②基本データ入力!$D$9,\"\")","v":""},{"$f":"IF($C36<>\"\",②基本データ入力!$D$29,\"\")","v":""},null,""]
[null,31,null,{"$f":"IF($C37<>\"\",②基本データ入力!$D$15,\"\")","v":""},{"$f":"IF($C37<>\"\",②基本データ入力!$D$11&②基本データ入力!$D$13,\"\")","v":""},null,null,null,null,null,null,null,null,null,null,null,null,null,null,null,null,null,null,{"$f":"IF(C37<>\"\",IF(SUM(G37:W37)=0,\"加入部会を選んでください\",②基本データ入力!D$32),IF(SUM(G37:W37)>0,\"加入者氏名を入力してください\",\"\"))","v":""},null,null,{"$f":"IF($C37<>\"\",②基本データ入力!$D$9,\"\")","v":""},{"$f":"IF($C37<>\"\",②基本データ入力!$D$29,\"\")","v":""},null,""]
[null,32,null,{"$f":"IF($C38<>\"\",②基本データ入力!$D$15,\"\")","v":""},{"$f":"IF($C38<>\"\",②基本データ入力!$D$11&②基本データ入力!$D$13,\"\")","v":""},null,null,null,null,null,null,null,null,null,null,null,null,null,null,null,null,null,null,{"$f":"IF(C38<>\"\",IF(SUM(G38:W38)=0,\"加入部会を選んでください\",②基本データ入力!D$32),IF(SUM(G38:W38)>0,\"加入者氏名を入力してください\",\"\"))","v":""},null,null,{"$f":"IF($C38<>\"\",②基本データ入力!$D$9,\"\")","v":""},{"$f":"IF($C38<>\"\",②基本データ入力!$D$29,\"\")","v":""},null,""]
[null,33,null,{"$f":"IF($C39<>\"\",②基本データ入力!$D$15,\"\")","v":""},{"$f":"IF($C39<>\"\",②基本データ入力!$D$11&②基本データ入力!$D$13,\"\")","v":""},null,null,null,null,null,null,null,null,null,null,null,null,null,null,null,null,null,null,{"$f":"IF(C39<>\"\",IF(SUM(G39:W39)=0,\"加入部会を選んでください\",②基本データ入力!D$32),IF(SUM(G39:W39)>0,\"加入者氏名を入力してください\",\"\"))","v":""},null,null,{"$f":"IF($C39<>\"\",②基本データ入力!$D$9,\"\")","v":""},{"$f":"IF($C39<>\"\",②基本データ入力!$D$29,\"\")","v":""},null,""]
[null,34,null,{"$f":"IF($C40<>\"\",②基本データ入力!$D$15,\"\")","v":""},{"$f":"IF($C40<>\"\",②基本データ入力!$D$11&②基本データ入力!$D$13,\"\")","v":""},null,null,null,null,null,null,null,null,null,null,null,null,null,null,null,null,null,null,{"$f":"IF(C40<>\"\",IF(SUM(G40:W40)=0,\"加入部会を選んでください\",②基本データ入力!D$32),IF(SUM(G40:W40)>0,\"加入者氏名を入力してください\",\"\"))","v":""},null,null,{"$f":"IF($C40<>\"\",②基本データ入力!$D$9,\"\")","v":""},{"$f":"IF($C40<>\"\",②基本データ入力!$D$29,\"\")","v":""},null,""]
[null,35,null,{"$f":"IF($C41<>\"\",②基本データ入力!$D$15,\"\")","v":""},{"$f":"IF($C41<>\"\",②基本データ入力!$D$11&②基本データ入力!$D$13,\"\")","v":""},null,null,null,null,null,null,null,null,null,null,null,null,null,null,null,null,null,null,{"$f":"IF(C41<>\"\",IF(SUM(G41:W41)=0,\"加入部会を選んでください\",②基本データ入力!D$32),IF(SUM(G41:W41)>0,\"加入者氏名を入力してください\",\"\"))","v":""},null,null,{"$f":"IF($C41<>\"\",②基本データ入力!$D$9,\"\")","v":""},{"$f":"IF($C41<>\"\",②基本データ入力!$D$29,\"\")","v":""},null,""]
[null,36,null,{"$f":"IF($C42<>\"\",②基本データ入力!$D$15,\"\")","v":""},{"$f":"IF($C42<>\"\",②基本データ入力!$D$11&②基本データ入力!$D$13,\"\")","v":""},null,null,null,null,null,null,null,null,null,null,null,null,null,null,null,null,null,null,{"$f":"IF(C42<>\"\",IF(SUM(G42:W42)=0,\"加入部会を選んでください\",②基本データ入力!D$32),IF(SUM(G42:W42)>0,\"加入者氏名を入力してください\",\"\"))","v":""},null,null,{"$f":"IF($C42<>\"\",②基本データ入力!$D$9,\"\")","v":""},{"$f":"IF($C42<>\"\",②基本データ入力!$D$29,\"\")","v":""},null,""]
[null,37,null,{"$f":"IF($C43<>\"\",②基本データ入力!$D$15,\"\")","v":""},{"$f":"IF($C43<>\"\",②基本データ入力!$D$11&②基本データ入力!$D$13,\"\")","v":""},null,null,null,null,null,null,null,null,null,null,null,null,null,null,null,null,null,null,{"$f":"IF(C43<>\"\",IF(SUM(G43:W43)=0,\"加入部会を選んでください\",②基本データ入力!D$32),IF(SUM(G43:W43)>0,\"加入者氏名を入力してください\",\"\"))","v":""},null,null,{"$f":"IF($C43<>\"\",②基本データ入力!$D$9,\"\")","v":""},{"$f":"IF($C43<>\"\",②基本データ入力!$D$29,\"\")","v":""},null,""]
[null,38,null,{"$f":"IF($C44<>\"\",②基本データ入力!$D$15,\"\")","v":""},{"$f":"IF($C44<>\"\",②基本データ入力!$D$11&②基本データ入力!$D$13,\"\")","v":""},null,null,null,null,null,null,null,null,null,null,null,null,null,null,null,null,null,null,{"$f":"IF(C44<>\"\",IF(SUM(G44:W44)=0,\"加入部会を選んでください\",②基本データ入力!D$32),IF(SUM(G44:W44)>0,\"加入者氏名を入力してください\",\"\"))","v":""},null,null,{"$f":"IF($C44<>\"\",②基本データ入力!$D$9,\"\")","v":""},{"$f":"IF($C44<>\"\",②基本データ入力!$D$29,\"\")","v":""},null,""]
[null,39,null,{"$f":"IF($C45<>\"\",②基本データ入力!$D$15,\"\")","v":""},{"$f":"IF($C45<>\"\",②基本データ入力!$D$11&②基本データ入力!$D$13,\"\")","v":""},null,null,null,null,null,null,null,null,null,null,null,null,null,null,null,null,null,null,{"$f":"IF(C45<>\"\",IF(SUM(G45:W45)=0,\"加入部会を選んでください\",②基本データ入力!D$32),IF(SUM(G45:W45)>0,\"加入者氏名を入力してください\",\"\"))","v":""},null,null,{"$f":"IF($C45<>\"\",②基本データ入力!$D$9,\"\")","v":""},{"$f":"IF($C45<>\"\",②基本データ入力!$D$29,\"\")","v":""},null,""]
[null,40,null,{"$f":"IF($C46<>\"\",②基本データ入力!$D$15,\"\")","v":""},{"$f":"IF($C46<>\"\",②基本データ入力!$D$11&②基本データ入力!$D$13,\"\")","v":""},null,null,null,null,null,null,null,null,null,null,null,null,null,null,null,null,null,null,{"$f":"IF(C46<>\"\",IF(SUM(G46:W46)=0,\"加入部会を選んでください\",②基本データ入力!D$32),IF(SUM(G46:W46)>0,\"加入者氏名を入力してください\",\"\"))","v":""},null,null,{"$f":"IF($C46<>\"\",②基本データ入力!$D$9,\"\")","v":""},{"$f":"IF($C46<>\"\",②基本データ入力!$D$29,\"\")","v":""},null,""]
[null,41,null,{"$f":"IF($C47<>\"\",②基本データ入力!$D$15,\"\")","v":""},{"$f":"IF($C47<>\"\",②基本データ入力!$D$11&②基本データ入力!$D$13,\"\")","v":""},null,null,null,null,null,null,null,null,null,null,null,null,null,null,null,null,null,null,{"$f":"IF(C47<>\"\",IF(SUM(G47:W47)=0,\"加入部会を選んでください\",②基本データ入力!D$32),IF(SUM(G47:W47)>0,\"加入者氏名を入力してください\",\"\"))","v":""},null,null,{"$f":"IF($C47<>\"\",②基本データ入力!$D$9,\"\")","v":""},{"$f":"IF($C47<>\"\",②基本データ入力!$D$29,\"\")","v":""},null,""]
[null,42,null,{"$f":"IF($C48<>\"\",②基本データ入力!$D$15,\"\")","v":""},{"$f":"IF($C48<>\"\",②基本データ入力!$D$11&②基本データ入力!$D$13,\"\")","v":""},null,null,null,null,null,null,null,null,null,null,null,null,null,null,null,null,null,null,{"$f":"IF(C48<>\"\",IF(SUM(G48:W48)=0,\"加入部会を選んでください\",②基本データ入力!D$32),IF(SUM(G48:W48)>0,\"加入者氏名を入力してください\",\"\"))","v":""},null,null,{"$f":"IF($C48<>\"\",②基本データ入力!$D$9,\"\")","v":""},{"$f":"IF($C48<>\"\",②基本データ入力!$D$29,\"\")","v":""},null,""]
[null,43,null,{"$f":"IF($C49<>\"\",②基本データ入力!$D$15,\"\")","v":""},{"$f":"IF($C49<>\"\",②基本データ入力!$D$11&②基本データ入力!$D$13,\"\")","v":""},null,null,null,null,null,null,null,null,null,null,null,null,null,null,null,null,null,null,{"$f":"IF(C49<>\"\",IF(SUM(G49:W49)=0,\"加入部会を選んでください\",②基本データ入力!D$32),IF(SUM(G49:W49)>0,\"加入者氏名を入力してください\",\"\"))","v":""},null,null,{"$f":"IF($C49<>\"\",②基本データ入力!$D$9,\"\")","v":""},{"$f":"IF($C49<>\"\",②基本データ入力!$D$29,\"\")","v":""},null,""]
[null,44,null,{"$f":"IF($C50<>\"\",②基本データ入力!$D$15,\"\")","v":""},{"$f":"IF($C50<>\"\",②基本データ入力!$D$11&②基本データ入力!$D$13,\"\")","v":""},null,null,null,null,null,null,null,null,null,null,null,null,null,null,null,null,null,null,{"$f":"IF(C50<>\"\",IF(SUM(G50:W50)=0,\"加入部会を選んでください\",②基本データ入力!D$32),IF(SUM(G50:W50)>0,\"加入者氏名を入力してください\",\"\"))","v":""},null,null,{"$f":"IF($C50<>\"\",②基本データ入力!$D$9,\"\")","v":""},{"$f":"IF($C50<>\"\",②基本データ入力!$D$29,\"\")","v":""},null,""]
[null,45,null,{"$f":"IF($C51<>\"\",②基本データ入力!$D$15,\"\")","v":""},{"$f":"IF($C51<>\"\",②基本データ入力!$D$11&②基本データ入力!$D$13,\"\")","v":""},null,null,null,null,null,null,null,null,null,null,null,null,null,null,null,null,null,null,{"$f":"IF(C51<>\"\",IF(SUM(G51:W51)=0,\"加入部会を選んでください\",②基本データ入力!D$32),IF(SUM(G51:W51)>0,\"加入者氏名を入力してください\",\"\"))","v":""},null,null,{"$f":"IF($C51<>\"\",②基本データ入力!$D$9,\"\")","v":""},{"$f":"IF($C51<>\"\",②基本データ入力!$D$29,\"\")","v":""},null,""]
[null,46,null,{"$f":"IF($C52<>\"\",②基本データ入力!$D$15,\"\")","v":""},{"$f":"IF($C52<>\"\",②基本データ入力!$D$11&②基本データ入力!$D$13,\"\")","v":""},null,null,null,null,null,null,null,null,null,null,null,null,null,null,null,null,null,null,{"$f":"IF(C52<>\"\",IF(SUM(G52:W52)=0,\"加入部会を選んでください\",②基本データ入力!D$32),IF(SUM(G52:W52)>0,\"加入者氏名を入力してください\",\"\"))","v":""},null,null,{"$f":"IF($C52<>\"\",②基本データ入力!$D$9,\"\")","v":""},{"$f":"IF($C52<>\"\",②基本データ入力!$D$29,\"\")","v":""},null,""]
[null,47,null,{"$f":"IF($C53<>\"\",②基本データ入力!$D$15,\"\")","v":""},{"$f":"IF($C53<>\"\",②基本データ入力!$D$11&②基本データ入力!$D$13,\"\")","v":""},null,null,null,null,null,null,null,null,null,null,null,null,null,null,null,null,null,null,{"$f":"IF(C53<>\"\",IF(SUM(G53:W53)=0,\"加入部会を選んでください\",②基本データ入力!D$32),IF(SUM(G53:W53)>0,\"加入者氏名を入力してください\",\"\"))","v":""},null,null,{"$f":"IF($C53<>\"\",②基本データ入力!$D$9,\"\")","v":""},{"$f":"IF($C53<>\"\",②基本データ入力!$D$29,\"\")","v":""},null,""]
[null,48,null,{"$f":"IF($C54<>\"\",②基本データ入力!$D$15,\"\")","v":""},{"$f":"IF($C54<>\"\",②基本データ入力!$D$11&②基本データ入力!$D$13,\"\")","v":""},null,null,null,null,null,null,null,null,null,null,null,null,null,null,null,null,null,null,{"$f":"IF(C54<>\"\",IF(SUM(G54:W54)=0,\"加入部会を選んでください\",②基本データ入力!D$32),IF(SUM(G54:W54)>0,\"加入者氏名を入力してください\",\"\"))","v":""},null,null,{"$f":"IF($C54<>\"\",②基本データ入力!$D$9,\"\")","v":""},{"$f":"IF($C54<>\"\",②基本データ入力!$D$29,\"\")","v":""},null,""]
[null,49,null,{"$f":"IF($C55<>\"\",②基本データ入力!$D$15,\"\")","v":""},{"$f":"IF($C55<>\"\",②基本データ入力!$D$11&②基本データ入力!$D$13,\"\")","v":""},null,null,null,null,null,null,null,null,null,null,null,null,null,null,null,null,null,null,{"$f":"IF(C55<>\"\",IF(SUM(G55:W55)=0,\"加入部会を選んでください\",②基本データ入力!D$32),IF(SUM(G55:W55)>0,\"加入者氏名を入力してください\",\"\"))","v":""},null,null,{"$f":"IF($C55<>\"\",②基本データ入力!$D$9,\"\")","v":""},{"$f":"IF($C55<>\"\",②基本データ入力!$D$29,\"\")","v":""},null,""]
[null,50,null,{"$f":"IF($C56<>\"\",②基本データ入力!$D$15,\"\")","v":""},{"$f":"IF($C56<>\"\",②基本データ入力!$D$11&②基本データ入力!$D$13,\"\")","v":""},null,null,null,null,null,null,null,null,null,null,null,null,null,null,null,null,null,null,{"$f":"IF(C56<>\"\",IF(SUM(G56:W56)=0,\"加入部会を選んでください\",②基本データ入力!D$32),IF(SUM(G56:W56)>0,\"加入者氏名を入力してください\",\"\"))","v":""},null,null,{"$f":"IF($C56<>\"\",②基本データ入力!$D$9,\"\")","v":""},{"$f":"IF($C56<>\"\",②基本データ入力!$D$29,\"\")","v":""},null,""]
[null,51,null,{"$f":"IF($C57<>\"\",②基本データ入力!$D$15,\"\")","v":""},{"$f":"IF($C57<>\"\",②基本データ入力!$D$11&②基本データ入力!$D$13,\"\")","v":""},null,null,null,null,null,null,null,null,null,null,null,null,null,null,null,null,null,null,{"$f":"IF(C57<>\"\",IF(SUM(G57:W57)=0,\"加入部会を選んでください\",②基本データ入力!D$32),IF(SUM(G57:W57)>0,\"加入者氏名を入力してください\",\"\"))","v":""},null,null,{"$f":"IF($C57<>\"\",②基本データ入力!$D$9,\"\")","v":""},{"$f":"IF($C57<>\"\",②基本データ入力!$D$29,\"\")","v":""},null,""]
[null,52,null,{"$f":"IF($C58<>\"\",②基本データ入力!$D$15,\"\")","v":""},{"$f":"IF($C58<>\"\",②基本データ入力!$D$11&②基本データ入力!$D$13,\"\")","v":""},null,null,null,null,null,null,null,null,null,null,null,null,null,null,null,null,null,null,{"$f":"IF(C58<>\"\",IF(SUM(G58:W58)=0,\"加入部会を選んでください\",②基本データ入力!D$32),IF(SUM(G58:W58)>0,\"加入者氏名を入力してください\",\"\"))","v":""},null,null,{"$f":"IF($C58<>\"\",②基本データ入力!$D$9,\"\")","v":""},{"$f":"IF($C58<>\"\",②基本データ入力!$D$29,\"\")","v":""},null,""]
[null,53,null,{"$f":"IF($C59<>\"\",②基本データ入力!$D$15,\"\")","v":""},{"$f":"IF($C59<>\"\",②基本データ入力!$D$11&②基本データ入力!$D$13,\"\")","v":""},null,null,null,null,null,null,null,null,null,null,null,null,null,null,null,null,null,null,{"$f":"IF(C59<>\"\",IF(SUM(G59:W59)=0,\"加入部会を選んでください\",②基本データ入力!D$32),IF(SUM(G59:W59)>0,\"加入者氏名を入力してください\",\"\"))","v":""},null,null,{"$f":"IF($C59<>\"\",②基本データ入力!$D$9,\"\")","v":""},{"$f":"IF($C59<>\"\",②基本データ入力!$D$29,\"\")","v":""},null,""]
[null,54,null,{"$f":"IF($C60<>\"\",②基本データ入力!$D$15,\"\")","v":""},{"$f":"IF($C60<>\"\",②基本データ入力!$D$11&②基本データ入力!$D$13,\"\")","v":""},null,null,null,null,null,null,null,null,null,null,null,null,null,null,null,null,null,null,{"$f":"IF(C60<>\"\",IF(SUM(G60:W60)=0,\"加入部会を選んでください\",②基本データ入力!D$32),IF(SUM(G60:W60)>0,\"加入者氏名を入力してください\",\"\"))","v":""},null,null,{"$f":"IF($C60<>\"\",②基本データ入力!$D$9,\"\")","v":""},{"$f":"IF($C60<>\"\",②基本データ入力!$D$29,\"\")","v":""},null,""]
[null,55,null,{"$f":"IF($C61<>\"\",②基本データ入力!$D$15,\"\")","v":""},{"$f":"IF($C61<>\"\",②基本データ入力!$D$11&②基本データ入力!$D$13,\"\")","v":""},null,null,null,null,null,null,null,null,null,null,null,null,null,null,null,null,null,null,{"$f":"IF(C61<>\"\",IF(SUM(G61:W61)=0,\"加入部会を選んでください\",②基本データ入力!D$32),IF(SUM(G61:W61)>0,\"加入者氏名を入力してください\",\"\"))","v":""},null,null,{"$f":"IF($C61<>\"\",②基本データ入力!$D$9,\"\")","v":""},{"$f":"IF($C61<>\"\",②基本データ入力!$D$29,\"\")","v":""},null,""]
[null,56,null,{"$f":"IF($C62<>\"\",②基本データ入力!$D$15,\"\")","v":""},{"$f":"IF($C62<>\"\",②基本データ入力!$D$11&②基本データ入力!$D$13,\"\")","v":""},null,null,null,null,null,null,null,null,null,null,null,null,null,null,null,null,null,null,{"$f":"IF(C62<>\"\",IF(SUM(G62:W62)=0,\"加入部会を選んでください\",②基本データ入力!D$32),IF(SUM(G62:W62)>0,\"加入者氏名を入力してください\",\"\"))","v":""},null,null,{"$f":"IF($C62<>\"\",②基本データ入力!$D$9,\"\")","v":""},{"$f":"IF($C62<>\"\",②基本データ入力!$D$29,\"\")","v":""},null,""]
[null,57,null,{"$f":"IF($C63<>\"\",②基本データ入力!$D$15,\"\")","v":""},{"$f":"IF($C63<>\"\",②基本データ入力!$D$11&②基本データ入力!$D$13,\"\")","v":""},null,null,null,null,null,null,null,null,null,null,null,null,null,null,null,null,null,null,{"$f":"IF(C63<>\"\",IF(SUM(G63:W63)=0,\"加入部会を選んでください\",②基本データ入力!D$32),IF(SUM(G63:W63)>0,\"加入者氏名を入力してください\",\"\"))","v":""},null,null,{"$f":"IF($C63<>\"\",②基本データ入力!$D$9,\"\")","v":""},{"$f":"IF($C63<>\"\",②基本データ入力!$D$29,\"\")","v":""},null,""]
[null,58,null,{"$f":"IF($C64<>\"\",②基本データ入力!$D$15,\"\")","v":""},{"$f":"IF($C64<>\"\",②基本データ入力!$D$11&②基本データ入力!$D$13,\"\")","v":""},null,null,null,null,null,null,null,null,null,null,null,null,null,null,null,null,null,null,{"$f":"IF(C64<>\"\",IF(SUM(G64:W64)=0,\"加入部会を選んでください\",②基本データ入力!D$32),IF(SUM(G64:W64)>0,\"加入者氏名を入力してください\",\"\"))","v":""},null,null,{"$f":"IF($C64<>\"\",②基本データ入力!$D$9,\"\")","v":""},{"$f":"IF($C64<>\"\",②基本データ入力!$D$29,\"\")","v":""},null,""]
[null,59,null,{"$f":"IF($C65<>\"\",②基本データ入力!$D$15,\"\")","v":""},{"$f":"IF($C65<>\"\",②基本データ入力!$D$11&②基本データ入力!$D$13,\"\")","v":""},null,null,null,null,null,null,null,null,null,null,null,null,null,null,null,null,null,null,{"$f":"IF(C65<>\"\",IF(SUM(G65:W65)=0,\"加入部会を選んでください\",②基本データ入力!D$32),IF(SUM(G65:W65)>0,\"加入者氏名を入力してください\",\"\"))","v":""},null,null,{"$f":"IF($C65<>\"\",②基本データ入力!$D$9,\"\")","v":""},{"$f":"IF($C65<>\"\",②基本データ入力!$D$29,\"\")","v":""},null,""]
[null,60,null,{"$f":"IF($C66<>\"\",②基本データ入力!$D$15,\"\")","v":""},{"$f":"IF($C66<>\"\",②基本データ入力!$D$11&②基本データ入力!$D$13,\"\")","v":""},null,null,null,null,null,null,null,null,null,null,null,null,null,null,null,null,null,null,{"$f":"IF(C66<>\"\",IF(SUM(G66:W66)=0,\"加入部会を選んでください\",②基本データ入力!D$32),IF(SUM(G66:W66)>0,\"加入者氏名を入力してください\",\"\"))","v":""},null,null,{"$f":"IF($C66<>\"\",②基本データ入力!$D$9,\"\")","v":""},{"$f":"IF($C66<>\"\",②基本データ入力!$D$29,\"\")","v":""},null,""]
[null,61,null,{"$f":"IF($C67<>\"\",②基本データ入力!$D$15,\"\")","v":""},{"$f":"IF($C67<>\"\",②基本データ入力!$D$11&②基本データ入力!$D$13,\"\")","v":""},null,null,null,null,null,null,null,null,null,null,null,null,null,null,null,null,null,null,{"$f":"IF(C67<>\"\",IF(SUM(G67:W67)=0,\"加入部会を選んでください\",②基本データ入力!D$32),IF(SUM(G67:W67)>0,\"加入者氏名を入力してください\",\"\"))","v":""},null,null,{"$f":"IF($C67<>\"\",②基本データ入力!$D$9,\"\")","v":""},{"$f":"IF($C67<>\"\",②基本データ入力!$D$29,\"\")","v":""},null,""]
[null,62,null,{"$f":"IF($C68<>\"\",②基本データ入力!$D$15,\"\")","v":""},{"$f":"IF($C68<>\"\",②基本データ入力!$D$11&②基本データ入力!$D$13,\"\")","v":""},null,null,null,null,null,null,null,null,null,null,null,null,null,null,null,null,null,null,{"$f":"IF(C68<>\"\",IF(SUM(G68:W68)=0,\"加入部会を選んでください\",②基本データ入力!D$32),IF(SUM(G68:W68)>0,\"加入者氏名を入力してください\",\"\"))","v":""},null,null,{"$f":"IF($C68<>\"\",②基本データ入力!$D$9,\"\")","v":""},{"$f":"IF($C68<>\"\",②基本データ入力!$D$29,\"\")","v":""},null,""]
[null,63,null,{"$f":"IF($C69<>\"\",②基本データ入力!$D$15,\"\")","v":""},{"$f":"IF($C69<>\"\",②基本データ入力!$D$11&②基本データ入力!$D$13,\"\")","v":""},null,null,null,null,null,null,null,null,null,null,null,null,null,null,null,null,null,null,{"$f":"IF(C69<>\"\",IF(SUM(G69:W69)=0,\"加入部会を選んでください\",②基本データ入力!D$32),IF(SUM(G69:W69)>0,\"加入者氏名を入力してください\",\"\"))","v":""},null,null,{"$f":"IF($C69<>\"\",②基本データ入力!$D$9,\"\")","v":""},{"$f":"IF($C69<>\"\",②基本データ入力!$D$29,\"\")","v":""},null,""]
[null,64,null,{"$f":"IF($C70<>\"\",②基本データ入力!$D$15,\"\")","v":""},{"$f":"IF($C70<>\"\",②基本データ入力!$D$11&②基本データ入力!$D$13,\"\")","v":""},null,null,null,null,null,null,null,null,null,null,null,null,null,null,null,null,null,null,{"$f":"IF(C70<>\"\",IF(SUM(G70:W70)=0,\"加入部会を選んでください\",②基本データ入力!D$32),IF(SUM(G70:W70)>0,\"加入者氏名を入力してください\",\"\"))","v":""},null,null,{"$f":"IF($C70<>\"\",②基本データ入力!$D$9,\"\")","v":""},{"$f":"IF($C70<>\"\",②基本データ入力!$D$29,\"\")","v":""},null,""]
[null,65,null,{"$f":"IF($C71<>\"\",②基本データ入力!$D$15,\"\")","v":""},{"$f":"IF($C71<>\"\",②基本データ入力!$D$11&②基本データ入力!$D$13,\"\")","v":""},null,null,null,null,null,null,null,null,null,null,null,null,null,null,null,null,null,null,{"$f":"IF(C71<>\"\",IF(SUM(G71:W71)=0,\"加入部会を選んでください\",②基本データ入力!D$32),IF(SUM(G71:W71)>0,\"加入者氏名を入力してください\",\"\"))","v":""},null,null,{"$f":"IF($C71<>\"\",②基本データ入力!$D$9,\"\")","v":""},{"$f":"IF($C71<>\"\",②基本データ入力!$D$29,\"\")","v":""},null,""]
[null,66,null,{"$f":"IF($C72<>\"\",②基本データ入力!$D$15,\"\")","v":""},{"$f":"IF($C72<>\"\",②基本データ入力!$D$11&②基本データ入力!$D$13,\"\")","v":""},null,null,null,null,null,null,null,null,null,null,null,null,null,null,null,null,null,null,{"$f":"IF(C72<>\"\",IF(SUM(G72:W72)=0,\"加入部会を選んでください\",②基本データ入力!D$32),IF(SUM(G72:W72)>0,\"加入者氏名を入力してください\",\"\"))","v":""},null,null,{"$f":"IF($C72<>\"\",②基本データ入力!$D$9,\"\")","v":""},{"$f":"IF($C72<>\"\",②基本データ入力!$D$29,\"\")","v":""},null,{"$f":"IF(C72<>\"\",IF(F72=\"\",\"職名を入力してください\",IF(Z72=\"\",\"担当教科を入力してください\",\"\")),IF(F72<>\"\",\"加入者氏名を入力してください\",IF(Z72<>\"\",\"加入者氏名を入力してください\",\"\")))","v":""}]
[null,67,null,{"$f":"IF($C73<>\"\",②基本データ入力!$D$15,\"\")","v":""},{"$f":"IF($C73<>\"\",②基本データ入力!$D$11&②基本データ入力!$D$13,\"\")","v":""},null,null,null,null,null,null,null,null,null,null,null,null,null,null,null,null,null,null,{"$f":"IF(C73<>\"\",IF(SUM(G73:W73)=0,\"加入部会を選んでください\",②基本データ入力!D$32),IF(SUM(G73:W73)>0,\"加入者氏名を入力してください\",\"\"))","v":""},null,null,{"$f":"IF($C73<>\"\",②基本データ入力!$D$9,\"\")","v":""},{"$f":"IF($C73<>\"\",②基本データ入力!$D$29,\"\")","v":""},null,""]
[null,68,null,{"$f":"IF($C74<>\"\",②基本データ入力!$D$15,\"\")","v":""},{"$f":"IF($C74<>\"\",②基本データ入力!$D$11&②基本データ入力!$D$13,\"\")","v":""},null,null,null,null,null,null,null,null,null,null,null,null,null,null,null,null,null,null,{"$f":"IF(C74<>\"\",IF(SUM(G74:W74)=0,\"加入部会を選んでください\",②基本データ入力!D$32),IF(SUM(G74:W74)>0,\"加入者氏名を入力してください\",\"\"))","v":""},null,null,{"$f":"IF($C74<>\"\",②基本データ入力!$D$9,\"\")","v":""},{"$f":"IF($C74<>\"\",②基本データ入力!$D$29,\"\")","v":""},null,""]
[null,69,null,{"$f":"IF($C75<>\"\",②基本データ入力!$D$15,\"\")","v":""},{"$f":"IF($C75<>\"\",②基本データ入力!$D$11&②基本データ入力!$D$13,\"\")","v":""},null,null,null,null,null,null,null,null,null,null,null,null,null,null,null,null,null,null,{"$f":"IF(C75<>\"\",IF(SUM(G75:W75)=0,\"加入部会を選んでください\",②基本データ入力!D$32),IF(SUM(G75:W75)>0,\"加入者氏名を入力してください\",\"\"))","v":""},null,null,{"$f":"IF($C75<>\"\",②基本データ入力!$D$9,\"\")","v":""},{"$f":"IF($C75<>\"\",②基本データ入力!$D$29,\"\")","v":""},null,""]
[null,70,null,{"$f":"IF($C76<>\"\",②基本データ入力!$D$15,\"\")","v":""},{"$f":"IF($C76<>\"\",②基本データ入力!$D$11&②基本データ入力!$D$13,\"\")","v":""},null,null,null,null,null,null,null,null,null,null,null,null,null,null,null,null,null,null,{"$f":"IF(C76<>\"\",IF(SUM(G76:W76)=0,\"加入部会を選んでください\",②基本データ入力!D$32),IF(SUM(G76:W76)>0,\"加入者氏名を入力してください\",\"\"))","v":""},null,null,{"$f":"IF($C76<>\"\",②基本データ入力!$D$9,\"\")","v":""},{"$f":"IF($C76<>\"\",②基本データ入力!$D$29,\"\")","v":""},null,""]
[null,71,null,{"$f":"IF($C77<>\"\",②基本データ入力!$D$15,\"\")","v":""},{"$f":"IF($C77<>\"\",②基本データ入力!$D$11&②基本データ入力!$D$13,\"\")","v":""},null,null,null,null,null,null,null,null,null,null,null,null,null,null,null,null,null,null,{"$f":"IF(C77<>\"\",IF(SUM(G77:W77)=0,\"加入部会を選んでください\",②基本データ入力!D$32),IF(SUM(G77:W77)>0,\"加入者氏名を入力してください\",\"\"))","v":""},null,null,{"$f":"IF($C77<>\"\",②基本データ入力!$D$9,\"\")","v":""},{"$f":"IF($C77<>\"\",②基本データ入力!$D$29,\"\")","v":""},null,""]
[null,72,null,{"$f":"IF($C78<>\"\",②基本データ入力!$D$15,\"\")","v":""},{"$f":"IF($C78<>\"\",②基本データ入力!$D$11&②基本データ入力!$D$13,\"\")","v":""},null,null,null,null,null,null,null,null,null,null,null,null,null,null,null,null,null,null,{"$f":"IF(C78<>\"\",IF(SUM(G78:W78)=0,\"加入部会を選んでください\",②基本データ入力!D$32),IF(SUM(G78:W78)>0,\"加入者氏名を入力してください\",\"\"))","v":""},null,null,{"$f":"IF($C78<>\"\",②基本データ入力!$D$9,\"\")","v":""},{"$f":"IF($C78<>\"\",②基本データ入力!$D$29,\"\")","v":""},null,""]
[null,73,null,{"$f":"IF($C79<>\"\",②基本データ入力!$D$15,\"\")","v":""},{"$f":"IF($C79<>\"\",②基本データ入力!$D$11&②基本データ入力!$D$13,\"\")","v":""},null,null,null,null,null,null,null,null,null,null,null,null,null,null,null,null,null,null,{"$f":"IF(C79<>\"\",IF(SUM(G79:W79)=0,\"加入部会を選んでください\",②基本データ入力!D$32),IF(SUM(G79:W79)>0,\"加入者氏名を入力してください\",\"\"))","v":""},null,null,{"$f":"IF($C79<>\"\",②基本データ入力!$D$9,\"\")","v":""},{"$f":"IF($C79<>\"\",②基本データ入力!$D$29,\"\")","v":""},null,""]
[null,74,null,{"$f":"IF($C80<>\"\",②基本データ入力!$D$15,\"\")","v":""},{"$f":"IF($C80<>\"\",②基本データ入力!$D$11&②基本データ入力!$D$13,\"\")","v":""},null,null,null,null,null,null,null,null,null,null,null,null,null,null,null,null,null,null,{"$f":"IF(C80<>\"\",IF(SUM(G80:W80)=0,\"加入部会を選んでください\",②基本データ入力!D$32),IF(SUM(G80:W80)>0,\"加入者氏名を入力してください\",\"\"))","v":""},null,null,{"$f":"IF($C80<>\"\",②基本データ入力!$D$9,\"\")","v":""},{"$f":"IF($C80<>\"\",②基本データ入力!$D$29,\"\")","v":""},null,""]
[null,75,null,{"$f":"IF($C81<>\"\",②基本データ入力!$D$15,\"\")","v":""},{"$f":"IF($C81<>\"\",②基本データ入力!$D$11&②基本データ入力!$D$13,\"\")","v":""},null,null,null,null,null,null,null,null,null,null,null,null,null,null,null,null,null,null,{"$f":"IF(C81<>\"\",IF(SUM(G81:W81)=0,\"加入部会を選んでください\",②基本データ入力!D$32),IF(SUM(G81:W81)>0,\"加入者氏名を入力してください\",\"\"))","v":""},null,null,{"$f":"IF($C81<>\"\",②基本データ入力!$D$9,\"\")","v":""},{"$f":"IF($C81<>\"\",②基本データ入力!$D$29,\"\")","v":""},null,""]
[null,76,null,{"$f":"IF($C82<>\"\",②基本データ入力!$D$15,\"\")","v":""},{"$f":"IF($C82<>\"\",②基本データ入力!$D$11&②基本データ入力!$D$13,\"\")","v":""},null,null,null,null,null,null,null,null,null,null,null,null,null,null,null,null,null,null,{"$f":"IF(C82<>\"\",IF(SUM(G82:W82)=0,\"加入部会を選んでください\",②基本データ入力!D$32),IF(SUM(G82:W82)>0,\"加入者氏名を入力してください\",\"\"))","v":""},null,null,{"$f":"IF($C82<>\"\",②基本データ入力!$D$9,\"\")","v":""},{"$f":"IF($C82<>\"\",②基本データ入力!$D$29,\"\")","v":""},null,""]
[null,77,null,{"$f":"IF($C83<>\"\",②基本データ入力!$D$15,\"\")","v":""},{"$f":"IF($C83<>\"\",②基本データ入力!$D$11&②基本データ入力!$D$13,\"\")","v":""},null,null,null,null,null,null,null,null,null,null,null,null,null,null,null,null,null,null,{"$f":"IF(C83<>\"\",IF(SUM(G83:W83)=0,\"加入部会を選んでください\",②基本データ入力!D$32),IF(SUM(G83:W83)>0,\"加入者氏名を入力してください\",\"\"))","v":""},null,null,{"$f":"IF($C83<>\"\",②基本データ入力!$D$9,\"\")","v":""},{"$f":"IF($C83<>\"\",②基本データ入力!$D$29,\"\")","v":""},null,""]
[null,78,null,{"$f":"IF($C84<>\"\",②基本データ入力!$D$15,\"\")","v":""},{"$f":"IF($C84<>\"\",②基本データ入力!$D$11&②基本データ入力!$D$13,\"\")","v":""},null,null,null,null,null,null,null,null,null,null,null,null,null,null,null,null,null,null,{"$f":"IF(C84<>\"\",IF(SUM(G84:W84)=0,\"加入部会を選んでください\",②基本データ入力!D$32),IF(SUM(G84:W84)>0,\"加入者氏名を入力してください\",\"\"))","v":""},null,null,{"$f":"IF($C84<>\"\",②基本データ入力!$D$9,\"\")","v":""},{"$f":"IF($C84<>\"\",②基本データ入力!$D$29,\"\")","v":""},null,""]
[null,79,null,{"$f":"IF($C85<>\"\",②基本データ入力!$D$15,\"\")","v":""},{"$f":"IF($C85<>\"\",②基本データ入力!$D$11&②基本データ入力!$D$13,\"\")","v":""},null,null,null,null,null,null,null,null,null,null,null,null,null,null,null,null,null,null,{"$f":"IF(C85<>\"\",IF(SUM(G85:W85)=0,\"加入部会を選んでください\",②基本データ入力!D$32),IF(SUM(G85:W85)>0,\"加入者氏名を入力してください\",\"\"))","v":""},null,null,{"$f":"IF($C85<>\"\",②基本データ入力!$D$9,\"\")","v":""},{"$f":"IF($C85<>\"\",②基本データ入力!$D$29,\"\")","v":""},null,""]
[null,80,null,{"$f":"IF($C86<>\"\",②基本データ入力!$D$15,\"\")","v":""},{"$f":"IF($C86<>\"\",②基本データ入力!$D$11&②基本データ入力!$D$13,\"\")","v":""},null,null,null,null,null,null,null,null,null,null,null,null,null,null,null,null,null,null,{"$f":"IF(C86<>\"\",IF(SUM(G86:W86)=0,\"加入部会を選んでください\",②基本データ入力!D$32),IF(SUM(G86:W86)>0,\"加入者氏名を入力してください\",\"\"))","v":""},null,null,{"$f":"IF($C86<>\"\",②基本データ入力!$D$9,\"\")","v":""},{"$f":"IF($C86<>\"\",②基本データ入力!$D$29,\"\")","v":""},null,""]
[null,81,null,{"$f":"IF($C87<>\"\",②基本データ入力!$D$15,\"\")","v":""},{"$f":"IF($C87<>\"\",②基本データ入力!$D$11&②基本データ入力!$D$13,\"\")","v":""},null,null,null,null,null,null,null,null,null,null,null,null,null,null,null,null,null,null,{"$f":"IF(C87<>\"\",IF(SUM(G87:W87)=0,\"加入部会を選んでください\",②基本データ入力!D$32),IF(SUM(G87:W87)>0,\"加入者氏名を入力してください\",\"\"))","v":""},null,null,{"$f":"IF($C87<>\"\",②基本データ入力!$D$9,\"\")","v":""},{"$f":"IF($C87<>\"\",②基本データ入力!$D$29,\"\")","v":""},null,""]
[null,82,null,{"$f":"IF($C88<>\"\",②基本データ入力!$D$15,\"\")","v":""},{"$f":"IF($C88<>\"\",②基本データ入力!$D$11&②基本データ入力!$D$13,\"\")","v":""},null,null,null,null,null,null,null,null,null,null,null,null,null,null,null,null,null,null,{"$f":"IF(C88<>\"\",IF(SUM(G88:W88)=0,\"加入部会を選んでください\",②基本データ入力!D$32),IF(SUM(G88:W88)>0,\"加入者氏名を入力してください\",\"\"))","v":""},null,null,{"$f":"IF($C88<>\"\",②基本データ入力!$D$9,\"\")","v":""},{"$f":"IF($C88<>\"\",②基本データ入力!$D$29,\"\")","v":""},null,""]
[null,83,null,{"$f":"IF($C89<>\"\",②基本データ入力!$D$15,\"\")","v":""},{"$f":"IF($C89<>\"\",②基本データ入力!$D$11&②基本データ入力!$D$13,\"\")","v":""},null,null,null,null,null,null,null,null,null,null,null,null,null,null,null,null,null,null,{"$f":"IF(C89<>\"\",IF(SUM(G89:W89)=0,\"加入部会を選んでください\",②基本データ入力!D$32),IF(SUM(G89:W89)>0,\"加入者氏名を入力してください\",\"\"))","v":""},null,null,{"$f":"IF($C89<>\"\",②基本データ入力!$D$9,\"\")","v":""},{"$f":"IF($C89<>\"\",②基本データ入力!$D$29,\"\")","v":""},null,""]
[null,84,null,{"$f":"IF($C90<>\"\",②基本データ入力!$D$15,\"\")","v":""},{"$f":"IF($C90<>\"\",②基本データ入力!$D$11&②基本データ入力!$D$13,\"\")","v":""},null,null,null,null,null,null,null,null,null,null,null,null,null,null,null,null,null,null,{"$f":"IF(C90<>\"\",IF(SUM(G90:W90)=0,\"加入部会を選んでください\",②基本データ入力!D$32),IF(SUM(G90:W90)>0,\"加入者氏名を入力してください\",\"\"))","v":""},null,null,{"$f":"IF($C90<>\"\",②基本データ入力!$D$9,\"\")","v":""},{"$f":"IF($C90<>\"\",②基本データ入力!$D$29,\"\")","v":""},null,""]
[null,85,null,{"$f":"IF($C91<>\"\",②基本データ入力!$D$15,\"\")","v":""},{"$f":"IF($C91<>\"\",②基本データ入力!$D$11&②基本データ入力!$D$13,\"\")","v":""},null,null,null,null,null,null,null,null,null,null,null,null,null,null,null,null,null,null,{"$f":"IF(C91<>\"\",IF(SUM(G91:W91)=0,\"加入部会を選んでください\",②基本データ入力!D$32),IF(SUM(G91:W91)>0,\"加入者氏名を入力してください\",\"\"))","v":""},null,null,{"$f":"IF($C91<>\"\",②基本データ入力!$D$9,\"\")","v":""},{"$f":"IF($C91<>\"\",②基本データ入力!$D$29,\"\")","v":""},null,""]
[null,86,null,{"$f":"IF($C92<>\"\",②基本データ入力!$D$15,\"\")","v":""},{"$f":"IF($C92<>\"\",②基本データ入力!$D$11&②基本データ入力!$D$13,\"\")","v":""},null,null,null,null,null,null,null,null,null,null,null,null,null,null,null,null,null,null,{"$f":"IF(C92<>\"\",IF(SUM(G92:W92)=0,\"加入部会を選んでください\",②基本データ入力!D$32),IF(SUM(G92:W92)>0,\"加入者氏名を入力してください\",\"\"))","v":""},null,null,{"$f":"IF($C92<>\"\",②基本データ入力!$D$9,\"\")","v":""},{"$f":"IF($C92<>\"\",②基本データ入力!$D$29,\"\")","v":""},null,""]
[null,87,null,{"$f":"IF($C93<>\"\",②基本データ入力!$D$15,\"\")","v":""},{"$f":"IF($C93<>\"\",②基本データ入力!$D$11&②基本データ入力!$D$13,\"\")","v":""},null,null,null,null,null,null,null,null,null,null,null,null,null,null,null,null,null,null,{"$f":"IF(C93<>\"\",IF(SUM(G93:W93)=0,\"加入部会を選んでください\",②基本データ入力!D$32),IF(SUM(G93:W93)>0,\"加入者氏名を入力してください\",\"\"))","v":""},null,null,{"$f":"IF($C93<>\"\",②基本データ入力!$D$9,\"\")","v":""},{"$f":"IF($C93<>\"\",②基本データ入力!$D$29,\"\")","v":""},null,""]
[null,88,null,{"$f":"IF($C94<>\"\",②基本データ入力!$D$15,\"\")","v":""},{"$f":"IF($C94<>\"\",②基本データ入力!$D$11&②基本データ入力!$D$13,\"\")","v":""},null,null,null,null,null,null,null,null,null,null,null,null,null,null,null,null,null,null,{"$f":"IF(C94<>\"\",IF(SUM(G94:W94)=0,\"加入部会を選んでください\",②基本データ入力!D$32),IF(SUM(G94:W94)>0,\"加入者氏名を入力してください\",\"\"))","v":""},null,null,{"$f":"IF($C94<>\"\",②基本データ入力!$D$9,\"\")","v":""},{"$f":"IF($C94<>\"\",②基本データ入力!$D$29,\"\")","v":""},null,""]
[null,89,null,{"$f":"IF($C95<>\"\",②基本データ入力!$D$15,\"\")","v":""},{"$f":"IF($C95<>\"\",②基本データ入力!$D$11&②基本データ入力!$D$13,\"\")","v":""},null,null,null,null,null,null,null,null,null,null,null,null,null,null,null,null,null,null,{"$f":"IF(C95<>\"\",IF(SUM(G95:W95)=0,\"加入部会を選んでください\",②基本データ入力!D$32),IF(SUM(G95:W95)>0,\"加入者氏名を入力してください\",\"\"))","v":""},null,null,{"$f":"IF($C95<>\"\",②基本データ入力!$D$9,\"\")","v":""},{"$f":"IF($C95<>\"\",②基本データ入力!$D$29,\"\")","v":""},null,""]
[null,90,null,{"$f":"IF($C96<>\"\",②基本データ入力!$D$15,\"\")","v":""},{"$f":"IF($C96<>\"\",②基本データ入力!$D$11&②基本データ入力!$D$13,\"\")","v":""},null,null,null,null,null,null,null,null,null,null,null,null,null,null,null,null,null,null,{"$f":"IF(C96<>\"\",IF(SUM(G96:W96)=0,\"加入部会を選んでください\",②基本データ入力!D$32),IF(SUM(G96:W96)>0,\"加入者氏名を入力してください\",\"\"))","v":""},null,null,{"$f":"IF($C96<>\"\",②基本データ入力!$D$9,\"\")","v":""},{"$f":"IF($C96<>\"\",②基本データ入力!$D$29,\"\")","v":""},null,""]
[null,91,null,{"$f":"IF($C97<>\"\",②基本データ入力!$D$15,\"\")","v":""},{"$f":"IF($C97<>\"\",②基本データ入力!$D$11&②基本データ入力!$D$13,\"\")","v":""},null,null,null,null,null,null,null,null,null,null,null,null,null,null,null,null,null,null,{"$f":"IF(C97<>\"\",IF(SUM(G97:W97)=0,\"加入部会を選んでください\",②基本データ入力!D$32),IF(SUM(G97:W97)>0,\"加入者氏名を入力してください\",\"\"))","v":""},null,null,{"$f":"IF($C97<>\"\",②基本データ入力!$D$9,\"\")","v":""},{"$f":"IF($C97<>\"\",②基本データ入力!$D$29,\"\")","v":""},null,""]
[null,92,null,{"$f":"IF($C98<>\"\",②基本データ入力!$D$15,\"\")","v":""},{"$f":"IF($C98<>\"\",②基本データ入力!$D$11&②基本データ入力!$D$13,\"\")","v":""},null,null,null,null,null,null,null,null,null,null,null,null,null,null,null,null,null,null,{"$f":"IF(C98<>\"\",IF(SUM(G98:W98)=0,\"加入部会を選んでください\",②基本データ入力!D$32),IF(SUM(G98:W98)>0,\"加入者氏名を入力してください\",\"\"))","v":""},null,null,{"$f":"IF($C98<>\"\",②基本データ入力!$D$9,\"\")","v":""},{"$f":"IF($C98<>\"\",②基本データ入力!$D$29,\"\")","v":""},null,""]
[null,93,null,{"$f":"IF($C99<>\"\",②基本データ入力!$D$15,\"\")","v":""},{"$f":"IF($C99<>\"\",②基本データ入力!$D$11&②基本データ入力!$D$13,\"\")","v":""},null,null,null,null,null,null,null,null,null,null,null,null,null,null,null,null,null,null,{"$f":"IF(C99<>\"\",IF(SUM(G99:W99)=0,\"加入部会を選んでください\",②基本データ入力!D$32),IF(SUM(G99:W99)>0,\"加入者氏名を入力してください\",\"\"))","v":""},null,null,{"$f":"IF($C99<>\"\",②基本データ入力!$D$9,\"\")","v":""},{"$f":"IF($C99<>\"\",②基本データ入力!$D$29,\"\")","v":""},null,""]
[null,94,null,{"$f":"IF($C100<>\"\",②基本データ入力!$D$15,\"\")","v":""},{"$f":"IF($C100<>\"\",②基本データ入力!$D$11&②基本データ入力!$D$13,\"\")","v":""},null,null,null,null,null,null,null,null,null,null,null,null,null,null,null,null,null,null,{"$f":"IF(C100<>\"\",IF(SUM(G100:W100)=0,\"加入部会を選んでください\",②基本データ入力!D$32),IF(SUM(G100:W100)>0,\"加入者氏名を入力してください\",\"\"))","v":""},null,null,{"$f":"IF($C100<>\"\",②基本データ入力!$D$9,\"\")","v":""},{"$f":"IF($C100<>\"\",②基本データ入力!$D$29,\"\")","v":""},null,""]
[null,95,null,{"$f":"IF($C101<>\"\",②基本データ入力!$D$15,\"\")","v":""},{"$f":"IF($C101<>\"\",②基本データ入力!$D$11&②基本データ入力!$D$13,\"\")","v":""},null,null,null,null,null,null,null,null,null,null,null,null,null,null,null,null,null,null,{"$f":"IF(C101<>\"\",IF(SUM(G101:W101)=0,\"加入部会を選んでください\",②基本データ入力!D$32),IF(SUM(G101:W101)>0,\"加入者氏名を入力してください\",\"\"))","v":""},null,null,{"$f":"IF($C101<>\"\",②基本データ入力!$D$9,\"\")","v":""},{"$f":"IF($C101<>\"\",②基本データ入力!$D$29,\"\")","v":""},null,""]
[null,96,null,{"$f":"IF($C102<>\"\",②基本データ入力!$D$15,\"\")","v":""},{"$f":"IF($C102<>\"\",②基本データ入力!$D$11&②基本データ入力!$D$13,\"\")","v":""},null,null,null,null,null,null,null,null,null,null,null,null,null,null,null,null,null,null,{"$f":"IF(C102<>\"\",IF(SUM(G102:W102)=0,\"加入部会を選んでください\",②基本データ入力!D$32),IF(SUM(G102:W102)>0,\"加入者氏名を入力してください\",\"\"))","v":""},null,null,{"$f":"IF($C102<>\"\",②基本データ入力!$D$9,\"\")","v":""},{"$f":"IF($C102<>\"\",②基本データ入力!$D$29,\"\")","v":""},null,""]
[null,97,null,{"$f":"IF($C103<>\"\",②基本データ入力!$D$15,\"\")","v":""},{"$f":"IF($C103<>\"\",②基本データ入力!$D$11&②基本データ入力!$D$13,\"\")","v":""},null,null,null,null,null,null,null,null,null,null,null,null,null,null,null,null,null,null,{"$f":"IF(C103<>\"\",IF(SUM(G103:W103)=0,\"加入部会を選んでください\",②基本データ入力!D$32),IF(SUM(G103:W103)>0,\"加入者氏名を入力してください\",\"\"))","v":""},null,null,{"$f":"IF($C103<>\"\",②基本データ入力!$D$9,\"\")","v":""},{"$f":"IF($C103<>\"\",②基本データ入力!$D$29,\"\")","v":""},null,""]
[null,98,null,{"$f":"IF($C104<>\"\",②基本データ入力!$D$15,\"\")","v":""},{"$f":"IF($C104<>\"\",②基本データ入力!$D$11&②基本データ入力!$D$13,\"\")","v":""},null,null,null,null,null,null,null,null,null,null,null,null,null,null,null,null,null,null,{"$f":"IF(C104<>\"\",IF(SUM(G104:W104)=0,\"加入部会を選んでください\",②基本データ入力!D$32),IF(SUM(G104:W104)>0,\"加入者氏名を入力してください\",\"\"))","v":""},null,null,{"$f":"IF($C104<>\"\",②基本データ入力!$D$9,\"\")","v":""},{"$f":"IF($C104<>\"\",②基本データ入力!$D$29,\"\")","v":""},null,""]
[null,99,null,{"$f":"IF($C105<>\"\",②基本データ入力!$D$15,\"\")","v":""},{"$f":"IF($C105<>\"\",②基本データ入力!$D$11&②基本データ入力!$D$13,\"\")","v":""},null,null,null,null,null,null,null,null,null,null,null,null,null,null,null,null,null,null,{"$f":"IF(C105<>\"\",IF(SUM(G105:W105)=0,\"加入部会を選んでください\",②基本データ入力!D$32),IF(SUM(G105:W105)>0,\"加入者氏名を入力してください\",\"\"))","v":""},null,null,{"$f":"IF($C105<>\"\",②基本データ入力!$D$9,\"\")","v":""},{"$f":"IF($C105<>\"\",②基本データ入力!$D$29,\"\")","v":""},null,""]
[null,100,null,{"$f":"IF($C106<>\"\",②基本データ入力!$D$15,\"\")","v":""},{"$f":"IF($C106<>\"\",②基本データ入力!$D$11&②基本データ入力!$D$13,\"\")","v":""},null,null,null,null,null,null,null,null,null,null,null,null,null,null,null,null,null,null,{"$f":"IF(C106<>\"\",IF(SUM(G106:W106)=0,\"加入部会を選んでください\",②基本データ入力!D$32),IF(SUM(G106:W106)>0,\"加入者氏名を入力してください\",\"\"))","v":""},null,null,{"$f":"IF($C106<>\"\",②基本データ入力!$D$9,\"\")","v":""},{"$f":"IF($C106<>\"\",②基本データ入力!$D$29,\"\")","v":""},null,""]
[null,101,null,{"$f":"IF($C107<>\"\",②基本データ入力!$D$15,\"\")","v":""},{"$f":"IF($C107<>\"\",②基本データ入力!$D$11&②基本データ入力!$D$13,\"\")","v":""},null,null,null,null,null,null,null,null,null,null,null,null,null,null,null,null,null,null,{"$f":"IF(C107<>\"\",IF(SUM(G107:W107)=0,\"加入部会を選んでください\",②基本データ入力!D$32),IF(SUM(G107:W107)>0,\"加入者氏名を入力してください\",\"\"))","v":""},null,null,{"$f":"IF($C107<>\"\",②基本データ入力!$D$9,\"\")","v":""},{"$f":"IF($C107<>\"\",②基本データ入力!$D$29,\"\")","v":""},null,""]
[null,102,null,{"$f":"IF($C108<>\"\",②基本データ入力!$D$15,\"\")","v":""},{"$f":"IF($C108<>\"\",②基本データ入力!$D$11&②基本データ入力!$D$13,\"\")","v":""},null,null,null,null,null,null,null,null,null,null,null,null,null,null,null,null,null,null,{"$f":"IF(C108<>\"\",IF(SUM(G108:W108)=0,\"加入部会を選んでください\",②基本データ入力!D$32),IF(SUM(G108:W108)>0,\"加入者氏名を入力してください\",\"\"))","v":""},null,null,{"$f":"IF($C108<>\"\",②基本データ入力!$D$9,\"\")","v":""},{"$f":"IF($C108<>\"\",②基本データ入力!$D$29,\"\")","v":""},null,""]
[null,103,null,{"$f":"IF($C109<>\"\",②基本データ入力!$D$15,\"\")","v":""},{"$f":"IF($C109<>\"\",②基本データ入力!$D$11&②基本データ入力!$D$13,\"\")","v":""},null,null,null,null,null,null,null,null,null,null,null,null,null,null,null,null,null,null,{"$f":"IF(C109<>\"\",IF(SUM(G109:W109)=0,\"加入部会を選んでください\",②基本データ入力!D$32),IF(SUM(G109:W109)>0,\"加入者氏名を入力してください\",\"\"))","v":""},null,null,{"$f":"IF($C109<>\"\",②基本データ入力!$D$9,\"\")","v":""},{"$f":"IF($C109<>\"\",②基本データ入力!$D$29,\"\")","v":""},null,""]
[null,104,null,{"$f":"IF($C110<>\"\",②基本データ入力!$D$15,\"\")","v":""},{"$f":"IF($C110<>\"\",②基本データ入力!$D$11&②基本データ入力!$D$13,\"\")","v":""},null,null,null,null,null,null,null,null,null,null,null,null,null,null,null,null,null,null,{"$f":"IF(C110<>\"\",IF(SUM(G110:W110)=0,\"加入部会を選んでください\",②基本データ入力!D$32),IF(SUM(G110:W110)>0,\"加入者氏名を入力してください\",\"\"))","v":""},null,null,{"$f":"IF($C110<>\"\",②基本データ入力!$D$9,\"\")","v":""},{"$f":"IF($C110<>\"\",②基本データ入力!$D$29,\"\")","v":""},null,""]
[null,105,null,{"$f":"IF($C111<>\"\",②基本データ入力!$D$15,\"\")","v":""},{"$f":"IF($C111<>\"\",②基本データ入力!$D$11&②基本データ入力!$D$13,\"\")","v":""},null,null,null,null,null,null,null,null,null,null,null,null,null,null,null,null,null,null,{"$f":"IF(C111<>\"\",IF(SUM(G111:W111)=0,\"加入部会を選んでください\",②基本データ入力!D$32),IF(SUM(G111:W111)>0,\"加入者氏名を入力してください\",\"\"))","v":""},null,null,{"$f":"IF($C111<>\"\",②基本データ入力!$D$9,\"\")","v":""},{"$f":"IF($C111<>\"\",②基本データ入力!$D$29,\"\")","v":""},null,""]
[null,106,null,{"$f":"IF($C112<>\"\",②基本データ入力!$D$15,\"\")","v":""},{"$f":"IF($C112<>\"\",②基本データ入力!$D$11&②基本データ入力!$D$13,\"\")","v":""},null,null,null,null,null,null,null,null,null,null,null,null,null,null,null,null,null,null,{"$f":"IF(C112<>\"\",IF(SUM(G112:W112)=0,\"加入部会を選んでください\",②基本データ入力!D$32),IF(SUM(G112:W112)>0,\"加入者氏名を入力してください\",\"\"))","v":""},null,null,{"$f":"IF($C112<>\"\",②基本データ入力!$D$9,\"\")","v":""},{"$f":"IF($C112<>\"\",②基本データ入力!$D$29,\"\")","v":""},null,""]
[null,107,null,{"$f":"IF($C113<>\"\",②基本データ入力!$D$15,\"\")","v":""},{"$f":"IF($C113<>\"\",②基本データ入力!$D$11&②基本データ入力!$D$13,\"\")","v":""},null,null,null,null,null,null,null,null,null,null,null,null,null,null,null,null,null,null,{"$f":"IF(C113<>\"\",IF(SUM(G113:W113)=0,\"加入部会を選んでください\",②基本データ入力!D$32),IF(SUM(G113:W113)>0,\"加入者氏名を入力してください\",\"\"))","v":""},null,null,{"$f":"IF($C113<>\"\",②基本データ入力!$D$9,\"\")","v":""},{"$f":"IF($C113<>\"\",②基本データ入力!$D$29,\"\")","v":""},null,""]
[null,108,null,{"$f":"IF($C114<>\"\",②基本データ入力!$D$15,\"\")","v":""},{"$f":"IF($C114<>\"\",②基本データ入力!$D$11&②基本データ入力!$D$13,\"\")","v":""},null,null,null,null,null,null,null,null,null,null,null,null,null,null,null,null,null,null,{"$f":"IF(C114<>\"\",IF(SUM(G114:W114)=0,\"加入部会を選んでください\",②基本データ入力!D$32),IF(SUM(G114:W114)>0,\"加入者氏名を入力してください\",\"\"))","v":""},null,null,{"$f":"IF($C114<>\"\",②基本データ入力!$D$9,\"\")","v":""},{"$f":"IF($C114<>\"\",②基本データ入力!$D$29,\"\")","v":""},null,""]
[null,109,null,{"$f":"IF($C115<>\"\",②基本データ入力!$D$15,\"\")","v":""},{"$f":"IF($C115<>\"\",②基本データ入力!$D$11&②基本データ入力!$D$13,\"\")","v":""},null,null,null,null,null,null,null,null,null,null,null,null,null,null,null,null,null,null,{"$f":"IF(C115<>\"\",IF(SUM(G115:W115)=0,\"加入部会を選んでください\",②基本データ入力!D$32),IF(SUM(G115:W115)>0,\"加入者氏名を入力してください\",\"\"))","v":""},null,null,{"$f":"IF($C115<>\"\",②基本データ入力!$D$9,\"\")","v":""},{"$f":"IF($C115<>\"\",②基本データ入力!$D$29,\"\")","v":""},null,""]
[null,110,null,{"$f":"IF($C116<>\"\",②基本データ入力!$D$15,\"\")","v":""},{"$f":"IF($C116<>\"\",②基本データ入力!$D$11&②基本データ入力!$D$13,\"\")","v":""},null,null,null,null,null,null,null,null,null,null,null,null,null,null,null,null,null,null,{"$f":"IF(C116<>\"\",IF(SUM(G116:W116)=0,\"加入部会を選んでください\",②基本データ入力!D$32),IF(SUM(G116:W116)>0,\"加入者氏名を入力してください\",\"\"))","v":""},null,null,{"$f":"IF($C116<>\"\",②基本データ入力!$D$9,\"\")","v":""},{"$f":"IF($C116<>\"\",②基本データ入力!$D$29,\"\")","v":""},null,""]
[null,111,null,{"$f":"IF($C117<>\"\",②基本データ入力!$D$15,\"\")","v":""},{"$f":"IF($C117<>\"\",②基本データ入力!$D$11&②基本データ入力!$D$13,\"\")","v":""},null,null,null,null,null,null,null,null,null,null,null,null,null,null,null,null,null,null,{"$f":"IF(C117<>\"\",IF(SUM(G117:W117)=0,\"加入部会を選んでください\",②基本データ入力!D$32),IF(SUM(G117:W117)>0,\"加入者氏名を入力してください\",\"\"))","v":""},null,null,{"$f":"IF($C117<>\"\",②基本データ入力!$D$9,\"\")","v":""},{"$f":"IF($C117<>\"\",②基本データ入力!$D$29,\"\")","v":""},null,""]
[null,112,null,{"$f":"IF($C118<>\"\",②基本データ入力!$D$15,\"\")","v":""},{"$f":"IF($C118<>\"\",②基本データ入力!$D$11&②基本データ入力!$D$13,\"\")","v":""},null,null,null,null,null,null,null,null,null,null,null,null,null,null,null,null,null,null,{"$f":"IF(C118<>\"\",IF(SUM(G118:W118)=0,\"加入部会を選んでください\",②基本データ入力!D$32),IF(SUM(G118:W118)>0,\"加入者氏名を入力してください\",\"\"))","v":""},null,null,{"$f":"IF($C118<>\"\",②基本データ入力!$D$9,\"\")","v":""},{"$f":"IF($C118<>\"\",②基本データ入力!$D$29,\"\")","v":""},null,""]
[null,113,null,{"$f":"IF($C119<>\"\",②基本データ入力!$D$15,\"\")","v":""},{"$f":"IF($C119<>\"\",②基本データ入力!$D$11&②基本データ入力!$D$13,\"\")","v":""},null,null,null,null,null,null,null,null,null,null,null,null,null,null,null,null,null,null,{"$f":"IF(C119<>\"\",IF(SUM(G119:W119)=0,\"加入部会を選んでください\",②基本データ入力!D$32),IF(SUM(G119:W119)>0,\"加入者氏名を入力してください\",\"\"))","v":""},null,null,{"$f":"IF($C119<>\"\",②基本データ入力!$D$9,\"\")","v":""},{"$f":"IF($C119<>\"\",②基本データ入力!$D$29,\"\")","v":""},null,""]
[null,114,null,{"$f":"IF($C120<>\"\",②基本データ入力!$D$15,\"\")","v":""},{"$f":"IF($C120<>\"\",②基本データ入力!$D$11&②基本データ入力!$D$13,\"\")","v":""},null,null,null,null,null,null,null,null,null,null,null,null,null,null,null,null,null,null,{"$f":"IF(C120<>\"\",IF(SUM(G120:W120)=0,\"加入部会を選んでください\",②基本データ入力!D$32),IF(SUM(G120:W120)>0,\"加入者氏名を入力してください\",\"\"))","v":""},null,null,{"$f":"IF($C120<>\"\",②基本データ入力!$D$9,\"\")","v":""},{"$f":"IF($C120<>\"\",②基本データ入力!$D$29,\"\")","v":""},null,""]
[null,115,null,{"$f":"IF($C121<>\"\",②基本データ入力!$D$15,\"\")","v":""},{"$f":"IF($C121<>\"\",②基本データ入力!$D$11&②基本データ入力!$D$13,\"\")","v":""},null,null,null,null,null,null,null,null,null,null,null,null,null,null,null,null,null,null,{"$f":"IF(C121<>\"\",IF(SUM(G121:W121)=0,\"加入部会を選んでください\",②基本データ入力!D$32),IF(SUM(G121:W121)>0,\"加入者氏名を入力してください\",\"\"))","v":""},null,null,{"$f":"IF($C121<>\"\",②基本データ入力!$D$9,\"\")","v":""},{"$f":"IF($C121<>\"\",②基本データ入力!$D$29,\"\")","v":""},null,""]
[null,116,null,{"$f":"IF($C122<>\"\",②基本データ入力!$D$15,\"\")","v":""},{"$f":"IF($C122<>\"\",②基本データ入力!$D$11&②基本データ入力!$D$13,\"\")","v":""},null,null,null,null,null,null,null,null,null,null,null,null,null,null,null,null,null,null,{"$f":"IF(C122<>\"\",IF(SUM(G122:W122)=0,\"加入部会を選んでください\",②基本データ入力!D$32),IF(SUM(G122:W122)>0,\"加入者氏名を入力してください\",\"\"))","v":""},null,null,{"$f":"IF($C122<>\"\",②基本データ入力!$D$9,\"\")","v":""},{"$f":"IF($C122<>\"\",②基本データ入力!$D$29,\"\")","v":""},null,""]
[null,117,null,{"$f":"IF($C123<>\"\",②基本データ入力!$D$15,\"\")","v":""},{"$f":"IF($C123<>\"\",②基本データ入力!$D$11&②基本データ入力!$D$13,\"\")","v":""},null,null,null,null,null,null,null,null,null,null,null,null,null,null,null,null,null,null,{"$f":"IF(C123<>\"\",IF(SUM(G123:W123)=0,\"加入部会を選んでください\",②基本データ入力!D$32),IF(SUM(G123:W123)>0,\"加入者氏名を入力してください\",\"\"))","v":""},null,null,{"$f":"IF($C123<>\"\",②基本データ入力!$D$9,\"\")","v":""},{"$f":"IF($C123<>\"\",②基本データ入力!$D$29,\"\")","v":""},null,""]
[null,118,null,{"$f":"IF($C124<>\"\",②基本データ入力!$D$15,\"\")","v":""},{"$f":"IF($C124<>\"\",②基本データ入力!$D$11&②基本データ入力!$D$13,\"\")","v":""},null,null,null,null,null,null,null,null,null,null,null,null,null,null,null,null,null,null,{"$f":"IF(C124<>\"\",IF(SUM(G124:W124)=0,\"加入部会を選んでください\",②基本データ入力!D$32),IF(SUM(G124:W124)>0,\"加入者氏名を入力してください\",\"\"))","v":""},null,null,{"$f":"IF($C124<>\"\",②基本データ入力!$D$9,\"\")","v":""},{"$f":"IF($C124<>\"\",②基本データ入力!$D$29,\"\")","v":""},null,""]
[null,119,null,{"$f":"IF($C125<>\"\",②基本データ入力!$D$15,\"\")","v":""},{"$f":"IF($C125<>\"\",②基本データ入力!$D$11&②基本データ入力!$D$13,\"\")","v":""},null,null,null,null,null,null,null,null,null,null,null,null,null,null,null,null,null,null,{"$f":"IF(C125<>\"\",IF(SUM(G125:W125)=0,\"加入部会を選んでください\",②基本データ入力!D$32),IF(SUM(G125:W125)>0,\"加入者氏名を入力してください\",\"\"))","v":""},null,null,{"$f":"IF($C125<>\"\",②基本データ入力!$D$9,\"\")","v":""},{"$f":"IF($C125<>\"\",②基本データ入力!$D$29,\"\")","v":""},null,""]
[null,120,null,{"$f":"IF($C126<>\"\",②基本データ入力!$D$15,\"\")","v":""},{"$f":"IF($C126<>\"\",②基本データ入力!$D$11&②基本データ入力!$D$13,\"\")","v":""},null,null,null,null,null,null,null,null,null,null,null,null,null,null,null,null,null,null,{"$f":"IF(C126<>\"\",IF(SUM(G126:W126)=0,\"加入部会を選んでください\",②基本データ入力!D$32),IF(SUM(G126:W126)>0,\"加入者氏名を入力してください\",\"\"))","v":""},null,null,{"$f":"IF($C126<>\"\",②基本データ入力!$D$9,\"\")","v":""},{"$f":"IF($C126<>\"\",②基本データ入力!$D$29,\"\")","v":""},null,""]
[null,121,null,{"$f":"IF($C127<>\"\",②基本データ入力!$D$15,\"\")","v":""},{"$f":"IF($C127<>\"\",②基本データ入力!$D$11&②基本データ入力!$D$13,\"\")","v":""},null,null,null,null,null,null,null,null,null,null,null,null,null,null,null,null,null,null,{"$f":"IF(C127<>\"\",IF(SUM(G127:W127)=0,\"加入部会を選んでください\",②基本データ入力!D$32),IF(SUM(G127:W127)>0,\"加入者氏名を入力してください\",\"\"))","v":""},null,null,{"$f":"IF($C127<>\"\",②基本データ入力!$D$9,\"\")","v":""},{"$f":"IF($C127<>\"\",②基本データ入力!$D$29,\"\")","v":""},null,""]
[null,122,null,{"$f":"IF($C128<>\"\",②基本データ入力!$D$15,\"\")","v":""},{"$f":"IF($C128<>\"\",②基本データ入力!$D$11&②基本データ入力!$D$13,\"\")","v":""},null,null,null,null,null,null,null,null,null,null,null,null,null,null,null,null,null,null,{"$f":"IF(C128<>\"\",IF(SUM(G128:W128)=0,\"加入部会を選んでください\",②基本データ入力!D$32),IF(SUM(G128:W128)>0,\"加入者氏名を入力してください\",\"\"))","v":""},null,null,{"$f":"IF($C128<>\"\",②基本データ入力!$D$9,\"\")","v":""},{"$f":"IF($C128<>\"\",②基本データ入力!$D$29,\"\")","v":""},null,""]
[null,123,null,{"$f":"IF($C129<>\"\",②基本データ入力!$D$15,\"\")","v":""},{"$f":"IF($C129<>\"\",②基本データ入力!$D$11&②基本データ入力!$D$13,\"\")","v":""},null,null,null,null,null,null,null,null,null,null,null,null,null,null,null,null,null,null,{"$f":"IF(C129<>\"\",IF(SUM(G129:W129)=0,\"加入部会を選んでください\",②基本データ入力!D$32),IF(SUM(G129:W129)>0,\"加入者氏名を入力してください\",\"\"))","v":""},null,null,{"$f":"IF($C129<>\"\",②基本データ入力!$D$9,\"\")","v":""},{"$f":"IF($C129<>\"\",②基本データ入力!$D$29,\"\")","v":""},null,""]
[null,124,null,{"$f":"IF($C130<>\"\",②基本データ入力!$D$15,\"\")","v":""},{"$f":"IF($C130<>\"\",②基本データ入力!$D$11&②基本データ入力!$D$13,\"\")","v":""},null,null,null,null,null,null,null,null,null,null,null,null,null,null,null,null,null,null,{"$f":"IF(C130<>\"\",IF(SUM(G130:W130)=0,\"加入部会を選んでください\",②基本データ入力!D$32),IF(SUM(G130:W130)>0,\"加入者氏名を入力してください\",\"\"))","v":""},null,null,{"$f":"IF($C130<>\"\",②基本データ入力!$D$9,\"\")","v":""},{"$f":"IF($C130<>\"\",②基本データ入力!$D$29,\"\")","v":""},null,""]
[null,125,null,{"$f":"IF($C131<>\"\",②基本データ入力!$D$15,\"\")","v":""},{"$f":"IF($C131<>\"\",②基本データ入力!$D$11&②基本データ入力!$D$13,\"\")","v":""},null,null,null,null,null,null,null,null,null,null,null,null,null,null,null,null,null,null,{"$f":"IF(C131<>\"\",IF(SUM(G131:W131)=0,\"加入部会を選んでください\",②基本データ入力!D$32),IF(SUM(G131:W131)>0,\"加入者氏名を入力してください\",\"\"))","v":""},null,null,{"$f":"IF($C131<>\"\",②基本データ入力!$D$9,\"\")","v":""},{"$f":"IF($C131<>\"\",②基本データ入力!$D$29,\"\")","v":""},null,""]
[null,126,null,{"$f":"IF($C132<>\"\",②基本データ入力!$D$15,\"\")","v":""},{"$f":"IF($C132<>\"\",②基本データ入力!$D$11&②基本データ入力!$D$13,\"\")","v":""},null,null,null,null,null,null,null,null,null,null,null,null,null,null,null,null,null,null,{"$f":"IF(C132<>\"\",IF(SUM(G132:W132)=0,\"加入部会を選んでください\",②基本データ入力!D$32),IF(SUM(G132:W132)>0,\"加入者氏名を入力してください\",\"\"))","v":""},null,null,{"$f":"IF($C132<>\"\",②基本データ入力!$D$9,\"\")","v":""},{"$f":"IF($C132<>\"\",②基本データ入力!$D$29,\"\")","v":""},null,""]
[null,127,null,{"$f":"IF($C133<>\"\",②基本データ入力!$D$15,\"\")","v":""},{"$f":"IF($C133<>\"\",②基本データ入力!$D$11&②基本データ入力!$D$13,\"\")","v":""},null,null,null,null,null,null,null,null,null,null,null,null,null,null,null,null,null,null,{"$f":"IF(C133<>\"\",IF(SUM(G133:W133)=0,\"加入部会を選んでください\",②基本データ入力!D$32),IF(SUM(G133:W133)>0,\"加入者氏名を入力してください\",\"\"))","v":""},null,null,{"$f":"IF($C133<>\"\",②基本データ入力!$D$9,\"\")","v":""},{"$f":"IF($C133<>\"\",②基本データ入力!$D$29,\"\")","v":""},null,""]
[null,128,null,{"$f":"IF($C134<>\"\",②基本データ入力!$D$15,\"\")","v":""},{"$f":"IF($C134<>\"\",②基本データ入力!$D$11&②基本データ入力!$D$13,\"\")","v":""},null,null,null,null,null,null,null,null,null,null,null,null,null,null,null,null,null,null,{"$f":"IF(C134<>\"\",IF(SUM(G134:W134)=0,\"加入部会を選んでください\",②基本データ入力!D$32),IF(SUM(G134:W134)>0,\"加入者氏名を入力してください\",\"\"))","v":""},null,null,{"$f":"IF($C134<>\"\",②基本データ入力!$D$9,\"\")","v":""},{"$f":"IF($C134<>\"\",②基本データ入力!$D$29,\"\")","v":""},null,""]
[null,129,null,{"$f":"IF($C135<>\"\",②基本データ入力!$D$15,\"\")","v":""},{"$f":"IF($C135<>\"\",②基本データ入力!$D$11&②基本データ入力!$D$13,\"\")","v":""},null,null,null,null,null,null,null,null,null,null,null,null,null,null,null,null,null,null,{"$f":"IF(C135<>\"\",IF(SUM(G135:W135)=0,\"加入部会を選んでください\",②基本データ入力!D$32),IF(SUM(G135:W135)>0,\"加入者氏名を入力してください\",\"\"))","v":""},null,null,{"$f":"IF($C135<>\"\",②基本データ入力!$D$9,\"\")","v":""},{"$f":"IF($C135<>\"\",②基本データ入力!$D$29,\"\")","v":""},null,""]
[null,130,null,{"$f":"IF($C136<>\"\",②基本データ入力!$D$15,\"\")","v":""},{"$f":"IF($C136<>\"\",②基本データ入力!$D$11&②基本データ入力!$D$13,\"\")","v":""},null,null,null,null,null,null,null,null,null,null,null,null,null,null,null,null,null,null,{"$f":"IF(C136<>\"\",IF(SUM(G136:W136)=0,\"加入部会を選んでください\",②基本データ入力!D$32),IF(SUM(G136:W136)>0,\"加入者氏名を入力してください\",\"\"))","v":""},null,null,{"$f":"IF($C136<>\"\",②基本データ入力!$D$9,\"\")","v":""},{"$f":"IF($C136<>\"\",②基本データ入力!$D$29,\"\")","v":""},null,{"$f":"IF(C136<>\"\",IF(F136=\"\",\"職名を入力してください\",IF(Z136=\"\",\"担当教科を入力してください\",\"\")),IF(F136<>\"\",\"加入者氏名を入力してください\",IF(Z136<>\"\",\"加入者氏名を入力してください\",\"\")))","v":""}]
[null,131,null,{"$f":"IF($C137<>\"\",②基本データ入力!$D$15,\"\")","v":""},{"$f":"IF($C137<>\"\",②基本データ入力!$D$11&②基本データ入力!$D$13,\"\")","v":""},null,null,null,null,null,null,null,null,null,null,null,null,null,null,null,null,null,null,{"$f":"IF(C137<>\"\",IF(SUM(G137:W137)=0,\"加入部会を選んでください\",②基本データ入力!D$32),IF(SUM(G137:W137)>0,\"加入者氏名を入力してください\",\"\"))","v":""},null,null,{"$f":"IF($C137<>\"\",②基本データ入力!$D$9,\"\")","v":""},{"$f":"IF($C137<>\"\",②基本データ入力!$D$29,\"\")","v":""},null,""]
[null,132,null,{"$f":"IF($C138<>\"\",②基本データ入力!$D$15,\"\")","v":""},{"$f":"IF($C138<>\"\",②基本データ入力!$D$11&②基本データ入力!$D$13,\"\")","v":""},null,null,null,null,null,null,null,null,null,null,null,null,null,null,null,null,null,null,{"$f":"IF(C138<>\"\",IF(SUM(G138:W138)=0,\"加入部会を選んでください\",②基本データ入力!D$32),IF(SUM(G138:W138)>0,\"加入者氏名を入力してください\",\"\"))","v":""},null,null,{"$f":"IF($C138<>\"\",②基本データ入力!$D$9,\"\")","v":""},{"$f":"IF($C138<>\"\",②基本データ入力!$D$29,\"\")","v":""},null,""]
[null,133,null,{"$f":"IF($C139<>\"\",②基本データ入力!$D$15,\"\")","v":""},{"$f":"IF($C139<>\"\",②基本データ入力!$D$11&②基本データ入力!$D$13,\"\")","v":""},null,null,null,null,null,null,null,null,null,null,null,null,null,null,null,null,null,null,{"$f":"IF(C139<>\"\",IF(SUM(G139:W139)=0,\"加入部会を選んでください\",②基本データ入力!D$32),IF(SUM(G139:W139)>0,\"加入者氏名を入力してください\",\"\"))","v":""},null,null,{"$f":"IF($C139<>\"\",②基本データ入力!$D$9,\"\")","v":""},{"$f":"IF($C139<>\"\",②基本データ入力!$D$29,\"\")","v":""},null,""]
[null,134,null,{"$f":"IF($C140<>\"\",②基本データ入力!$D$15,\"\")","v":""},{"$f":"IF($C140<>\"\",②基本データ入力!$D$11&②基本データ入力!$D$13,\"\")","v":""},null,null,null,null,null,null,null,null,null,null,null,null,null,null,null,null,null,null,{"$f":"IF(C140<>\"\",IF(SUM(G140:W140)=0,\"加入部会を選んでください\",②基本データ入力!D$32),IF(SUM(G140:W140)>0,\"加入者氏名を入力してください\",\"\"))","v":""},null,null,{"$f":"IF($C140<>\"\",②基本データ入力!$D$9,\"\")","v":""},{"$f":"IF($C140<>\"\",②基本データ入力!$D$29,\"\")","v":""},null,""]
[null,135,null,{"$f":"IF($C141<>\"\",②基本データ入力!$D$15,\"\")","v":""},{"$f":"IF($C141<>\"\",②基本データ入力!$D$11&②基本データ入力!$D$13,\"\")","v":""},null,null,null,null,null,null,null,null,null,null,null,null,null,null,null,null,null,null,{"$f":"IF(C141<>\"\",IF(SUM(G141:W141)=0,\"加入部会を選んでください\",②基本データ入力!D$32),IF(SUM(G141:W141)>0,\"加入者氏名を入力してください\",\"\"))","v":""},null,null,{"$f":"IF($C141<>\"\",②基本データ入力!$D$9,\"\")","v":""},{"$f":"IF($C141<>\"\",②基本データ入力!$D$29,\"\")","v":""},null,""]
[null,136,null,{"$f":"IF($C142<>\"\",②基本データ入力!$D$15,\"\")","v":""},{"$f":"IF($C142<>\"\",②基本データ入力!$D$11&②基本データ入力!$D$13,\"\")","v":""},null,null,null,null,null,null,null,null,null,null,null,null,null,null,null,null,null,null,{"$f":"IF(C142<>\"\",IF(SUM(G142:W142)=0,\"加入部会を選んでください\",②基本データ入力!D$32),IF(SUM(G142:W142)>0,\"加入者氏名を入力してください\",\"\"))","v":""},null,null,{"$f":"IF($C142<>\"\",②基本データ入力!$D$9,\"\")","v":""},{"$f":"IF($C142<>\"\",②基本データ入力!$D$29,\"\")","v":""},null,""]
[null,137,null,{"$f":"IF($C143<>\"\",②基本データ入力!$D$15,\"\")","v":""},{"$f":"IF($C143<>\"\",②基本データ入力!$D$11&②基本データ入力!$D$13,\"\")","v":""},null,null,null,null,null,null,null,null,null,null,null,null,null,null,null,null,null,null,{"$f":"IF(C143<>\"\",IF(SUM(G143:W143)=0,\"加入部会を選んでください\",②基本データ入力!D$32),IF(SUM(G143:W143)>0,\"加入者氏名を入力してください\",\"\"))","v":""},null,null,{"$f":"IF($C143<>\"\",②基本データ入力!$D$9,\"\")","v":""},{"$f":"IF($C143<>\"\",②基本データ入力!$D$29,\"\")","v":""},null,""]
[null,138,null,{"$f":"IF($C144<>\"\",②基本データ入力!$D$15,\"\")","v":""},{"$f":"IF($C144<>\"\",②基本データ入力!$D$11&②基本データ入力!$D$13,\"\")","v":""},null,null,null,null,null,null,null,null,null,null,null,null,null,null,null,null,null,null,{"$f":"IF(C144<>\"\",IF(SUM(G144:W144)=0,\"加入部会を選んでください\",②基本データ入力!D$32),IF(SUM(G144:W144)>0,\"加入者氏名を入力してください\",\"\"))","v":""},null,null,{"$f":"IF($C144<>\"\",②基本データ入力!$D$9,\"\")","v":""},{"$f":"IF($C144<>\"\",②基本データ入力!$D$29,\"\")","v":""},null,""]
[null,139,null,{"$f":"IF($C145<>\"\",②基本データ入力!$D$15,\"\")","v":""},{"$f":"IF($C145<>\"\",②基本データ入力!$D$11&②基本データ入力!$D$13,\"\")","v":""},null,null,null,null,null,null,null,null,null,null,null,null,null,null,null,null,null,null,{"$f":"IF(C145<>\"\",IF(SUM(G145:W145)=0,\"加入部会を選んでください\",②基本データ入力!D$32),IF(SUM(G145:W145)>0,\"加入者氏名を入力してください\",\"\"))","v":""},null,null,{"$f":"IF($C145<>\"\",②基本データ入力!$D$9,\"\")","v":""},{"$f":"IF($C145<>\"\",②基本データ入力!$D$29,\"\")","v":""},null,""]
[null,140,null,{"$f":"IF($C146<>\"\",②基本データ入力!$D$15,\"\")","v":""},{"$f":"IF($C146<>\"\",②基本データ入力!$D$11&②基本データ入力!$D$13,\"\")","v":""},null,null,null,null,null,null,null,null,null,null,null,null,null,null,null,null,null,null,{"$f":"IF(C146<>\"\",IF(SUM(G146:W146)=0,\"加入部会を選んでください\",②基本データ入力!D$32),IF(SUM(G146:W146)>0,\"加入者氏名を入力してください\",\"\"))","v":""},null,null,{"$f":"IF($C146<>\"\",②基本データ入力!$D$9,\"\")","v":""},{"$f":"IF($C146<>\"\",②基本データ入力!$D$29,\"\")","v":""},null,""]
[null,141,null,{"$f":"IF($C147<>\"\",②基本データ入力!$D$15,\"\")","v":""},{"$f":"IF($C147<>\"\",②基本データ入力!$D$11&②基本データ入力!$D$13,\"\")","v":""},null,null,null,null,null,null,null,null,null,null,null,null,null,null,null,null,null,null,{"$f":"IF(C147<>\"\",IF(SUM(G147:W147)=0,\"加入部会を選んでください\",②基本データ入力!D$32),IF(SUM(G147:W147)>0,\"加入者氏名を入力してください\",\"\"))","v":""},null,null,{"$f":"IF($C147<>\"\",②基本データ入力!$D$9,\"\")","v":""},{"$f":"IF($C147<>\"\",②基本データ入力!$D$29,\"\")","v":""},null,""]
[null,142,null,{"$f":"IF($C148<>\"\",②基本データ入力!$D$15,\"\")","v":""},{"$f":"IF($C148<>\"\",②基本データ入力!$D$11&②基本データ入力!$D$13,\"\")","v":""},null,null,null,null,null,null,null,null,null,null,null,null,null,null,null,null,null,null,{"$f":"IF(C148<>\"\",IF(SUM(G148:W148)=0,\"加入部会を選んでください\",②基本データ入力!D$32),IF(SUM(G148:W148)>0,\"加入者氏名を入力してください\",\"\"))","v":""},null,null,{"$f":"IF($C148<>\"\",②基本データ入力!$D$9,\"\")","v":""},{"$f":"IF($C148<>\"\",②基本データ入力!$D$29,\"\")","v":""},null,""]
[null,143,null,{"$f":"IF($C149<>\"\",②基本データ入力!$D$15,\"\")","v":""},{"$f":"IF($C149<>\"\",②基本データ入力!$D$11&②基本データ入力!$D$13,\"\")","v":""},null,null,null,null,null,null,null,null,null,null,null,null,null,null,null,null,null,null,{"$f":"IF(C149<>\"\",IF(SUM(G149:W149)=0,\"加入部会を選んでください\",②基本データ入力!D$32),IF(SUM(G149:W149)>0,\"加入者氏名を入力してください\",\"\"))","v":""},null,null,{"$f":"IF($C149<>\"\",②基本データ入力!$D$9,\"\")","v":""},{"$f":"IF($C149<>\"\",②基本データ入力!$D$29,\"\")","v":""},null,""]
[null,144,null,{"$f":"IF($C150<>\"\",②基本データ入力!$D$15,\"\")","v":""},{"$f":"IF($C150<>\"\",②基本データ入力!$D$11&②基本データ入力!$D$13,\"\")","v":""},null,null,null,null,null,null,null,null,null,null,null,null,null,null,null,null,null,null,{"$f":"IF(C150<>\"\",IF(SUM(G150:W150)=0,\"加入部会を選んでください\",②基本データ入力!D$32),IF(SUM(G150:W150)>0,\"加入者氏名を入力してください\",\"\"))","v":""},null,null,{"$f":"IF($C150<>\"\",②基本データ入力!$D$9,\"\")","v":""},{"$f":"IF($C150<>\"\",②基本データ入力!$D$29,\"\")","v":""},null,""]
[null,145,null,{"$f":"IF($C151<>\"\",②基本データ入力!$D$15,\"\")","v":""},{"$f":"IF($C151<>\"\",②基本データ入力!$D$11&②基本データ入力!$D$13,\"\")","v":""},null,null,null,null,null,null,null,null,null,null,null,null,null,null,null,null,null,null,{"$f":"IF(C151<>\"\",IF(SUM(G151:W151)=0,\"加入部会を選んでください\",②基本データ入力!D$32),IF(SUM(G151:W151)>0,\"加入者氏名を入力してください\",\"\"))","v":""},null,null,{"$f":"IF($C151<>\"\",②基本データ入力!$D$9,\"\")","v":""},{"$f":"IF($C151<>\"\",②基本データ入力!$D$29,\"\")","v":""},null,""]
[null,146,null,{"$f":"IF($C152<>\"\",②基本データ入力!$D$15,\"\")","v":""},{"$f":"IF($C152<>\"\",②基本データ入力!$D$11&②基本データ入力!$D$13,\"\")","v":""},null,null,null,null,null,null,null,null,null,null,null,null,null,null,null,null,null,null,{"$f":"IF(C152<>\"\",IF(SUM(G152:W152)=0,\"加入部会を選んでください\",②基本データ入力!D$32),IF(SUM(G152:W152)>0,\"加入者氏名を入力してください\",\"\"))","v":""},null,null,{"$f":"IF($C152<>\"\",②基本データ入力!$D$9,\"\")","v":""},{"$f":"IF($C152<>\"\",②基本データ入力!$D$29,\"\")","v":""},null,""]
[null,147,null,{"$f":"IF($C153<>\"\",②基本データ入力!$D$15,\"\")","v":""},{"$f":"IF($C153<>\"\",②基本データ入力!$D$11&②基本データ入力!$D$13,\"\")","v":""},null,null,null,null,null,null,null,null,null,null,null,null,null,null,null,null,null,null,{"$f":"IF(C153<>\"\",IF(SUM(G153:W153)=0,\"加入部会を選んでください\",②基本データ入力!D$32),IF(SUM(G153:W153)>0,\"加入者氏名を入力してください\",\"\"))","v":""},null,null,{"$f":"IF($C153<>\"\",②基本データ入力!$D$9,\"\")","v":""},{"$f":"IF($C153<>\"\",②基本データ入力!$D$29,\"\")","v":""},null,""]
[null,148,null,{"$f":"IF($C154<>\"\",②基本データ入力!$D$15,\"\")","v":""},{"$f":"IF($C154<>\"\",②基本データ入力!$D$11&②基本データ入力!$D$13,\"\")","v":""},null,null,null,null,null,null,null,null,null,null,null,null,null,null,null,null,null,null,{"$f":"IF(C154<>\"\",IF(SUM(G154:W154)=0,\"加入部会を選んでください\",②基本データ入力!D$32),IF(SUM(G154:W154)>0,\"加入者氏名を入力してください\",\"\"))","v":""},null,null,{"$f":"IF($C154<>\"\",②基本データ入力!$D$9,\"\")","v":""},{"$f":"IF($C154<>\"\",②基本データ入力!$D$29,\"\")","v":""},null,""]
[null,149,null,{"$f":"IF($C155<>\"\",②基本データ入力!$D$15,\"\")","v":""},{"$f":"IF($C155<>\"\",②基本データ入力!$D$11&②基本データ入力!$D$13,\"\")","v":""},null,null,null,null,null,null,null,null,null,null,null,null,null,null,null,null,null,null,{"$f":"IF(C155<>\"\",IF(SUM(G155:W155)=0,\"加入部会を選んでください\",②基本データ入力!D$32),IF(SUM(G155:W155)>0,\"加入者氏名を入力してください\",\"\"))","v":""},null,null,{"$f":"IF($C155<>\"\",②基本データ入力!$D$9,\"\")","v":""},{"$f":"IF($C155<>\"\",②基本データ入力!$D$29,\"\")","v":""},null,""]
[null,150,null,{"$f":"IF($C156<>\"\",②基本データ入力!$D$15,\"\")","v":""},{"$f":"IF($C156<>\"\",②基本データ入力!$D$11&②基本データ入力!$D$13,\"\")","v":""},null,null,null,null,null,null,null,null,null,null,null,null,null,null,null,null,null,null,{"$f":"IF(C156<>\"\",IF(SUM(G156:W156)=0,\"加入部会を選んでください\",②基本データ入力!D$32),IF(SUM(G156:W156)>0,\"加入者氏名を入力してください\",\"\"))","v":""},null,null,{"$f":"IF($C156<>\"\",②基本データ入力!$D$9,\"\")","v":""},{"$f":"IF($C156<>\"\",②基本データ入力!$D$29,\"\")","v":""},null,""]
[null,"合計",{"$f":"COUNTA(C7:C156)","v":0},null,null,"-",{"$f":"SUM(G7:G156)","v":0},{"$f":"SUM(H7:H156)","v":0},0,0,0,0,0,0,0,0,0,0,0,0,0,0,0,{"$f":"SUM(X7:X156)","v":0}]

{"sheet":"④会費納入書","index":3,"n_rows":16,"n_cols":20,"rows_kept":16,"cut":false,"hidden":false,"merged":[[12,1,12,3],[3,15,3,18],[12,4,12,8],[12,11,12,13],[2,1,2,18],[5,11,5,17],[6,11,6,17]]}
[null,"※このシートに直接入力しないでください。埋め込まれた関数により、②「基本データ入力」、③「加入者名簿」から値を呼び出して表示します。"]
[null,{"$f":"IF(②基本データ入力!D30=\"追加\",\"追加申込\",\"\")","v":""}]
[null,{"$f":"\"令和\"&②基本データ入力!D7&\"年度　高教研　会費納入書および部会別会員数\"","v":"令和6年度　高教研　会費納入書および部会別会員数"}]
[null,null,null,null,null,null,null,null,null,null,null,null,null,null,null,{"$f":"②基本データ入力!D9","v":"00:00:00"}]
[null,"新潟県高等学校教育研究会長　様"]
[null,null,null,null,null,null,null,null,null,null,null,{"$f":"②基本データ入力!D11&\"長\"","v":"長"}]
[null,null,null,null,null,null,null,null,null,null,null,{"$f":"②基本データ入力!D17","v":0}]
[]
[null,"　会費納入額並びに部会別会員数について、下記のとおり報告いたします。"]
[]
[null," １　学校名",null,null,"学番",{"$f":"②基本データ入力!D15","v":0},"校名",{"$f":"IF(②基本データ入力!D11<>\"\",②基本データ入力!D11&\"　\"&②基本データ入力!D13,\"\")","v":""}]
[null," ２　委員氏名",null,null,{"$f":"IF(②基本データ入力!D19<>\"\",②基本データ入力!D19&\"　\"&②基本データ入力!D21,\"\")","v":""}]
[null," ３　会費\n   (納入額）",null,null,{"$f":"③加入者名簿!X157","v":0},null,null,null,null,null,null,{"$f":"T16","v":0},null,null,"名分(実加入者数)"]
[null," ４　部会別会員数"]
[null,"国語","地歴・公民","数学","理科","芸術","英語","農業","工業","商業","水産","家庭科","保健体育","情報","生徒指導","図書館","視聴覚","定通","延べ人数","実加入者人数"]
[null,{"$f":"③加入者名簿!G157","v":0},{"$f":"③加入者名簿!H157","v":0},{"$f":"③加入者名簿!I157","v":0},{"$f":"③加入者名簿!J157","v":0},{"$f":"③加入者名簿!K157","v":0},{"$f":"③加入者名簿!L157","v":0},{"$f":"③加入者名簿!M157","v":0},{"$f":"③加入者名簿!N157","v":0},{"$f":"③加入者名簿!O157","v":0},{"$f":"③加入者名簿!P157","v":0},{"$f":"③加入者名簿!Q157","v":0},{"$f":"③加入者名簿!R157","v":0},{"$f":"③加入者名簿!S157","v":0},{"$f":"③加入者名簿!T157","v":0},{"$f":"③加入者名簿!U157","v":0},{"$f":"③加入者名簿!V157","v":0},{"$f":"③加入者名簿!W157","v":0},{"$f":"SUM(B16:R16)","v":0},{"$f":"③加入者名簿!C157","v":0}]

{"sheet":"⑤校内用申込用紙","index":4,"n_rows":11,"n_cols":6,"rows_kept":11,"cut":false,"hidden":false,"merged":[[2,1,2,5],[4,4,4,5],[6,4,6,5],[7,1,7,5]]}
[null,"※本様式は、校内での加入希望のとりまとめに御活用ください。"]
[]
[]
[]
[null,"学番",null,"学校名"]
[]
[null,null,null,"部会名"]
[null,"※複数ある場合は、備考に書いてください。"]
[null,"　会員名簿"]
[]
[null,"氏名","職名","高教研役職名","本年度加入する教科","備考"]

{"sheet":"リスト","index":5,"n_rows":16,"n_cols":3,"rows_kept":16,"cut":false,"hidden":false,"merged":[]}
["新規","全日制","国語"]
["追加(1回目)","定時制","地歴・公民"]
["追加(2回目)","通信制","数学"]
["追加(3回目)",null,"理科"]
[null,null,"芸術"]
[null,null,"英語"]
[null,null,"農業"]
[null,null,"工業"]
[null,null,"商業"]
[null,null,"水産"]
[null,null,"家庭科"]
[null,null,"保健体育"]
[null,null,"生徒指導"]
[null,null,"図書館"]
[null,null,"視聴覚"]
[null,null,"定通"]

{"sheet":"教科別取込","index":6,"n_rows":30,"n_cols":38,"rows_kept":30,"cut":false,"hidden":false,"merged":[[29,4,40,8],[0,26,0,27],[0,4,0,5],[0,6,0,7],[0,8,0,9],[0,10,0,11],[0,12,0,13],[0,14,0,15],[0,16,0,17],[0,18,0,19],[0,20,0,21],[0,22,0,23],[0,24,0,25],[0,28,0,29],[0,30,0,31],[0,32,0,33],[0,34,0,35],[0,36,0,37]]}
["番号","学番","所属名","課程","国語",null,"地歴\n・公民",null,"数学",null,"理科",null,"芸術",null,"英語",null,"農業",null,"工業",null,"商業",null,"水産",null,"家庭科",null,"保健\n体育",null,"情報",null,"生徒\n指導",null,"図書館",null,"視聴覚",null,"定通"]
[null,null,null,null,"氏名","職名","氏名","職名","氏名","職名","氏名","職名","氏名","職名","氏名","職名","氏名","職名","氏名","職名","氏名","職名","氏名","職名","氏名","職名","氏名","職名","氏名","職名","氏名","職名","氏名","職名","氏名","職名","氏名","職名"]
[1,{"$f":"②基本データ入力!$D$15","v":0},{"$f":"②基本データ入力!$D$11","v":0},{"$f":"②基本データ入力!$D$13","v":"全日制"}]
[2,{"$f":"②基本データ入力!$D$15","v":0},{"$f":"②基本データ入力!$D$11","v":0},{"$f":"②基本データ入力!$D$13","v":"全日制"}]
[3,{"$f":"②基本データ入力!$D$15","v":0},{"$f":"②基本データ入力!$D$11","v":0},{"$f":"②基本データ入力!$D$13","v":"全日制"}]
[4,{"$f":"②基本データ入力!$D$15","v":0},{"$f":"②基本データ入力!$D$11","v":0},{"$f":"②基本データ入力!$D$13","v":"全日制"}]
[5,{"$f":"②基本データ入力!$D$15","v":0},{"$f":"②基本データ入力!$D$11","v":0},{"$f":"②基本データ入力!$D$13","v":"全日制"}]
[6,{"$f":"②基本データ入力!$D$15","v":0},{"$f":"②基本データ入力!$D$11","v":0},{"$f":"②基本データ入力!$D$13","v":"全日制"}]
[7,{"$f":"②基本データ入力!$D$15","v":0},{"$f":"②基本データ入力!$D$11","v":0},{"$f":"②基本データ入力!$D$13","v":"全日制"}]
[8,{"$f":"②基本データ入力!$D$15","v":0},{"$f":"②基本データ入力!$D$11","v":0},{"$f":"②基本データ入力!$D$13","v":"全日制"}]
[9,{"$f":"②基本データ入力!$D$15","v":0},{"$f":"②基本データ入力!$D$11","v":0},{"$f":"②基本データ入力!$D$13","v":"全日制"}]
[10,{"$f":"②基本データ入力!$D$15","v":0},{"$f":"②基本データ入力!$D$11","v":0},{"$f":"②基本データ入力!$D$13","v":"全日制"}]
[11,{"$f":"②基本データ入力!$D$15","v":0},{"$f":"②基本データ入力!$D$11","v":0},{"$f":"②基本データ入力!$D$13","v":"全日制"}]
[12,{"$f":"②基本データ入力!$D$15","v":0},{"$f":"②基本データ入力!$D$11","v":0},{"$f":"②基本データ入力!$D$13","v":"全日制"}]
[13,{"$f":"②基本データ入力!$D$15","v":0},{"$f":"②基本データ入力!$D$11","v":0},{"$f":"②基本データ入力!$D$13","v":"全日制"}]
[14,{"$f":"②基本データ入力!$D$15","v":0},{"$f":"②基本データ入力!$D$11","v":0},{"$f":"②基本データ入力!$D$13","v":"全日制"}]
[15,{"$f":"②基本データ入力!$D$15","v":0},{"$f":"②基本データ入力!$D$11","v":0},{"$f":"②基本データ入力!$D$13","v":"全日制"}]
[16,{"$f":"②基本データ入力!$D$15","v":0},{"$f":"②基本データ入力!$D$11","v":0},{"$f":"②基本データ入力!$D$13","v":"全日制"}]
[17,{"$f":"②基本データ入力!$D$15","v":0},{"$f":"②基本データ入力!$D$11","v":0},{"$f":"②基本データ入力!$D$13","v":"全日制"}]
[18,{"$f":"②基本データ入力!$D$15","v":0},{"$f":"②基本データ入力!$D$11","v":0},{"$f":"②基本データ入力!$D$13","v":"全日制"}]
[19,{"$f":"②基本データ入力!$D$15","v":0},{"$f":"②基本データ入力!$D$11","v":0},{"$f":"②基本データ入力!$D$13","v":"全日制"}]
[20,{"$f":"②基本データ入力!$D$15","v":0},{"$f":"②基本データ入力!$D$11","v":0},{"$f":"②基本データ入力!$D$13","v":"全日制"}]
[]
[]
[]
[]
[]
[]
[]
[null,null,null,null,"※教科にあるそれぞれの取込ボタンを押すと、③加入者名簿のシートから、該当の教科を選んだ教職員が取り込まれます。取込ボタンで取り込んだデータは、この下に記載されます。ここに、取り込んだ教員名は削除しても問題ありません。再度、取り込むことで同じ結果が得られます。\n\n※マクロを設定していますので、NEINのメール等で送信すると、無害化処理により、削除されてしまいます。なので、統合型校務支援システムのメッセージ機能で送るのがいいと思います。これもテストを行ってください。"]

{"sheet":"会費取込","index":7,"n_rows":101,"n_cols":11,"rows_kept":101,"cut":false,"hidden":false,"merged":[]}
["番号","学番","所属名","課程","氏名","職名","金額","役職名","担当教科","申込区分","備考"]
[1,{"$f":"②基本データ入力!$D$15","v":0},{"$f":"②基本データ入力!$D$11","v":0},{"$f":"②基本データ入力!$D$13","v":"全日制"},{"$f":"③加入者名簿!C7","v":0},{"$f":"③加入者名簿!F7","v":0},{"$f":"③加入者名簿!X7","v":""},{"$f":"③加入者名簿!Y7","v":0},{"$f":"③加入者名簿!Z7","v":0},{"$f":"③加入者名簿!AB7","v":""},{"$f":"③加入者名簿!AC7","v":0}]
[2,{"$f":"②基本データ入力!$D$15","v":0},{"$f":"②基本データ入力!$D$11","v":0},{"$f":"②基本データ入力!$D$13","v":"全日制"},{"$f":"③加入者名簿!C8","v":0},{"$f":"③加入者名簿!F8","v":0},{"$f":"③加入者名簿!X8","v":""},{"$f":"③加入者名簿!Y8","v":0},{"$f":"③加入者名簿!Z8","v":0},{"$f":"③加入者名簿!AB8","v":""},{"$f":"③加入者名簿!AC8","v":0}]
[3,{"$f":"②基本データ入力!$D$15","v":0},{"$f":"②基本データ入力!$D$11","v":0},{"$f":"②基本データ入力!$D$13","v":"全日制"},{"$f":"③加入者名簿!C9","v":0},{"$f":"③加入者名簿!F9","v":0},{"$f":"③加入者名簿!X9","v":""},{"$f":"③加入者名簿!Y9","v":0},{"$f":"③加入者名簿!Z9","v":0},{"$f":"③加入者名簿!AB9","v":""},{"$f":"③加入者名簿!AC9","v":0}]
[4,{"$f":"②基本データ入力!$D$15","v":0},{"$f":"②基本データ入力!$D$11","v":0},{"$f":"②基本データ入力!$D$13","v":"全日制"},{"$f":"③加入者名簿!C10","v":0},{"$f":"③加入者名簿!F10","v":0},{"$f":"③加入者名簿!X10","v":""},{"$f":"③加入者名簿!Y10","v":0},{"$f":"③加入者名簿!Z10","v":0},{"$f":"③加入者名簿!AB10","v":""},{"$f":"③加入者名簿!AC10","v":0}]
[5,{"$f":"②基本データ入力!$D$15","v":0},{"$f":"②基本データ入力!$D$11","v":0},{"$f":"②基本データ入力!$D$13","v":"全日制"},{"$f":"③加入者名簿!C11","v":0},{"$f":"③加入者名簿!F11","v":0},{"$f":"③加入者名簿!X11","v":""},{"$f":"③加入者名簿!Y11","v":0},{"$f":"③加入者名簿!Z11","v":0},{"$f":"③加入者名簿!AB11","v":""},{"$f":"③加入者名簿!AC11","v":0}]
[6,{"$f":"②基本データ入力!$D$15","v":0},{"$f":"②基本データ入力!$D$11","v":0},{"$f":"②基本データ入力!$D$13","v":"全日制"},{"$f":"③加入者名簿!C12","v":0},{"$f":"③加入者名簿!F12","v":0},{"$f":"③加入者名簿!X12","v":""},{"$f":"③加入者名簿!Y12","v":0},{"$f":"③加入者名簿!Z12","v":0},{"$f":"③加入者名簿!AB12","v":""},{"$f":"③加入者名簿!AC12","v":0}]
[7,{"$f":"②基本データ入力!$D$15","v":0},{"$f":"②基本データ入力!$D$11","v":0},{"$f":"②基本データ入力!$D$13","v":"全日制"},{"$f":"③加入者名簿!C13","v":0},{"$f":"③加入者名簿!F13","v":0},{"$f":"③加入者名簿!X13","v":""},{"$f":"③加入者名簿!Y13","v":0},{"$f":"③加入者名簿!Z13","v":0},{"$f":"③加入者名簿!AB13","v":""},{"$f":"③加入者名簿!AC13","v":0}]
[8,{"$f":"②基本データ入力!$D$15","v":0},{"$f":"②基本データ入力!$D$11","v":0},{"$f":"②基本データ入力!$D$13","v":"全日制"},{"$f":"③加入者名簿!C14","v":0},{"$f":"③加入者名簿!F14","v":0},{"$f":"③加入者名簿!X14","v":""},{"$f":"③加入者名簿!Y14","v":0},{"$f":"③加入者名簿!Z14","v":0},{"$f":"③加入者名簿!AB14","v":""},{"$f":"③加入者名簿!AC14","v":0}]
[9,{"$f":"②基本データ入力!$D$15","v":0},{"$f":"②基本データ入力!$D$11","v":0},{"$f":"②基本データ入力!$D$13","v":"全日制"},{"$f":"③加入者名簿!C15","v":0},{"$f":"③加入者名簿!F15","v":0},{"$f":"③加入者名簿!X15","v":""},{"$f":"③加入者名簿!Y15","v":0},{"$f":"③加入者名簿!Z15","v":0},{"$f":"③加入者名簿!AB15","v":""},{"$f":"③加入者名簿!AC15","v":0}]
[10,{"$f":"②基本データ入力!$D$15","v":0},{"$f":"②基本データ入力!$D$11","v":0},{"$f":"②基本データ入力!$D$13","v":"全日制"},{"$f":"③加入者名簿!C16","v":0},{"$f":"③加入者名簿!F16","v":0},{"$f":"③加入者名簿!X16","v":""},{"$f":"③加入者名簿!Y16","v":0},{"$f":"③加入者名簿!Z16","v":0},{"$f":"③加入者名簿!AB16","v":""},{"$f":"③加入者名簿!AC16","v":0}]
[11,{"$f":"②基本データ入力!$D$15","v":0},{"$f":"②基本データ入力!$D$11","v":0},{"$f":"②基本データ入力!$D$13","v":"全日制"},{"$f":"③加入者名簿!C17","v":0},{"$f":"③加入者名簿!F17","v":0},{"$f":"③加入者名簿!X17","v":""},{"$f":"③加入者名簿!Y17","v":0},{"$f":"③加入者名簿!Z17","v":0},{"$f":"③加入者名簿!AB17","v":""},{"$f":"③加入者名簿!AC17","v":0}]
[12,{"$f":"②基本データ入力!$D$15","v":0},{"$f":"②基本データ入力!$D$11","v":0},{"$f":"②基本データ入力!$D$13","v":"全日制"},{"$f":"③加入者名簿!C18","v":0},{"$f":"③加入者名簿!F18","v":0},{"$f":"③加入者名簿!X18","v":""},{"$f":"③加入者名簿!Y18","v":0},{"$f":"③加入者名簿!Z18","v":0},{"$f":"③加入者名簿!AB18","v":""},{"$f":"③加入者名簿!AC18","v":0}]
[13,{"$f":"②基本データ入力!$D$15","v":0},{"$f":"②基本データ入力!$D$11","v":0},{"$f":"②基本データ入力!$D$13","v":"全日制"},{"$f":"③加入者名簿!C19","v":0},{"$f":"③加入者名簿!F19","v":0},{"$f":"③加入者名簿!X19","v":""},{"$f":"③加入者名簿!Y19","v":0},{"$f":"③加入者名簿!Z19","v":0},{"$f":"③加入者名簿!AB19","v":""},{"$f":"③加入者名簿!AC19","v":0}]
[14,{"$f":"②基本データ入力!$D$15","v":0},{"$f":"②基本データ入力!$D$11","v":0},{"$f":"②基本データ入力!$D$13","v":"全日制"},{"$f":"③加入者名簿!C20","v":0},{"$f":"③加入者名簿!F20","v":0},{"$f":"③加入者名簿!X20","v":""},{"$f":"③加入者名簿!Y20","v":0},{"$f":"③加入者名簿!Z20","v":0},{"$f":"③加入者名簿!AB20","v":""},{"$f":"③加入者名簿!AC20","v":0}]
[15,{"$f":"②基本データ入力!$D$15","v":0},{"$f":"②基本データ入力!$D$11","v":0},{"$f":"②基本データ入力!$D$13","v":"全日制"},{"$f":"③加入者名簿!C21","v":0},{"$f":"③加入者名簿!F21","v":0},{"$f":"③加入者名簿!X21","v":""},{"$f":"③加入者名簿!Y21","v":0},{"$f":"③加入者名簿!Z21","v":0},{"$f":"③加入者名簿!AB21","v":""},{"$f":"③加入者名簿!AC21","v":0}]
[16,{"$f":"②基本データ入力!$D$15","v":0},{"$f":"②基本データ入力!$D$11","v":0},{"$f":"②基本データ入力!$D$13","v":"全日制"},{"$f":"③加入者名簿!C22","v":0},{"$f":"③加入者名簿!F22","v":0},{"$f":"③加入者名簿!X22","v":""},{"$f":"③加入者名簿!Y22","v":0},{"$f":"③加入者名簿!Z22","v":0},{"$f":"③加入者名簿!AB22","v":""},{"$f":"③加入者名簿!AC22","v":0}]
[17,{"$f":"②基本データ入力!$D$15","v":0},{"$f":"②基本データ入力!$D$11","v":0},{"$f":"②基本データ入力!$D$13","v":"全日制"},{"$f":"③加入者名簿!C23","v":0},{"$f":"③加入者名簿!F23","v":0},{"$f":"③加入者名簿!X23","v":""},{"$f":"③加入者名簿!Y23","v":0},{"$f":"③加入者名簿!Z23","v":0},{"$f":"③加入者名簿!AB23","v":""},{"$f":"③加入者名簿!AC23","v":0}]
[18,{"$f":"②基本データ入力!$D$15","v":0},{"$f":"②基本データ入力!$D$11","v":0},{"$f":"②基本データ入力!$D$13","v":"全日制"},{"$f":"③加入者名簿!C24","v":0},{"$f":"③加入者名簿!F24","v":0},{"$f":"③加入者名簿!X24","v":""},{"$f":"③加入者名簿!Y24","v":0},{"$f":"③加入者名簿!Z24","v":0},{"$f":"③加入者名簿!AB24","v":""},{"$f":"③加入者名簿!AC24","v":0}]
[19,{"$f":"②基本データ入力!$D$15","v":0},{"$f":"②基本データ入力!$D$11","v":0},{"$f":"②基本データ入力!$D$13","v":"全日制"},{"$f":"③加入者名簿!C25","v":0},{"$f":"③加入者名簿!F25","v":0},{"$f":"③加入者名簿!X25","v":""},{"$f":"③加入者名簿!Y25","v":0},{"$f":"③加入者名簿!Z25","v":0},{"$f":"③加入者名簿!AB25","v":""},{"$f":"③加入者名簿!AC25","v":0}]
[20,{"$f":"②基本データ入力!$D$15","v":0},{"$f":"②基本データ入力!$D$11","v":0},{"$f":"②基本データ入力!$D$13","v":"全日制"},{"$f":"③加入者名簿!C26","v":0},{"$f":"③加入者名簿!F26","v":0},{"$f":"③加入者名簿!X26","v":""},{"$f":"③加入者名簿!Y26","v":0},{"$f":"③加入者名簿!Z26","v":0},{"$f":"③加入者名簿!AB26","v":""},{"$f":"③加入者名簿!AC26","v":0}]
[21,{"$f":"②基本データ入力!$D$15","v":0},{"$f":"②基本データ入力!$D$11","v":0},{"$f":"②基本データ入力!$D$13","v":"全日制"},{"$f":"③加入者名簿!C27","v":0},{"$f":"③加入者名簿!F27","v":0},{"$f":"③加入者名簿!X27","v":""},{"$f":"③加入者名簿!Y27","v":0},{"$f":"③加入者名簿!Z27","v":0},{"$f":"③加入者名簿!AB27","v":""},{"$f":"③加入者名簿!AC27","v":0}]
[22,{"$f":"②基本データ入力!$D$15","v":0},{"$f":"②基本データ入力!$D$11","v":0},{"$f":"②基本データ入力!$D$13","v":"全日制"},{"$f":"③加入者名簿!C28","v":0},{"$f":"③加入者名簿!F28","v":0},{"$f":"③加入者名簿!X28","v":""},{"$f":"③加入者名簿!Y28","v":0},{"$f":"③加入者名簿!Z28","v":0},{"$f":"③加入者名簿!AB28","v":""},{"$f":"③加入者名簿!AC28","v":0}]
[23,{"$f":"②基本データ入力!$D$15","v":0},{"$f":"②基本データ入力!$D$11","v":0},{"$f":"②基本データ入力!$D$13","v":"全日制"},{"$f":"③加入者名簿!C29","v":0},{"$f":"③加入者名簿!F29","v":0},{"$f":"③加入者名簿!X29","v":""},{"$f":"③加入者名簿!Y29","v":0},{"$f":"③加入者名簿!Z29","v":0},{"$f":"③加入者名簿!AB29","v":""},{"$f":"③加入者名簿!AC29","v":0}]
[24,{"$f":"②基本データ入力!$D$15","v":0},{"$f":"②基本データ入力!$D$11","v":0},{"$f":"②基本データ入力!$D$13","v":"全日制"},{"$f":"③加入者名簿!C30","v":0},{"$f":"③加入者名簿!F30","v":0},{"$f":"③加入者名簿!X30","v":""},{"$f":"③加入者名簿!Y30","v":0},{"$f":"③加入者名簿!Z30","v":0},{"$f":"③加入者名簿!AB30","v":""},{"$f":"③加入者名簿!AC30","v":0}]
[25,{"$f":"②基本データ入力!$D$15","v":0},{"$f":"②基本データ入力!$D$11","v":0},{"$f":"②基本データ入力!$D$13","v":"全日制"},{"$f":"③加入者名簿!C31","v":0},{"$f":"③加入者名簿!F31","v":0},{"$f":"③加入者名簿!X31","v":""},{"$f":"③加入者名簿!Y31","v":0},{"$f":"③加入者名簿!Z31","v":0},{"$f":"③加入者名簿!AB31","v":""},{"$f":"③加入者名簿!AC31","v":0}]
[26,{"$f":"②基本データ入力!$D$15","v":0},{"$f":"②基本データ入力!$D$11","v":0},{"$f":"②基本データ入力!$D$13","v":"全日制"},{"$f":"③加入者名簿!C32","v":0},{"$f":"③加入者名簿!F32","v":0},{"$f":"③加入者名簿!X32","v":""},{"$f":"③加入者名簿!Y32","v":0},{"$f":"③加入者名簿!Z32","v":0},{"$f":"③加入者名簿!AB32","v":""},{"$f":"③加入者名簿!AC32","v":0}]
[27,{"$f":"②基本データ入力!$D$15","v":0},{"$f":"②基本データ入力!$D$11","v":0},{"$f":"②基本データ入力!$D$13","v":"全日制"},{"$f":"③加入者名簿!C33","v":0},{"$f":"③加入者名簿!F33","v":0},{"$f":"③加入者名簿!X33","v":""},{"$f":"③加入者名簿!Y33","v":0},{"$f":"③加入者名簿!Z33","v":0},{"$f":"③加入者名簿!AB33","v":""},{"$f":"③加入者名簿!AC33","v":0}]
[28,{"$f":"②基本データ入力!$D$15","v":0},{"$f":"②基本データ入力!$D$11","v":0},{"$f":"②基本データ入力!$D$13","v":"全日制"},{"$f":"③加入者名簿!C34","v":0},{"$f":"③加入者名簿!F34","v":0},{"$f":"③加入者名簿!X34","v":""},{"$f":"③加入者名簿!Y34","v":0},{"$f":"③加入者名簿!Z34","v":0},{"$f":"③加入者名簿!AB34","v":""},{"$f":"③加入者名簿!AC34","v":0}]
[29,{"$f":"②基本データ入力!$D$15","v":0},{"$f":"②基本データ入力!$D$11","v":0},{"$f":"②基本データ入力!$D$13","v":"全日制"},{"$f":"③加入者名簿!C35","v":0},{"$f":"③加入者名簿!F35","v":0},{"$f":"③加入者名簿!X35","v":""},{"$f":"③加入者名簿!Y35","v":0},{"$f":"③加入者名簿!Z35","v":0},{"$f":"③加入者名簿!AB35","v":""},{"$f":"③加入者名簿!AC35","v":0}]
[30,{"$f":"②基本データ入力!$D$15","v":0},{"$f":"②基本データ入力!$D$11","v":0},{"$f":"②基本データ入力!$D$13","v":"全日制"},{"$f":"③加入者名簿!C36","v":0},{"$f":"③加入者名簿!F36","v":0},{"$f":"③加入者名簿!X36","v":""},{"$f":"③加入者名簿!Y36","v":0},{"$f":"③加入者名簿!Z36","v":0},{"$f":"③加入者名簿!AB36","v":""},{"$f":"③加入者名簿!AC36","v":0}]
[31,{"$f":"②基本データ入力!$D$15","v":0},{"$f":"②基本データ入力!$D$11","v":0},{"$f":"②基本データ入力!$D$13","v":"全日制"},{"$f":"③加入者名簿!C37","v":0},{"$f":"③加入者名簿!F37","v":0},{"$f":"③加入者名簿!X37","v":""},{"$f":"③加入者名簿!Y37","v":0},{"$f":"③加入者名簿!Z37","v":0},{"$f":"③加入者名簿!AB37","v":""},{"$f":"③加入者名簿!AC37","v":0}]
[32,{"$f":"②基本データ入力!$D$15","v":0},{"$f":"②基本データ入力!$D$11","v":0},{"$f":"②基本データ入力!$D$13","v":"全日制"},{"$f":"③加入者名簿!C38","v":0},{"$f":"③加入者名簿!F38","v":0},{"$f":"③加入者名簿!X38","v":""},{"$f":"③加入者名簿!Y38","v":0},{"$f":"③加入者名簿!Z38","v":0},{"$f":"③加入者名簿!AB38","v":""},{"$f":"③加入者名簿!AC38","v":0}]
[33,{"$f":"②基本データ入力!$D$15","v":0},{"$f":"②基本データ入力!$D$11","v":0},{"$f":"②基本データ入力!$D$13","v":"全日制"},{"$f":"③加入者名簿!C39","v":0},{"$f":"③加入者名簿!F39","v":0},{"$f":"③加入者名簿!X39","v":""},{"$f":"③加入者名簿!Y39","v":0},{"$f":"③加入者名簿!Z39","v":0},{"$f":"③加入者名簿!AB39","v":""},{"$f":"③加入者名簿!AC39","v":0}]
[34,{"$f":"②基本データ入力!$D$15","v":0},{"$f":"②基本データ入力!$D$11","v":0},{"$f":"②基本データ入力!$D$13","v":"全日制"},{"$f":"③加入者名簿!C40","v":0},{"$f":"③加入者名簿!F40","v":0},{"$f":"③加入者名簿!X40","v":""},{"$f":"③加入者名簿!Y40","v":0},{"$f":"③加入者名簿!Z40","v":0},{"$f":"③加入者名簿!AB40","v":""},{"$f":"③加入者名簿!AC40","v":0}]
[35,{"$f":"②基本データ入力!$D$15","v":0},{"$f":"②基本データ入力!$D$11","v":0},{"$f":"②基本データ入力!$D$13","v":"全日制"},{"$f":"③加入者名簿!C41","v":0},{"$f":"③加入者名簿!F41","v":0},{"$f":"③加入者名簿!X41","v":""},{"$f":"③加入者名簿!Y41","v":0},{"$f":"③加入者名簿!Z41","v":0},{"$f":"③加入者名簿!AB41","v":""},{"$f":"③加入者名簿!AC41","v":0}]
[36,{"$f":"②基本データ入力!$D$15","v":0},{"$f":"②基本データ入力!$D$11","v":0},{"$f":"②基本データ入力!$D$13","v":"全日制"},{"$f":"③加入者名簿!C42","v":0},{"$f":"③加入者名簿!F42","v":0},{"$f":"③加入者名簿!X42","v":""},{"$f":"③加入者名簿!Y42","v":0},{"$f":"③加入者名簿!Z42","v":0},{"$f":"③加入者名簿!AB42","v":""},{"$f":"③加入者名簿!AC42","v":0}]
[37,{"$f":"②基本データ入力!$D$15","v":0},{"$f":"②基本データ入力!$D$11","v":0},{"$f":"②基本データ入力!$D$13","v":"全日制"},{"$f":"③加入者名簿!C43","v":0},{"$f":"③加入者名簿!F43","v":0},{"$f":"③加入者名簿!X43","v":""},{"$f":"③加入者名簿!Y43","v":0},{"$f":"③加入者名簿!Z43","v":0},{"$f":"③加入者名簿!AB43","v":""},{"$f":"③加入者名簿!AC43","v":0}]
[38,{"$f":"②基本データ入力!$D$15","v":0},{"$f":"②基本データ入力!$D$11","v":0},{"$f":"②基本データ入力!$D$13","v":"全日制"},{"$f":"③加入者名簿!C44","v":0},{"$f":"③加入者名簿!F44","v":0},{"$f":"③加入者名簿!X44","v":""},{"$f":"③加入者名簿!Y44","v":0},{"$f":"③加入者名簿!Z44","v":0},{"$f":"③加入者名簿!AB44","v":""},{"$f":"③加入者名簿!AC44","v":0}]
[39,{"$f":"②基本データ入力!$D$15","v":0},{"$f":"②基本データ入力!$D$11","v":0},{"$f":"②基本データ入力!$D$13","v":"全日制"},{"$f":"③加入者名簿!C45","v":0},{"$f":"③加入者名簿!F45","v":0},{"$f":"③加入者名簿!X45","v":""},{"$f":"③加入者名簿!Y45","v":0},{"$f":"③加入者名簿!Z45","v":0},{"$f":"③加入者名簿!AB45","v":""},{"$f":"③加入者名簿!AC45","v":0}]
[40,{"$f":"②基本データ入力!$D$15","v":0},{"$f":"②基本データ入力!$D$11","v":0},{"$f":"②基本データ入力!$D$13","v":"全日制"},{"$f":"③加入者名簿!C46","v":0},{"$f":"③加入者名簿!F46","v":0},{"$f":"③加入者名簿!X46","v":""},{"$f":"③加入者名簿!Y46","v":0},{"$f":"③加入者名簿!Z46","v":0},{"$f":"③加入者名簿!AB46","v":""},{"$f":"③加入者名簿!AC46","v":0}]
[41,{"$f":"②基本データ入力!$D$15","v":0},{"$f":"②基本データ入力!$D$11","v":0},{"$f":"②基本データ入力!$D$13","v":"全日制"},{"$f":"③加入者名簿!C47","v":0},{"$f":"③加入者名簿!F47","v":0},{"$f":"③加入者名簿!X47","v":""},{"$f":"③加入者名簿!Y47","v":0},{"$f":"③加入者名簿!Z47","v":0},{"$f":"③加入者名簿!AB47","v":""},{"$f":"③加入者名簿!AC47","v":0}]
[42,{"$f":"②基本データ入力!$D$15","v":0},{"$f":"②基本データ入力!$D$11","v":0},{"$f":"②基本データ入力!$D$13","v":"全日制"},{"$f":"③加入者名簿!C48","v":0},{"$f":"③加入者名簿!F48","v":0},{"$f":"③加入者名簿!X48","v":""},{"$f":"③加入者名簿!Y48","v":0},{"$f":"③加入者名簿!Z48","v":0},{"$f":"③加入者名簿!AB48","v":""},{"$f":"③加入者名簿!AC48","v":0}]
[43,{"$f":"②基本データ入力!$D$15","v":0},{"$f":"②基本データ入力!$D$11","v":0},{"$f":"②基本データ入力!$D$13","v":"全日制"},{"$f":"③加入者名簿!C49","v":0},{"$f":"③加入者名簿!F49","v":0},{"$f":"③加入者名簿!X49","v":""},{"$f":"③加入者名簿!Y49","v":0},{"$f":"③加入者名簿!Z49","v":0},{"$f":"③加入者名簿!AB49","v":""},{"$f":"③加入者名簿!AC49","v":0}]
[44,{"$f":"②基本データ入力!$D$15","v":0},{"$f":"②基本データ入力!$D$11","v":0},{"$f":"②基本データ入力!$D$13","v":"全日制"},{"$f":"③加入者名簿!C50","v":0},{"$f":"③加入者名簿!F50","v":0},{"$f":"③加入者名簿!X50","v":""},{"$f":"③加入者名簿!Y50","v":0},{"$f":"③加入者名簿!Z50","v":0},{"$f":"③加入者名簿!AB50","v":""},{"$f":"③加入者名簿!AC50","v":0}]
[45,{"$f":"②基本データ入力!$D$15","v":0},{"$f":"②基本データ入力!$D$11","v":0},{"$f":"②基本データ入力!$D$13","v":"全日制"},{"$f":"③加入者名簿!C51","v":0},{"$f":"③加入者名簿!F51","v":0},{"$f":"③加入者名簿!X51","v":""},{"$f":"③加入者名簿!Y51","v":0},{"$f":"③加入者名簿!Z51","v":0},{"$f":"③加入者名簿!AB51","v":""},{"$f":"③加入者名簿!AC51","v":0}]
[46,{"$f":"②基本データ入力!$D$15","v":0},{"$f":"②基本データ入力!$D$11","v":0},{"$f":"②基本データ入力!$D$13","v":"全日制"},{"$f":"③加入者名簿!C52","v":0},{"$f":"③加入者名簿!F52","v":0},{"$f":"③加入者名簿!X52","v":""},{"$f":"③加入者名簿!Y52","v":0},{"$f":"③加入者名簿!Z52","v":0},{"$f":"③加入者名簿!AB52","v":""},{"$f":"③加入者名簿!AC52","v":0}]
[47,{"$f":"②基本データ入力!$D$15","v":0},{"$f":"②基本データ入力!$D$11","v":0},{"$f":"②基本データ入力!$D$13","v":"全日制"},{"$f":"③加入者名簿!C53","v":0},{"$f":"③加入者名簿!F53","v":0},{"$f":"③加入者名簿!X53","v":""},{"$f":"③加入者名簿!Y53","v":0},{"$f":"③加入者名簿!Z53","v":0},{"$f":"③加入者名簿!AB53","v":""},{"$f":"③加入者名簿!AC53","v":0}]
[48,{"$f":"②基本データ入力!$D$15","v":0},{"$f":"②基本データ入力!$D$11","v":0},{"$f":"②基本データ入力!$D$13","v":"全日制"},{"$f":"③加入者名簿!C54","v":0},{"$f":"③加入者名簿!F54","v":0},{"$f":"③加入者名簿!X54","v":""},{"$f":"③加入者名簿!Y54","v":0},{"$f":"③加入者名簿!Z54","v":0},{"$f":"③加入者名簿!AB54","v":""},{"$f":"③加入者名簿!AC54","v":0}]
[49,{"$f":"②基本データ入力!$D$15","v":0},{"$f":"②基本データ入力!$D$11","v":0},{"$f":"②基本データ入力!$D$13","v":"全日制"},{"$f":"③加入者名簿!C55","v":0},{"$f":"③加入者名簿!F55","v":0},{"$f":"③加入者名簿!X55","v":""},{"$f":"③加入者名簿!Y55","v":0},{"$f":"③加入者名簿!Z55","v":0},{"$f":"③加入者名簿!AB55","v":""},{"$f":"③加入者名簿!AC55","v":0}]
[50,{"$f":"②基本データ入力!$D$15","v":0},{"$f":"②基本データ入力!$D$11","v":0},{"$f":"②基本データ入力!$D$13","v":"全日制"},{"$f":"③加入者名簿!C56","v":0},{"$f":"③加入者名簿!F56","v":0},{"$f":"③加入者名簿!X56","v":""},{"$f":"③加入者名簿!Y56","v":0},{"$f":"③加入者名簿!Z56","v":0},{"$f":"③加入者名簿!AB56","v":""},{"$f":"③加入者名簿!AC56","v":0}]
[51,{"$f":"②基本データ入力!$D$15","v":0},{"$f":"②基本データ入力!$D$11","v":0},{"$f":"②基本データ入力!$D$13","v":"全日制"},{"$f":"③加入者名簿!C57","v":0},{"$f":"③加入者名簿!F57","v":0},{"$f":"③加入者名簿!X57","v":""},{"$f":"③加入者名簿!Y57","v":0},{"$f":"③加入者名簿!Z57","v":0},{"$f":"③加入者名簿!AB57","v":""},{"$f":"③加入者名簿!AC57","v":0}]
[52,{"$f":"②基本データ入力!$D$15","v":0},{"$f":"②基本データ入力!$D$11","v":0},{"$f":"②基本データ入力!$D$13","v":"全日制"},{"$f":"③加入者名簿!C58","v":0},{"$f":"③加入者名簿!F58","v":0},{"$f":"③加入者名簿!X58","v":""},{"$f":"③加入者名簿!Y58","v":0},{"$f":"③加入者名簿!Z58","v":0},{"$f":"③加入者名簿!AB58","v":""},{"$f":"③加入者名簿!AC58","v":0}]
[53,{"$f":"②基本データ入力!$D$15","v":0},{"$f":"②基本データ入力!$D$11","v":0},{"$f":"②基本データ入力!$D$13","v":"全日制"},{"$f":"③加入者名簿!C59","v":0},{"$f":"③加入者名簿!F59","v":0},{"$f":"③加入者名簿!X59","v":""},{"$f":"③加入者名簿!Y59","v":0},{"$f":"③加入者名簿!Z59","v":0},{"$f":"③加入者名簿!AB59","v":""},{"$f":"③加入者名簿!AC59","v":0}]
[54,{"$f":"②基本データ入力!$D$15","v":0},{"$f":"②基本データ入力!$D$11","v":0},{"$f":"②基本データ入力!$D$13","v":"全日制"},{"$f":"③加入者名簿!C60","v":0},{"$f":"③加入者名簿!F60","v":0},{"$f":"③加入者名簿!X60","v":""},{"$f":"③加入者名簿!Y60","v":0},{"$f":"③加入者名簿!Z60","v":0},{"$f":"③加入者名簿!AB60","v":""},{"$f":"③加入者名簿!AC60","v":0}]
[55,{"$f":"②基本データ入力!$D$15","v":0},{"$f":"②基本データ入力!$D$11","v":0},{"$f":"②基本データ入力!$D$13","v":"全日制"},{"$f":"③加入者名簿!C61","v":0},{"$f":"③加入者名簿!F61","v":0},{"$f":"③加入者名簿!X61","v":""},{"$f":"③加入者名簿!Y61","v":0},{"$f":"③加入者名簿!Z61","v":0},{"$f":"③加入者名簿!AB61","v":""},{"$f":"③加入者名簿!AC61","v":0}]
[56,{"$f":"②基本データ入力!$D$15","v":0},{"$f":"②基本データ入力!$D$11","v":0},{"$f":"②基本データ入力!$D$13","v":"全日制"},{"$f":"③加入者名簿!C62","v":0},{"$f":"③加入者名簿!F62","v":0},{"$f":"③加入者名簿!X62","v":""},{"$f":"③加入者名簿!Y62","v":0},{"$f":"③加入者名簿!Z62","v":0},{"$f":"③加入者名簿!AB62","v":""},{"$f":"③加入者名簿!AC62","v":0}]
[57,{"$f":"②基本データ入力!$D$15","v":0},{"$f":"②基本データ入力!$D$11","v":0},{"$f":"②基本データ入力!$D$13","v":"全日制"},{"$f":"③加入者名簿!C63","v":0},{"$f":"③加入者名簿!F63","v":0},{"$f":"③加入者名簿!X63","v":""},{"$f":"③加入者名簿!Y63","v":0},{"$f":"③加入者名簿!Z63","v":0},{"$f":"③加入者名簿!AB63","v":""},{"$f":"③加入者名簿!AC63","v":0}]
[58,{"$f":"②基本データ入力!$D$15","v":0},{"$f":"②基本データ入力!$D$11","v":0},{"$f":"②基本データ入力!$D$13","v":"全日制"},{"$f":"③加入者名簿!C64","v":0},{"$f":"③加入者名簿!F64","v":0},{"$f":"③加入者名簿!X64","v":""},{"$f":"③加入者名簿!Y64","v":0},{"$f":"③加入者名簿!Z64","v":0},{"$f":"③加入者名簿!AB64","v":""},{"$f":"③加入者名簿!AC64","v":0}]
[59,{"$f":"②基本データ入力!$D$15","v":0},{"$f":"②基本データ入力!$D$11","v":0},{"$f":"②基本データ入力!$D$13","v":"全日制"},{"$f":"③加入者名簿!C65","v":0},{"$f":"③加入者名簿!F65","v":0},{"$f":"③加入者名簿!X65","v":""},{"$f":"③加入者名簿!Y65","v":0},{"$f":"③加入者名簿!Z65","v":0},{"$f":"③加入者名簿!AB65","v":""},{"$f":"③加入者名簿!AC65","v":0}]
[60,{"$f":"②基本データ入力!$D$15","v":0},{"$f":"②基本データ入力!$D$11","v":0},{"$f":"②基本データ入力!$D$13","v":"全日制"},{"$f":"③加入者名簿!C66","v":0},{"$f":"③加入者名簿!F66","v":0},{"$f":"③加入者名簿!X66","v":""},{"$f":"③加入者名簿!Y66","v":0},{"$f":"③加入者名簿!Z66","v":0},{"$f":"③加入者名簿!AB66","v":""},{"$f":"③加入者名簿!AC66","v":0}]
[61,{"$f":"②基本データ入力!$D$15","v":0},{"$f":"②基本データ入力!$D$11","v":0},{"$f":"②基本データ入力!$D$13","v":"全日制"},{"$f":"③加入者名簿!C67","v":0},{"$f":"③加入者名簿!F67","v":0},{"$f":"③加入者名簿!X67","v":""},{"$f":"③加入者名簿!Y67","v":0},{"$f":"③加入者名簿!Z67","v":0},{"$f":"③加入者名簿!AB67","v":""},{"$f":"③加入者名簿!AC67","v":0}]
[62,{"$f":"②基本データ入力!$D$15","v":0},{"$f":"②基本データ入力!$D$11","v":0},{"$f":"②基本データ入力!$D$13","v":"全日制"},{"$f":"③加入者名簿!C68","v":0},{"$f":"③加入者名簿!F68","v":0},{"$f":"③加入者名簿!X68","v":""},{"$f":"③加入者名簿!Y68","v":0},{"$f":"③加入者名簿!Z68","v":0},{"$f":"③加入者名簿!AB68","v":""},{"$f":"③加入者名簿!AC68","v":0}]
[63,{"$f":"②基本データ入力!$D$15","v":0},{"$f":"②基本データ入力!$D$11","v":0},{"$f":"②基本データ入力!$D$13","v":"全日制"},{"$f":"③加入者名簿!C69","v":0},{"$f":"③加入者名簿!F69","v":0},{"$f":"③加入者名簿!X69","v":""},{"$f":"③加入者名簿!Y69","v":0},{"$f":"③加入者名簿!Z69","v":0},{"$f":"③加入者名簿!AB69","v":""},{"$f":"③加入者名簿!AC69","v":0}]
[64,{"$f":"②基本データ入力!$D$15","v":0},{"$f":"②基本データ入力!$D$11","v":0},{"$f":"②基本データ入力!$D$13","v":"全日制"},{"$f":"③加入者名簿!C70","v":0},{"$f":"③加入者名簿!F70","v":0},{"$f":"③加入者名簿!X70","v":""},{"$f":"③加入者名簿!Y70","v":0},{"$f":"③加入者名簿!Z70","v":0},{"$f":"③加入者名簿!AB70","v":""},{"$f":"③加入者名簿!AC70","v":0}]
[65,{"$f":"②基本データ入力!$D$15","v":0},{"$f":"②基本データ入力!$D$11","v":0},{"$f":"②基本データ入力!$D$13","v":"全日制"},{"$f":"③加入者名簿!C71","v":0},{"$f":"③加入者名簿!F71","v":0},{"$f":"③加入者名簿!X71","v":""},{"$f":"③加入者名簿!Y71","v":0},{"$f":"③加入者名簿!Z71","v":0},{"$f":"③加入者名簿!AB71","v":""},{"$f":"③加入者名簿!AC71","v":0}]
[66,{"$f":"②基本データ入力!$D$15","v":0},{"$f":"②基本データ入力!$D$11","v":0},{"$f":"②基本データ入力!$D$13","v":"全日制"},{"$f":"③加入者名簿!C72","v":0},{"$f":"③加入者名簿!F72","v":0},{"$f":"③加入者名簿!X72","v":""},{"$f":"③加入者名簿!Y72","v":0},{"$f":"③加入者名簿!Z72","v":0},{"$f":"③加入者名簿!AB72","v":""},{"$f":"③加入者名簿!AC72","v":0}]
[67,{"$f":"②基本データ入力!$D$15","v":0},{"$f":"②基本データ入力!$D$11","v":0},{"$f":"②基本データ入力!$D$13","v":"全日制"},{"$f":"③加入者名簿!C73","v":0},{"$f":"③加入者名簿!F73","v":0},{"$f":"③加入者名簿!X73","v":""},{"$f":"③加入者名簿!Y73","v":0},{"$f":"③加入者名簿!Z73","v":0},{"$f":"③加入者名簿!AB73","v":""},{"$f":"③加入者名簿!AC73","v":0}]
[68,{"$f":"②基本データ入力!$D$15","v":0},{"$f":"②基本データ入力!$D$11","v":0},{"$f":"②基本データ入力!$D$13","v":"全日制"},{"$f":"③加入者名簿!C74","v":0},{"$f":"③加入者名簿!F74","v":0},{"$f":"③加入者名簿!X74","v":""},{"$f":"③加入者名簿!Y74","v":0},{"$f":"③加入者名簿!Z74","v":0},{"$f":"③加入者名簿!AB74","v":""},{"$f":"③加入者名簿!AC74","v":0}]
[69,{"$f":"②基本データ入力!$D$15","v":0},{"$f":"②基本データ入力!$D$11","v":0},{"$f":"②基本データ入力!$D$13","v":"全日制"},{"$f":"③加入者名簿!C75","v":0},{"$f":"③加入者名簿!F75","v":0},{"$f":"③加入者名簿!X75","v":""},{"$f":"③加入者名簿!Y75","v":0},{"$f":"③加入者名簿!Z75","v":0},{"$f":"③加入者名簿!AB75","v":""},{"$f":"③加入者名簿!AC75","v":0}]
[70,{"$f":"②基本データ入力!$D$15","v":0},{"$f":"②基本データ入力!$D$11","v":0},{"$f":"②基本データ入力!$D$13","v":"全日制"},{"$f":"③加入者名簿!C76","v":0},{"$f":"③加入者名簿!F76","v":0},{"$f":"③加入者名簿!X76","v":""},{"$f":"③加入者名簿!Y76","v":0},{"$f":"③加入者名簿!Z76","v":0},{"$f":"③加入者名簿!AB76","v":""},{"$f":"③加入者名簿!AC76","v":0}]
[71,{"$f":"②基本データ入力!$D$15","v":0},{"$f":"②基本データ入力!$D$11","v":0},{"$f":"②基本データ入力!$D$13","v":"全日制"},{"$f":"③加入者名簿!C77","v":0},{"$f":"③加入者名簿!F77","v":0},{"$f":"③加入者名簿!X77","v":""},{"$f":"③加入者名簿!Y77","v":0},{"$f":"③加入者名簿!Z77","v":0},{"$f":"③加入者名簿!AB77","v":""},{"$f":"③加入者名簿!AC77","v":0}]
[72,{"$f":"②基本データ入力!$D$15","v":0},{"$f":"②基本データ入力!$D$11","v":0},{"$f":"②基本データ入力!$D$13","v":"全日制"},{"$f":"③加入者名簿!C78","v":0},{"$f":"③加入者名簿!F78","v":0},{"$f":"③加入者名簿!X78","v":""},{"$f":"③加入者名簿!Y78","v":0},{"$f":"③加入者名簿!Z78","v":0},{"$f":"③加入者名簿!AB78","v":""},{"$f":"③加入者名簿!AC78","v":0}]
[73,{"$f":"②基本データ入力!$D$15","v":0},{"$f":"②基本データ入力!$D$11","v":0},{"$f":"②基本データ入力!$D$13","v":"全日制"},{"$f":"③加入者名簿!C79","v":0},{"$f":"③加入者名簿!F79","v":0},{"$f":"③加入者名簿!X79","v":""},{"$f":"③加入者名簿!Y79","v":0},{"$f":"③加入者名簿!Z79","v":0},{"$f":"③加入者名簿!AB79","v":""},{"$f":"③加入者名簿!AC79","v":0}]
[74,{"$f":"②基本データ入力!$D$15","v":0},{"$f":"②基本データ入力!$D$11","v":0},{"$f":"②基本データ入力!$D$13","v":"全日制"},{"$f":"③加入者名簿!C80","v":0},{"$f":"③加入者名簿!F80","v":0},{"$f":"③加入者名簿!X80","v":""},{"$f":"③加入者名簿!Y80","v":0},{"$f":"③加入者名簿!Z80","v":0},{"$f":"③加入者名簿!AB80","v":""},{"$f":"③加入者名簿!AC80","v":0}]
[75,{"$f":"②基本データ入力!$D$15","v":0},{"$f":"②基本データ入力!$D$11","v":0},{"$f":"②基本データ入力!$D$13","v":"全日制"},{"$f":"③加入者名簿!C81","v":0},{"$f":"③加入者名簿!F81","v":0},{"$f":"③加入者名簿!X81","v":""},{"$f":"③加入者名簿!Y81","v":0},{"$f":"③加入者名簿!Z81","v":0},{"$f":"③加入者名簿!AB81","v":""},{"$f":"③加入者名簿!AC81","v":0}]
[76,{"$f":"②基本データ入力!$D$15","v":0},{"$f":"②基本データ入力!$D$11","v":0},{"$f":"②基本データ入力!$D$13","v":"全日制"},{"$f":"③加入者名簿!C82","v":0},{"$f":"③加入者名簿!F82","v":0},{"$f":"③加入者名簿!X82","v":""},{"$f":"③加入者名簿!Y82","v":0},{"$f":"③加入者名簿!Z82","v":0},{"$f":"③加入者名簿!AB82","v":""},{"$f":"③加入者名簿!AC82","v":0}]
[77,{"$f":"②基本データ入力!$D$15","v":0},{"$f":"②基本データ入力!$D$11","v":0},{"$f":"②基本データ入力!$D$13","v":"全日制"},{"$f":"③加入者名簿!C83","v":0},{"$f":"③加入者名簿!F83","v":0},{"$f":"③加入者名簿!X83","v":""},{"$f":"③加入者名簿!Y83","v":0},{"$f":"③加入者名簿!Z83","v":0},{"$f":"③加入者名簿!AB83","v":""},{"$f":"③加入者名簿!AC83","v":0}]
[78,{"$f":"②基本データ入力!$D$15","v":0},{"$f":"②基本データ入力!$D$11","v":0},{"$f":"②基本データ入力!$D$13","v":"全日制"},{"$f":"③加入者名簿!C84","v":0},{"$f":"③加入者名簿!F84","v":0},{"$f":"③加入者名簿!X84","v":""},{"$f":"③加入者名簿!Y84","v":0},{"$f":"③加入者名簿!Z84","v":0},{"$f":"③加入者名簿!AB84","v":""},{"$f":"③加入者名簿!AC84","v":0}]
[79,{"$f":"②基本データ入力!$D$15","v":0},{"$f":"②基本データ入力!$D$11","v":0},{"$f":"②基本データ入力!$D$13","v":"全日制"},{"$f":"③加入者名簿!C85","v":0},{"$f":"③加入者名簿!F85","v":0},{"$f":"③加入者名簿!X85","v":""},{"$f":"③加入者名簿!Y85","v":0},{"$f":"③加入者名簿!Z85","v":0},{"$f":"③加入者名簿!AB85","v":""},{"$f":"③加入者名簿!AC85","v":0}]
[80,{"$f":"②基本データ入力!$D$15","v":0},{"$f":"②基本データ入力!$D$11","v":0},{"$f":"②基本データ入力!$D$13","v":"全日制"},{"$f":"③加入者名簿!C86","v":0},{"$f":"③加入者名簿!F86","v":0},{"$f":"③加入者名簿!X86","v":""},{"$f":"③加入者名簿!Y86","v":0},{"$f":"③加入者名簿!Z86","v":0},{"$f":"③加入者名簿!AB86","v":""},{"$f":"③加入者名簿!AC86","v":0}]
[81,{"$f":"②基本データ入力!$D$15","v":0},{"$f":"②基本データ入力!$D$11","v":0},{"$f":"②基本データ入力!$D$13","v":"全日制"},{"$f":"③加入者名簿!C87","v":0},{"$f":"③加入者名簿!F87","v":0},{"$f":"③加入者名簿!X87","v":""},{"$f":"③加入者名簿!Y87","v":0},{"$f":"③加入者名簿!Z87","v":0},{"$f":"③加入者名簿!AB87","v":""},{"$f":"③加入者名簿!AC87","v":0}]
[82,{"$f":"②基本データ入力!$D$15","v":0},{"$f":"②基本データ入力!$D$11","v":0},{"$f":"②基本データ入力!$D$13","v":"全日制"},{"$f":"③加入者名簿!C88","v":0},{"$f":"③加入者名簿!F88","v":0},{"$f":"③加入者名簿!X88","v":""},{"$f":"③加入者名簿!Y88","v":0},{"$f":"③加入者名簿!Z88","v":0},{"$f":"③加入者名簿!AB88","v":""},{"$f":"③加入者名簿!AC88","v":0}]
[83,{"$f":"②基本データ入力!$D$15","v":0},{"$f":"②基本データ入力!$D$11","v":0},{"$f":"②基本データ入力!$D$13","v":"全日制"},{"$f":"③加入者名簿!C89","v":0},{"$f":"③加入者名簿!F89","v":0},{"$f":"③加入者名簿!X89","v":""},{"$f":"③加入者名簿!Y89","v":0},{"$f":"③加入者名簿!Z89","v":0},{"$f":"③加入者名簿!AB89","v":""},{"$f":"③加入者名簿!AC89","v":0}]
[84,{"$f":"②基本データ入力!$D$15","v":0},{"$f":"②基本データ入力!$D$11","v":0},{"$f":"②基本データ入力!$D$13","v":"全日制"},{"$f":"③加入者名簿!C90","v":0},{"$f":"③加入者名簿!F90","v":0},{"$f":"③加入者名簿!X90","v":""},{"$f":"③加入者名簿!Y90","v":0},{"$f":"③加入者名簿!Z90","v":0},{"$f":"③加入者名簿!AB90","v":""},{"$f":"③加入者名簿!AC90","v":0}]
[85,{"$f":"②基本データ入力!$D$15","v":0},{"$f":"②基本データ入力!$D$11","v":0},{"$f":"②基本データ入力!$D$13","v":"全日制"},{"$f":"③加入者名簿!C91","v":0},{"$f":"③加入者名簿!F91","v":0},{"$f":"③加入者名簿!X91","v":""},{"$f":"③加入者名簿!Y91","v":0},{"$f":"③加入者名簿!Z91","v":0},{"$f":"③加入者名簿!AB91","v":""},{"$f":"③加入者名簿!AC91","v":0}]
[86,{"$f":"②基本データ入力!$D$15","v":0},{"$f":"②基本データ入力!$D$11","v":0},{"$f":"②基本データ入力!$D$13","v":"全日制"},{"$f":"③加入者名簿!C92","v":0},{"$f":"③加入者名簿!F92","v":0},{"$f":"③加入者名簿!X92","v":""},{"$f":"③加入者名簿!Y92","v":0},{"$f":"③加入者名簿!Z92","v":0},{"$f":"③加入者名簿!AB92","v":""},{"$f":"③加入者名簿!AC92","v":0}]
[87,{"$f":"②基本データ入力!$D$15","v":0},{"$f":"②基本データ入力!$D$11","v":0},{"$f":"②基本データ入力!$D$13","v":"全日制"},{"$f":"③加入者名簿!C93","v":0},{"$f":"③加入者名簿!F93","v":0},{"$f":"③加入者名簿!X93","v":""},{"$f":"③加入者名簿!Y93","v":0},{"$f":"③加入者名簿!Z93","v":0},{"$f":"③加入者名簿!AB93","v":""},{"$f":"③加入者名簿!AC93","v":0}]
[88,{"$f":"②基本データ入力!$D$15","v":0},{"$f":"②基本データ入力!$D$11","v":0},{"$f":"②基本データ入力!$D$13","v":"全日制"},{"$f":"③加入者名簿!C94","v":0},{"$f":"③加入者名簿!F94","v":0},{"$f":"③加入者名簿!X94","v":""},{"$f":"③加入者名簿!Y94","v":0},{"$f":"③加入者名簿!Z94","v":0},{"$f":"③加入者名簿!AB94","v":""},{"$f":"③加入者名簿!AC94","v":0}]
[89,{"$f":"②基本データ入力!$D$15","v":0},{"$f":"②基本データ入力!$D$11","v":0},{"$f":"②基本データ入力!$D$13","v":"全日制"},{"$f":"③加入者名簿!C95","v":0},{"$f":"③加入者名簿!F95","v":0},{"$f":"③加入者名簿!X95","v":""},{"$f":"③加入者名簿!Y95","v":0},{"$f":"③加入者名簿!Z95","v":0},{"$f":"③加入者名簿!AB95","v":""},{"$f":"③加入者名簿!AC95","v":0}]
[90,{"$f":"②基本データ入力!$D$15","v":0},{"$f":"②基本データ入力!$D$11","v":0},{"$f":"②基本データ入力!$D$13","v":"全日制"},{"$f":"③加入者名簿!C96","v":0},{"$f":"③加入者名簿!F96","v":0},{"$f":"③加入者名簿!X96","v":""},{"$f":"③加入者名簿!Y96","v":0},{"$f":"③加入者名簿!Z96","v":0},{"$f":"③加入者名簿!AB96","v":""},{"$f":"③加入者名簿!AC96","v":0}]
[91,{"$f":"②基本データ入力!$D$15","v":0},{"$f":"②基本データ入力!$D$11","v":0},{"$f":"②基本データ入力!$D$13","v":"全日制"},{"$f":"③加入者名簿!C97","v":0},{"$f":"③加入者名簿!F97","v":0},{"$f":"③加入者名簿!X97","v":""},{"$f":"③加入者名簿!Y97","v":0},{"$f":"③加入者名簿!Z97","v":0},{"$f":"③加入者名簿!AB97","v":""},{"$f":"③加入者名簿!AC97","v":0}]
[92,{"$f":"②基本データ入力!$D$15","v":0},{"$f":"②基本データ入力!$D$11","v":0},{"$f":"②基本データ入力!$D$13","v":"全日制"},{"$f":"③加入者名簿!C98","v":0},{"$f":"③加入者名簿!F98","v":0},{"$f":"③加入者名簿!X98","v":""},{"$f":"③加入者名簿!Y98","v":0},{"$f":"③加入者名簿!Z98","v":0},{"$f":"③加入者名簿!AB98","v":""},{"$f":"③加入者名簿!AC98","v":0}]
[93,{"$f":"②基本データ入力!$D$15","v":0},{"$f":"②基本データ入力!$D$11","v":0},{"$f":"②基本データ入力!$D$13","v":"全日制"},{"$f":"③加入者名簿!C99","v":0},{"$f":"③加入者名簿!F99","v":0},{"$f":"③加入者名簿!X99","v":""},{"$f":"③加入者名簿!Y99","v":0},{"$f":"③加入者名簿!Z99","v":0},{"$f":"③加入者名簿!AB99","v":""},{"$f":"③加入者名簿!AC99","v":0}]
[94,{"$f":"②基本データ入力!$D$15","v":0},{"$f":"②基本データ入力!$D$11","v":0},{"$f":"②基本データ入力!$D$13","v":"全日制"},{"$f":"③加入者名簿!C100","v":0},{"$f":"③加入者名簿!F100","v":0},{"$f":"③加入者名簿!X100","v":""},{"$f":"③加入者名簿!Y100","v":0},{"$f":"③加入者名簿!Z100","v":0},{"$f":"③加入者名簿!AB100","v":""},{"$f":"③加入者名簿!AC100","v":0}]
[95,{"$f":"②基本データ入力!$D$15","v":0},{"$f":"②基本データ入力!$D$11","v":0},{"$f":"②基本データ入力!$D$13","v":"全日制"},{"$f":"③加入者名簿!C101","v":0},{"$f":"③加入者名簿!F101","v":0},{"$f":"③加入者名簿!X101","v":""},{"$f":"③加入者名簿!Y101","v":0},{"$f":"③加入者名簿!Z101","v":0},{"$f":"③加入者名簿!AB101","v":""},{"$f":"③加入者名簿!AC101","v":0}]
[96,{"$f":"②基本データ入力!$D$15","v":0},{"$f":"②基本データ入力!$D$11","v":0},{"$f":"②基本データ入力!$D$13","v":"全日制"},{"$f":"③加入者名簿!C102","v":0},{"$f":"③加入者名簿!F102","v":0},{"$f":"③加入者名簿!X102","v":""},{"$f":"③加入者名簿!Y102","v":0},{"$f":"③加入者名簿!Z102","v":0},{"$f":"③加入者名簿!AB102","v":""},{"$f":"③加入者名簿!AC102","v":0}]
[97,{"$f":"②基本データ入力!$D$15","v":0},{"$f":"②基本データ入力!$D$11","v":0},{"$f":"②基本データ入力!$D$13","v":"全日制"},{"$f":"③加入者名簿!C103","v":0},{"$f":"③加入者名簿!F103","v":0},{"$f":"③加入者名簿!X103","v":""},{"$f":"③加入者名簿!Y103","v":0},{"$f":"③加入者名簿!Z103","v":0},{"$f":"③加入者名簿!AB103","v":""},{"$f":"③加入者名簿!AC103","v":0}]
[98,{"$f":"②基本データ入力!$D$15","v":0},{"$f":"②基本データ入力!$D$11","v":0},{"$f":"②基本データ入力!$D$13","v":"全日制"},{"$f":"③加入者名簿!C104","v":0},{"$f":"③加入者名簿!F104","v":0},{"$f":"③加入者名簿!X104","v":""},{"$f":"③加入者名簿!Y104","v":0},{"$f":"③加入者名簿!Z104","v":0},{"$f":"③加入者名簿!AB104","v":""},{"$f":"③加入者名簿!AC104","v":0}]
[99,{"$f":"②基本データ入力!$D$15","v":0},{"$f":"②基本データ入力!$D$11","v":0},{"$f":"②基本データ入力!$D$13","v":"全日制"},{"$f":"③加入者名簿!C105","v":0},{"$f":"③加入者名簿!F105","v":0},{"$f":"③加入者名簿!X105","v":""},{"$f":"③加入者名簿!Y105","v":0},{"$f":"③加入者名簿!Z105","v":0},{"$f":"③加入者名簿!AB105","v":""},{"$f":"③加入者名簿!AC105","v":0}]
[100,{"$f":"②基本データ入力!$D$15","v":0},{"$f":"②基本データ入力!$D$11","v":0},{"$f":"②基本データ入力!$D$13","v":"全日制"},{"$f":"③加入者名簿!C106","v":0},{"$f":"③加入者名簿!F106","v":0},{"$f":"③加入者名簿!X106","v":""},{"$f":"③加入者名簿!Y106","v":0},{"$f":"③加入者名簿!Z106","v":0},{"$f":"③加入者名簿!AB106","v":""},{"$f":"③加入者名簿!AC106","v":0}]

{"sheet":"会員データ","index":8,"n_rows":151,"n_cols":19,"rows_kept":151,"cut":false,"hidden":false,"merged":[]}
["氏名","職名",{"$f":"③加入者名簿!G5","v":"国語"},{"$f":"③加入者名簿!H5","v":"地歴\n・公民"},{"$f":"③加入者名簿!I5","v":"数学"},{"$f":"③加入者名簿!J5","v":"理科"},{"$f":"③加入者名簿!K5","v":"芸術"},{"$f":"③加入者名簿!L5","v":"英語"},{"$f":"③加入者名簿!M5","v":"農業"},{"$f":"③加入者名簿!N5","v":"工業"},{"$f":"③加入者名簿!O5","v":"商業"},{"$f":"③加入者名簿!P5","v":"水産"},{"$f":"③加入者名簿!Q5","v":"家庭科"},{"$f":"③加入者名簿!R5","v":"保健\n体育"},{"$f":"③加入者名簿!S5","v":"情報"},{"$f":"③加入者名簿!T5","v":"生徒\n指導"},{"$f":"③加入者名簿!U5","v":"図書館"},{"$f":"③加入者名簿!V5","v":"視聴覚"},{"$f":"③加入者名簿!W5","v":"定通"}]
[{"$f":"③加入者名簿!C7","v":0},{"$f":"③加入者名簿!F7","v":0},{"$f":"③加入者名簿!G7","v":0},{"$f":"③加入者名簿!H7","v":0},{"$f":"③加入者名簿!I7","v":0},{"$f":"③加入者名簿!J7","v":0},{"$f":"③加入者名簿!K7","v":0},{"$f":"③加入者名簿!L7","v":0},{"$f":"③加入者名簿!M7","v":0},{"$f":"③加入者名簿!N7","v":0},{"$f":"③加入者名簿!O7","v":0},{"$f":"③加入者名簿!P7","v":0},{"$f":"③加入者名簿!Q7","v":0},{"$f":"③加入者名簿!R7","v":0},{"$f":"③加入者名簿!S7","v":0},{"$f":"③加入者名簿!T7","v":0},{"$f":"③加入者名簿!U7","v":0},{"$f":"③加入者名簿!V7","v":0},{"$f":"③加入者名簿!W7","v":0}]
[{"$f":"③加入者名簿!C8","v":0},{"$f":"③加入者名簿!F8","v":0},{"$f":"③加入者名簿!G8","v":0},{"$f":"③加入者名簿!H8","v":0},{"$f":"③加入者名簿!I8","v":0},{"$f":"③加入者名簿!J8","v":0},{"$f":"③加入者名簿!K8","v":0},{"$f":"③加入者名簿!L8","v":0},{"$f":"③加入者名簿!M8","v":0},{"$f":"③加入者名簿!N8","v":0},{"$f":"③加入者名簿!O8","v":0},{"$f":"③加入者名簿!P8","v":0},{"$f":"③加入者名簿!Q8","v":0},{"$f":"③加入者名簿!R8","v":0},{"$f":"③加入者名簿!S8","v":0},{"$f":"③加入者名簿!T8","v":0},{"$f":"③加入者名簿!U8","v":0},{"$f":"③加入者名簿!V8","v":0},{"$f":"③加入者名簿!W8","v":0}]
[{"$f":"③加入者名簿!C9","v":0},{"$f":"③加入者名簿!F9","v":0},{"$f":"③加入者名簿!G9","v":0},{"$f":"③加入者名簿!H9","v":0},{"$f":"③加入者名簿!I9","v":0},{"$f":"③加入者名簿!J9","v":0},{"$f":"③加入者名簿!K9","v":0},{"$f":"③加入者名簿!L9","v":0},{"$f":"③加入者名簿!M9","v":0},{"$f":"③加入者名簿!N9","v":0},{"$f":"③加入者名簿!O9","v":0},{"$f":"③加入者名簿!P9","v":0},{"$f":"③加入者名簿!Q9","v":0},{"$f":"③加入者名簿!R9","v":0},{"$f":"③加入者名簿!S9","v":0},{"$f":"③加入者名簿!T9","v":0},{"$f":"③加入者名簿!U9","v":0},{"$f":"③加入者名簿!V9","v":0},{"$f":"③加入者名簿!W9","v":0}]
[{"$f":"③加入者名簿!C10","v":0},{"$f":"③加入者名簿!F10","v":0},{"$f":"③加入者名簿!G10","v":0},{"$f":"③加入者名簿!H10","v":0},{"$f":"③加入者名簿!I10","v":0},{"$f":"③加入者名簿!J10","v":0},{"$f":"③加入者名簿!K10","v":0},{"$f":"③加入者名簿!L10","v":0},{"$f":"③加入者名簿!M10","v":0},{"$f":"③加入者名簿!N10","v":0},{"$f":"③加入者名簿!O10","v":0},{"$f":"③加入者名簿!P10","v":0},{"$f":"③加入者名簿!Q10","v":0},{"$f":"③加入者名簿!R10","v":0},{"$f":"③加入者名簿!S10","v":0},{"$f":"③加入者名簿!T10","v":0},{"$f":"③加入者名簿!U10","v":0},{"$f":"③加入者名簿!V10","v":0},{"$f":"③加入者名簿!W10","v":0}]
[{"$f":"③加入者名簿!C11","v":0},{"$f":"③加入者名簿!F11","v":0},{"$f":"③加入者名簿!G11","v":0},{"$f":"③加入者名簿!H11","v":0},{"$f":"③加入者名簿!I11","v":0},{"$f":"③加入者名簿!J11","v":0},{"$f":"③加入者名簿!K11","v":0},{"$f":"③加入者名簿!L11","v":0},{"$f":"③加入者名簿!M11","v":0},{"$f":"③加入者名簿!N11","v":0},{"$f":"③加入者名簿!O11","v":0},{"$f":"③加入者名簿!P11","v":0},{"$f":"③加入者名簿!Q11","v":0},{"$f":"③加入者名簿!R11","v":0},{"$f":"③加入者名簿!S11","v":0},{"$f":"③加入者名簿!T11","v":0},{"$f":"③加入者名簿!U11","v":0},{"$f":"③加入者名簿!V11","v":0},{"$f":"③加入者名簿!W11","v":0}]
[{"$f":"③加入者名簿!C12","v":0},{"$f":"③加入者名簿!F12","v":0},{"$f":"③加入者名簿!G12","v":0},{"$f":"③加入者名簿!H12","v":0},{"$f":"③加入者名簿!I12","v":0},{"$f":"③加入者名簿!J12","v":0},{"$f":"③加入者名簿!K12","v":0},{"$f":"③加入者名簿!L12","v":0},{"$f":"③加入者名簿!M12","v":0},{"$f":"③加入者名簿!N12","v":0},{"$f":"③加入者名簿!O12","v":0},{"$f":"③加入者名簿!P12","v":0},{"$f":"③加入者名簿!Q12","v":0},{"$f":"③加入者名簿!R12","v":0},{"$f":"③加入者名簿!S12","v":0},{"$f":"③加入者名簿!T12","v":0},{"$f":"③加入者名簿!U12","v":0},{"$f":"③加入者名簿!V12","v":0},{"$f":"③加入者名簿!W12","v":0}]
[{"$f":"③加入者名簿!C13","v":0},{"$f":"③加入者名簿!F13","v":0},{"$f":"③加入者名簿!G13","v":0},{"$f":"③加入者名簿!H13","v":0},{"$f":"③加入者名簿!I13","v":0},{"$f":"③加入者名簿!J13","v":0},{"$f":"③加入者名簿!K13","v":0},{"$f":"③加入者名簿!L13","v":0},{"$f":"③加入者名簿!M13","v":0},{"$f":"③加入者名簿!N13","v":0},{"$f":"③加入者名簿!O13","v":0},{"$f":"③加入者名簿!P13","v":0},{"$f":"③加入者名簿!Q13","v":0},{"$f":"③加入者名簿!R13","v":0},{"$f":"③加入者名簿!S13","v":0},{"$f":"③加入者名簿!T13","v":0},{"$f":"③加入者名簿!U13","v":0},{"$f":"③加入者名簿!V13","v":0},{"$f":"③加入者名簿!W13","v":0}]
[{"$f":"③加入者名簿!C14","v":0},{"$f":"③加入者名簿!F14","v":0},{"$f":"③加入者名簿!G14","v":0},{"$f":"③加入者名簿!H14","v":0},{"$f":"③加入者名簿!I14","v":0},{"$f":"③加入者名簿!J14","v":0},{"$f":"③加入者名簿!K14","v":0},{"$f":"③加入者名簿!L14","v":0},{"$f":"③加入者名簿!M14","v":0},{"$f":"③加入者名簿!N14","v":0},{"$f":"③加入者名簿!O14","v":0},{"$f":"③加入者名簿!P14","v":0},{"$f":"③加入者名簿!Q14","v":0},{"$f":"③加入者名簿!R14","v":0},{"$f":"③加入者名簿!S14","v":0},{"$f":"③加入者名簿!T14","v":0},{"$f":"③加入者名簿!U14","v":0},{"$f":"③加入者名簿!V14","v":0},{"$f":"③加入者名簿!W14","v":0}]
[{"$f":"③加入者名簿!C15","v":0},{"$f":"③加入者名簿!F15","v":0},{"$f":"③加入者名簿!G15","v":0},{"$f":"③加入者名簿!H15","v":0},{"$f":"③加入者名簿!I15","v":0},{"$f":"③加入者名簿!J15","v":0},{"$f":"③加入者名簿!K15","v":0},{"$f":"③加入者名簿!L15","v":0},{"$f":"③加入者名簿!M15","v":0},{"$f":"③加入者名簿!N15","v":0},{"$f":"③加入者名簿!O15","v":0},{"$f":"③加入者名簿!P15","v":0},{"$f":"③加入者名簿!Q15","v":0},{"$f":"③加入者名簿!R15","v":0},{"$f":"③加入者名簿!S15","v":0},{"$f":"③加入者名簿!T15","v":0},{"$f":"③加入者名簿!U15","v":0},{"$f":"③加入者名簿!V15","v":0},{"$f":"③加入者名簿!W15","v":0}]
[{"$f":"③加入者名簿!C16","v":0},{"$f":"③加入者名簿!F16","v":0},{"$f":"③加入者名簿!G16","v":0},{"$f":"③加入者名簿!H16","v":0},{"$f":"③加入者名簿!I16","v":0},{"$f":"③加入者名簿!J16","v":0},{"$f":"③加入者名簿!K16","v":0},{"$f":"③加入者名簿!L16","v":0},{"$f":"③加入者名簿!M16","v":0},{"$f":"③加入者名簿!N16","v":0},{"$f":"③加入者名簿!O16","v":0},{"$f":"③加入者名簿!P16","v":0},{"$f":"③加入者名簿!Q16","v":0},{"$f":"③加入者名簿!R16","v":0},{"$f":"③加入者名簿!S16","v":0},{"$f":"③加入者名簿!T16","v":0},{"$f":"③加入者名簿!U16","v":0},{"$f":"③加入者名簿!V16","v":0},{"$f":"③加入者名簿!W16","v":0}]
[{"$f":"③加入者名簿!C17","v":0},{"$f":"③加入者名簿!F17","v":0},{"$f":"③加入者名簿!G17","v":0},{"$f":"③加入者名簿!H17","v":0},{"$f":"③加入者名簿!I17","v":0},{"$f":"③加入者名簿!J17","v":0},{"$f":"③加入者名簿!K17","v":0},{"$f":"③加入者名簿!L17","v":0},{"$f":"③加入者名簿!M17","v":0},{"$f":"③加入者名簿!N17","v":0},{"$f":"③加入者名簿!O17","v":0},{"$f":"③加入者名簿!P17","v":0},{"$f":"③加入者名簿!Q17","v":0},{"$f":"③加入者名簿!R17","v":0},{"$f":"③加入者名簿!S17","v":0},{"$f":"③加入者名簿!T17","v":0},{"$f":"③加入者名簿!U17","v":0},{"$f":"③加入者名簿!V17","v":0},{"$f":"③加入者名簿!W17","v":0}]
[{"$f":"③加入者名簿!C18","v":0},{"$f":"③加入者名簿!F18","v":0},{"$f":"③加入者名簿!G18","v":0},{"$f":"③加入者名簿!H18","v":0},{"$f":"③加入者名簿!I18","v":0},{"$f":"③加入者名簿!J18","v":0},{"$f":"③加入者名簿!K18","v":0},{"$f":"③加入者名簿!L18","v":0},{"$f":"③加入者名簿!M18","v":0},{"$f":"③加入者名簿!N18","v":0},{"$f":"③加入者名簿!O18","v":0},{"$f":"③加入者名簿!P18","v":0},{"$f":"③加入者名簿!Q18","v":0},{"$f":"③加入者名簿!R18","v":0},{"$f":"③加入者名簿!S18","v":0},{"$f":"③加入者名簿!T18","v":0},{"$f":"③加入者名簿!U18","v":0},{"$f":"③加入者名簿!V18","v":0},{"$f":"③加入者名簿!W18","v":0}]
[{"$f":"③加入者名簿!C19","v":0},{"$f":"③加入者名簿!F19","v":0},{"$f":"③加入者名簿!G19","v":0},{"$f":"③加入者名簿!H19","v":0},{"$f":"③加入者名簿!I19","v":0},{"$f":"③加入者名簿!J19","v":0},{"$f":"③加入者名簿!K19","v":0},{"$f":"③加入者名簿!L19","v":0},{"$f":"③加入者名簿!M19","v":0},{"$f":"③加入者名簿!N19","v":0},{"$f":"③加入者名簿!O19","v":0},{"$f":"③加入者名簿!P19","v":0},{"$f":"③加入者名簿!Q19","v":0},{"$f":"③加入者名簿!R19","v":0},{"$f":"③加入者名簿!S19","v":0},{"$f":"③加入者名簿!T19","v":0},{"$f":"③加入者名簿!U19","v":0},{"$f":"③加入者名簿!V19","v":0},{"$f":"③加入者名簿!W19","v":0}]
[{"$f":"③加入者名簿!C20","v":0},{"$f":"③加入者名簿!F20","v":0},{"$f":"③加入者名簿!G20","v":0},{"$f":"③加入者名簿!H20","v":0},{"$f":"③加入者名簿!I20","v":0},{"$f":"③加入者名簿!J20","v":0},{"$f":"③加入者名簿!K20","v":0},{"$f":"③加入者名簿!L20","v":0},{"$f":"③加入者名簿!M20","v":0},{"$f":"③加入者名簿!N20","v":0},{"$f":"③加入者名簿!O20","v":0},{"$f":"③加入者名簿!P20","v":0},{"$f":"③加入者名簿!Q20","v":0},{"$f":"③加入者名簿!R20","v":0},{"$f":"③加入者名簿!S20","v":0},{"$f":"③加入者名簿!T20","v":0},{"$f":"③加入者名簿!U20","v":0},{"$f":"③加入者名簿!V20","v":0},{"$f":"③加入者名簿!W20","v":0}]
[{"$f":"③加入者名簿!C21","v":0},{"$f":"③加入者名簿!F21","v":0},{"$f":"③加入者名簿!G21","v":0},{"$f":"③加入者名簿!H21","v":0},{"$f":"③加入者名簿!I21","v":0},{"$f":"③加入者名簿!J21","v":0},{"$f":"③加入者名簿!K21","v":0},{"$f":"③加入者名簿!L21","v":0},{"$f":"③加入者名簿!M21","v":0},{"$f":"③加入者名簿!N21","v":0},{"$f":"③加入者名簿!O21","v":0},{"$f":"③加入者名簿!P21","v":0},{"$f":"③加入者名簿!Q21","v":0},{"$f":"③加入者名簿!R21","v":0},{"$f":"③加入者名簿!S21","v":0},{"$f":"③加入者名簿!T21","v":0},{"$f":"③加入者名簿!U21","v":0},{"$f":"③加入者名簿!V21","v":0},{"$f":"③加入者名簿!W21","v":0}]
[{"$f":"③加入者名簿!C22","v":0},{"$f":"③加入者名簿!F22","v":0},{"$f":"③加入者名簿!G22","v":0},{"$f":"③加入者名簿!H22","v":0},{"$f":"③加入者名簿!I22","v":0},{"$f":"③加入者名簿!J22","v":0},{"$f":"③加入者名簿!K22","v":0},{"$f":"③加入者名簿!L22","v":0},{"$f":"③加入者名簿!M22","v":0},{"$f":"③加入者名簿!N22","v":0},{"$f":"③加入者名簿!O22","v":0},{"$f":"③加入者名簿!P22","v":0},{"$f":"③加入者名簿!Q22","v":0},{"$f":"③加入者名簿!R22","v":0},{"$f":"③加入者名簿!S22","v":0},{"$f":"③加入者名簿!T22","v":0},{"$f":"③加入者名簿!U22","v":0},{"$f":"③加入者名簿!V22","v":0},{"$f":"③加入者名簿!W22","v":0}]
[{"$f":"③加入者名簿!C23","v":0},{"$f":"③加入者名簿!F23","v":0},{"$f":"③加入者名簿!G23","v":0},{"$f":"③加入者名簿!H23","v":0},{"$f":"③加入者名簿!I23","v":0},{"$f":"③加入者名簿!J23","v":0},{"$f":"③加入者名簿!K23","v":0},{"$f":"③加入者名簿!L23","v":0},{"$f":"③加入者名簿!M23","v":0},{"$f":"③加入者名簿!N23","v":0},{"$f":"③加入者名簿!O23","v":0},{"$f":"③加入者名簿!P23","v":0},{"$f":"③加入者名簿!Q23","v":0},{"$f":"③加入者名簿!R23","v":0},{"$f":"③加入者名簿!S23","v":0},{"$f":"③加入者名簿!T23","v":0},{"$f":"③加入者名簿!U23","v":0},{"$f":"③加入者名簿!V23","v":0},{"$f":"③加入者名簿!W23","v":0}]
[{"$f":"③加入者名簿!C24","v":0},{"$f":"③加入者名簿!F24","v":0},{"$f":"③加入者名簿!G24","v":0},{"$f":"③加入者名簿!H24","v":0},{"$f":"③加入者名簿!I24","v":0},{"$f":"③加入者名簿!J24","v":0},{"$f":"③加入者名簿!K24","v":0},{"$f":"③加入者名簿!L24","v":0},{"$f":"③加入者名簿!M24","v":0},{"$f":"③加入者名簿!N24","v":0},{"$f":"③加入者名簿!O24","v":0},{"$f":"③加入者名簿!P24","v":0},{"$f":"③加入者名簿!Q24","v":0},{"$f":"③加入者名簿!R24","v":0},{"$f":"③加入者名簿!S24","v":0},{"$f":"③加入者名簿!T24","v":0},{"$f":"③加入者名簿!U24","v":0},{"$f":"③加入者名簿!V24","v":0},{"$f":"③加入者名簿!W24","v":0}]
[{"$f":"③加入者名簿!C25","v":0},{"$f":"③加入者名簿!F25","v":0},{"$f":"③加入者名簿!G25","v":0},{"$f":"③加入者名簿!H25","v":0},{"$f":"③加入者名簿!I25","v":0},{"$f":"③加入者名簿!J25","v":0},{"$f":"③加入者名簿!K25","v":0},{"$f":"③加入者名簿!L25","v":0},{"$f":"③加入者名簿!M25","v":0},{"$f":"③加入者名簿!N25","v":0},{"$f":"③加入者名簿!O25","v":0},{"$f":"③加入者名簿!P25","v":0},{"$f":"③加入者名簿!Q25","v":0},{"$f":"③加入者名簿!R25","v":0},{"$f":"③加入者名簿!S25","v":0},{"$f":"③加入者名簿!T25","v":0},{"$f":"③加入者名簿!U25","v":0},{"$f":"③加入者名簿!V25","v":0},{"$f":"③加入者名簿!W25","v":0}]
[{"$f":"③加入者名簿!C26","v":0},{"$f":"③加入者名簿!F26","v":0},{"$f":"③加入者名簿!G26","v":0},{"$f":"③加入者名簿!H26","v":0},{"$f":"③加入者名簿!I26","v":0},{"$f":"③加入者名簿!J26","v":0},{"$f":"③加入者名簿!K26","v":0},{"$f":"③加入者名簿!L26","v":0},{"$f":"③加入者名簿!M26","v":0},{"$f":"③加入者名簿!N26","v":0},{"$f":"③加入者名簿!O26","v":0},{"$f":"③加入者名簿!P26","v":0},{"$f":"③加入者名簿!Q26","v":0},{"$f":"③加入者名簿!R26","v":0},{"$f":"③加入者名簿!S26","v":0},{"$f":"③加入者名簿!T26","v":0},{"$f":"③加入者名簿!U26","v":0},{"$f":"③加入者名簿!V26","v":0},{"$f":"③加入者名簿!W26","v":0}]
[{"$f":"③加入者名簿!C27","v":0},{"$f":"③加入者名簿!F27","v":0},{"$f":"③加入者名簿!G27","v":0},{"$f":"③加入者名簿!H27","v":0},{"$f":"③加入者名簿!I27","v":0},{"$f":"③加入者名簿!J27","v":0},{"$f":"③加入者名簿!K27","v":0},{"$f":"③加入者名簿!L27","v":0},{"$f":"③加入者名簿!M27","v":0},{"$f":"③加入者名簿!N27","v":0},{"$f":"③加入者名簿!O27","v":0},{"$f":"③加入者名簿!P27","v":0},{"$f":"③加入者名簿!Q27","v":0},{"$f":"③加入者名簿!R27","v":0},{"$f":"③加入者名簿!S27","v":0},{"$f":"③加入者名簿!T27","v":0},{"$f":"③加入者名簿!U27","v":0},{"$f":"③加入者名簿!V27","v":0},{"$f":"③加入者名簿!W27","v":0}]
[{"$f":"③加入者名簿!C28","v":0},{"$f":"③加入者名簿!F28","v":0},{"$f":"③加入者名簿!G28","v":0},{"$f":"③加入者名簿!H28","v":0},{"$f":"③加入者名簿!I28","v":0},{"$f":"③加入者名簿!J28","v":0},{"$f":"③加入者名簿!K28","v":0},{"$f":"③加入者名簿!L28","v":0},{"$f":"③加入者名簿!M28","v":0},{"$f":"③加入者名簿!N28","v":0},{"$f":"③加入者名簿!O28","v":0},{"$f":"③加入者名簿!P28","v":0},{"$f":"③加入者名簿!Q28","v":0},{"$f":"③加入者名簿!R28","v":0},{"$f":"③加入者名簿!S28","v":0},{"$f":"③加入者名簿!T28","v":0},{"$f":"③加入者名簿!U28","v":0},{"$f":"③加入者名簿!V28","v":0},{"$f":"③加入者名簿!W28","v":0}]
[{"$f":"③加入者名簿!C29","v":0},{"$f":"③加入者名簿!F29","v":0},{"$f":"③加入者名簿!G29","v":0},{"$f":"③加入者名簿!H29","v":0},{"$f":"③加入者名簿!I29","v":0},{"$f":"③加入者名簿!J29","v":0},{"$f":"③加入者名簿!K29","v":0},{"$f":"③加入者名簿!L29","v":0},{"$f":"③加入者名簿!M29","v":0},{"$f":"③加入者名簿!N29","v":0},{"$f":"③加入者名簿!O29","v":0},{"$f":"③加入者名簿!P29","v":0},{"$f":"③加入者名簿!Q29","v":0},{"$f":"③加入者名簿!R29","v":0},{"$f":"③加入者名簿!S29","v":0},{"$f":"③加入者名簿!T29","v":0},{"$f":"③加入者名簿!U29","v":0},{"$f":"③加入者名簿!V29","v":0},{"$f":"③加入者名簿!W29","v":0}]
[{"$f":"③加入者名簿!C30","v":0},{"$f":"③加入者名簿!F30","v":0},{"$f":"③加入者名簿!G30","v":0},{"$f":"③加入者名簿!H30","v":0},{"$f":"③加入者名簿!I30","v":0},{"$f":"③加入者名簿!J30","v":0},{"$f":"③加入者名簿!K30","v":0},{"$f":"③加入者名簿!L30","v":0},{"$f":"③加入者名簿!M30","v":0},{"$f":"③加入者名簿!N30","v":0},{"$f":"③加入者名簿!O30","v":0},{"$f":"③加入者名簿!P30","v":0},{"$f":"③加入者名簿!Q30","v":0},{"$f":"③加入者名簿!R30","v":0},{"$f":"③加入者名簿!S30","v":0},{"$f":"③加入者名簿!T30","v":0},{"$f":"③加入者名簿!U30","v":0},{"$f":"③加入者名簿!V30","v":0},{"$f":"③加入者名簿!W30","v":0}]
[{"$f":"③加入者名簿!C31","v":0},{"$f":"③加入者名簿!F31","v":0},{"$f":"③加入者名簿!G31","v":0},{"$f":"③加入者名簿!H31","v":0},{"$f":"③加入者名簿!I31","v":0},{"$f":"③加入者名簿!J31","v":0},{"$f":"③加入者名簿!K31","v":0},{"$f":"③加入者名簿!L31","v":0},{"$f":"③加入者名簿!M31","v":0},{"$f":"③加入者名簿!N31","v":0},{"$f":"③加入者名簿!O31","v":0},{"$f":"③加入者名簿!P31","v":0},{"$f":"③加入者名簿!Q31","v":0},{"$f":"③加入者名簿!R31","v":0},{"$f":"③加入者名簿!S31","v":0},{"$f":"③加入者名簿!T31","v":0},{"$f":"③加入者名簿!U31","v":0},{"$f":"③加入者名簿!V31","v":0},{"$f":"③加入者名簿!W31","v":0}]
[{"$f":"③加入者名簿!C32","v":0},{"$f":"③加入者名簿!F32","v":0},{"$f":"③加入者名簿!G32","v":0},{"$f":"③加入者名簿!H32","v":0},{"$f":"③加入者名簿!I32","v":0},{"$f":"③加入者名簿!J32","v":0},{"$f":"③加入者名簿!K32","v":0},{"$f":"③加入者名簿!L32","v":0},{"$f":"③加入者名簿!M32","v":0},{"$f":"③加入者名簿!N32","v":0},{"$f":"③加入者名簿!O32","v":0},{"$f":"③加入者名簿!P32","v":0},{"$f":"③加入者名簿!Q32","v":0},{"$f":"③加入者名簿!R32","v":0},{"$f":"③加入者名簿!S32","v":0},{"$f":"③加入者名簿!T32","v":0},{"$f":"③加入者名簿!U32","v":0},{"$f":"③加入者名簿!V32","v":0},{"$f":"③加入者名簿!W32","v":0}]
[{"$f":"③加入者名簿!C33","v":0},{"$f":"③加入者名簿!F33","v":0},{"$f":"③加入者名簿!G33","v":0},{"$f":"③加入者名簿!H33","v":0},{"$f":"③加入者名簿!I33","v":0},{"$f":"③加入者名簿!J33","v":0},{"$f":"③加入者名簿!K33","v":0},{"$f":"③加入者名簿!L33","v":0},{"$f":"③加入者名簿!M33","v":0},{"$f":"③加入者名簿!N33","v":0},{"$f":"③加入者名簿!O33","v":0},{"$f":"③加入者名簿!P33","v":0},{"$f":"③加入者名簿!Q33","v":0},{"$f":"③加入者名簿!R33","v":0},{"$f":"③加入者名簿!S33","v":0},{"$f":"③加入者名簿!T33","v":0},{"$f":"③加入者名簿!U33","v":0},{"$f":"③加入者名簿!V33","v":0},{"$f":"③加入者名簿!W33","v":0}]
[{"$f":"③加入者名簿!C34","v":0},{"$f":"③加入者名簿!F34","v":0},{"$f":"③加入者名簿!G34","v":0},{"$f":"③加入者名簿!H34","v":0},{"$f":"③加入者名簿!I34","v":0},{"$f":"③加入者名簿!J34","v":0},{"$f":"③加入者名簿!K34","v":0},{"$f":"③加入者名簿!L34","v":0},{"$f":"③加入者名簿!M34","v":0},{"$f":"③加入者名簿!N34","v":0},{"$f":"③加入者名簿!O34","v":0},{"$f":"③加入者名簿!P34","v":0},{"$f":"③加入者名簿!Q34","v":0},{"$f":"③加入者名簿!R34","v":0},{"$f":"③加入者名簿!S34","v":0},{"$f":"③加入者名簿!T34","v":0},{"$f":"③加入者名簿!U34","v":0},{"$f":"③加入者名簿!V34","v":0},{"$f":"③加入者名簿!W34","v":0}]
[{"$f":"③加入者名簿!C35","v":0},{"$f":"③加入者名簿!F35","v":0},{"$f":"③加入者名簿!G35","v":0},{"$f":"③加入者名簿!H35","v":0},{"$f":"③加入者名簿!I35","v":0},{"$f":"③加入者名簿!J35","v":0},{"$f":"③加入者名簿!K35","v":0},{"$f":"③加入者名簿!L35","v":0},{"$f":"③加入者名簿!M35","v":0},{"$f":"③加入者名簿!N35","v":0},{"$f":"③加入者名簿!O35","v":0},{"$f":"③加入者名簿!P35","v":0},{"$f":"③加入者名簿!Q35","v":0},{"$f":"③加入者名簿!R35","v":0},{"$f":"③加入者名簿!S35","v":0},{"$f":"③加入者名簿!T35","v":0},{"$f":"③加入者名簿!U35","v":0},{"$f":"③加入者名簿!V35","v":0},{"$f":"③加入者名簿!W35","v":0}]
[{"$f":"③加入者名簿!C36","v":0},{"$f":"③加入者名簿!F36","v":0},{"$f":"③加入者名簿!G36","v":0},{"$f":"③加入者名簿!H36","v":0},{"$f":"③加入者名簿!I36","v":0},{"$f":"③加入者名簿!J36","v":0},{"$f":"③加入者名簿!K36","v":0},{"$f":"③加入者名簿!L36","v":0},{"$f":"③加入者名簿!M36","v":0},{"$f":"③加入者名簿!N36","v":0},{"$f":"③加入者名簿!O36","v":0},{"$f":"③加入者名簿!P36","v":0},{"$f":"③加入者名簿!Q36","v":0},{"$f":"③加入者名簿!R36","v":0},{"$f":"③加入者名簿!S36","v":0},{"$f":"③加入者名簿!T36","v":0},{"$f":"③加入者名簿!U36","v":0},{"$f":"③加入者名簿!V36","v":0},{"$f":"③加入者名簿!W36","v":0}]
[{"$f":"③加入者名簿!C37","v":0},{"$f":"③加入者名簿!F37","v":0},{"$f":"③加入者名簿!G37","v":0},{"$f":"③加入者名簿!H37","v":0},{"$f":"③加入者名簿!I37","v":0},{"$f":"③加入者名簿!J37","v":0},{"$f":"③加入者名簿!K37","v":0},{"$f":"③加入者名簿!L37","v":0},{"$f":"③加入者名簿!M37","v":0},{"$f":"③加入者名簿!N37","v":0},{"$f":"③加入者名簿!O37","v":0},{"$f":"③加入者名簿!P37","v":0},{"$f":"③加入者名簿!Q37","v":0},{"$f":"③加入者名簿!R37","v":0},{"$f":"③加入者名簿!S37","v":0},{"$f":"③加入者名簿!T37","v":0},{"$f":"③加入者名簿!U37","v":0},{"$f":"③加入者名簿!V37","v":0},{"$f":"③加入者名簿!W37","v":0}]
[{"$f":"③加入者名簿!C38","v":0},{"$f":"③加入者名簿!F38","v":0},{"$f":"③加入者名簿!G38","v":0},{"$f":"③加入者名簿!H38","v":0},{"$f":"③加入者名簿!I38","v":0},{"$f":"③加入者名簿!J38","v":0},{"$f":"③加入者名簿!K38","v":0},{"$f":"③加入者名簿!L38","v":0},{"$f":"③加入者名簿!M38","v":0},{"$f":"③加入者名簿!N38","v":0},{"$f":"③加入者名簿!O38","v":0},{"$f":"③加入者名簿!P38","v":0},{"$f":"③加入者名簿!Q38","v":0},{"$f":"③加入者名簿!R38","v":0},{"$f":"③加入者名簿!S38","v":0},{"$f":"③加入者名簿!T38","v":0},{"$f":"③加入者名簿!U38","v":0},{"$f":"③加入者名簿!V38","v":0},{"$f":"③加入者名簿!W38","v":0}]
[{"$f":"③加入者名簿!C39","v":0},{"$f":"③加入者名簿!F39","v":0},{"$f":"③加入者名簿!G39","v":0},{"$f":"③加入者名簿!H39","v":0},{"$f":"③加入者名簿!I39","v":0},{"$f":"③加入者名簿!J39","v":0},{"$f":"③加入者名簿!K39","v":0},{"$f":"③加入者名簿!L39","v":0},{"$f":"③加入者名簿!M39","v":0},{"$f":"③加入者名簿!N39","v":0},{"$f":"③加入者名簿!O39","v":0},{"$f":"③加入者名簿!P39","v":0},{"$f":"③加入者名簿!Q39","v":0},{"$f":"③加入者名簿!R39","v":0},{"$f":"③加入者名簿!S39","v":0},{"$f":"③加入者名簿!T39","v":0},{"$f":"③加入者名簿!U39","v":0},{"$f":"③加入者名簿!V39","v":0},{"$f":"③加入者名簿!W39","v":0}]
[{"$f":"③加入者名簿!C40","v":0},{"$f":"③加入者名簿!F40","v":0},{"$f":"③加入者名簿!G40","v":0},{"$f":"③加入者名簿!H40","v":0},{"$f":"③加入者名簿!I40","v":0},{"$f":"③加入者名簿!J40","v":0},{"$f":"③加入者名簿!K40","v":0},{"$f":"③加入者名簿!L40","v":0},{"$f":"③加入者名簿!M40","v":0},{"$f":"③加入者名簿!N40","v":0},{"$f":"③加入者名簿!O40","v":0},{"$f":"③加入者名簿!P40","v":0},{"$f":"③加入者名簿!Q40","v":0},{"$f":"③加入者名簿!R40","v":0},{"$f":"③加入者名簿!S40","v":0},{"$f":"③加入者名簿!T40","v":0},{"$f":"③加入者名簿!U40","v":0},{"$f":"③加入者名簿!V40","v":0},{"$f":"③加入者名簿!W40","v":0}]
[{"$f":"③加入者名簿!C41","v":0},{"$f":"③加入者名簿!F41","v":0},{"$f":"③加入者名簿!G41","v":0},{"$f":"③加入者名簿!H41","v":0},{"$f":"③加入者名簿!I41","v":0},{"$f":"③加入者名簿!J41","v":0},{"$f":"③加入者名簿!K41","v":0},{"$f":"③加入者名簿!L41","v":0},{"$f":"③加入者名簿!M41","v":0},{"$f":"③加入者名簿!N41","v":0},{"$f":"③加入者名簿!O41","v":0},{"$f":"③加入者名簿!P41","v":0},{"$f":"③加入者名簿!Q41","v":0},{"$f":"③加入者名簿!R41","v":0},{"$f":"③加入者名簿!S41","v":0},{"$f":"③加入者名簿!T41","v":0},{"$f":"③加入者名簿!U41","v":0},{"$f":"③加入者名簿!V41","v":0},{"$f":"③加入者名簿!W41","v":0}]
[{"$f":"③加入者名簿!C42","v":0},{"$f":"③加入者名簿!F42","v":0},{"$f":"③加入者名簿!G42","v":0},{"$f":"③加入者名簿!H42","v":0},{"$f":"③加入者名簿!I42","v":0},{"$f":"③加入者名簿!J42","v":0},{"$f":"③加入者名簿!K42","v":0},{"$f":"③加入者名簿!L42","v":0},{"$f":"③加入者名簿!M42","v":0},{"$f":"③加入者名簿!N42","v":0},{"$f":"③加入者名簿!O42","v":0},{"$f":"③加入者名簿!P42","v":0},{"$f":"③加入者名簿!Q42","v":0},{"$f":"③加入者名簿!R42","v":0},{"$f":"③加入者名簿!S42","v":0},{"$f":"③加入者名簿!T42","v":0},{"$f":"③加入者名簿!U42","v":0},{"$f":"③加入者名簿!V42","v":0},{"$f":"③加入者名簿!W42","v":0}]
[{"$f":"③加入者名簿!C43","v":0},{"$f":"③加入者名簿!F43","v":0},{"$f":"③加入者名簿!G43","v":0},{"$f":"③加入者名簿!H43","v":0},{"$f":"③加入者名簿!I43","v":0},{"$f":"③加入者名簿!J43","v":0},{"$f":"③加入者名簿!K43","v":0},{"$f":"③加入者名簿!L43","v":0},{"$f":"③加入者名簿!M43","v":0},{"$f":"③加入者名簿!N43","v":0},{"$f":"③加入者名簿!O43","v":0},{"$f":"③加入者名簿!P43","v":0},{"$f":"③加入者名簿!Q43","v":0},{"$f":"③加入者名簿!R43","v":0},{"$f":"③加入者名簿!S43","v":0},{"$f":"③加入者名簿!T43","v":0},{"$f":"③加入者名簿!U43","v":0},{"$f":"③加入者名簿!V43","v":0},{"$f":"③加入者名簿!W43","v":0}]
[{"$f":"③加入者名簿!C44","v":0},{"$f":"③加入者名簿!F44","v":0},{"$f":"③加入者名簿!G44","v":0},{"$f":"③加入者名簿!H44","v":0},{"$f":"③加入者名簿!I44","v":0},{"$f":"③加入者名簿!J44","v":0},{"$f":"③加入者名簿!K44","v":0},{"$f":"③加入者名簿!L44","v":0},{"$f":"③加入者名簿!M44","v":0},{"$f":"③加入者名簿!N44","v":0},{"$f":"③加入者名簿!O44","v":0},{"$f":"③加入者名簿!P44","v":0},{"$f":"③加入者名簿!Q44","v":0},{"$f":"③加入者名簿!R44","v":0},{"$f":"③加入者名簿!S44","v":0},{"$f":"③加入者名簿!T44","v":0},{"$f":"③加入者名簿!U44","v":0},{"$f":"③加入者名簿!V44","v":0},{"$f":"③加入者名簿!W44","v":0}]
[{"$f":"③加入者名簿!C45","v":0},{"$f":"③加入者名簿!F45","v":0},{"$f":"③加入者名簿!G45","v":0},{"$f":"③加入者名簿!H45","v":0},{"$f":"③加入者名簿!I45","v":0},{"$f":"③加入者名簿!J45","v":0},{"$f":"③加入者名簿!K45","v":0},{"$f":"③加入者名簿!L45","v":0},{"$f":"③加入者名簿!M45","v":0},{"$f":"③加入者名簿!N45","v":0},{"$f":"③加入者名簿!O45","v":0},{"$f":"③加入者名簿!P45","v":0},{"$f":"③加入者名簿!Q45","v":0},{"$f":"③加入者名簿!R45","v":0},{"$f":"③加入者名簿!S45","v":0},{"$f":"③加入者名簿!T45","v":0},{"$f":"③加入者名簿!U45","v":0},{"$f":"③加入者名簿!V45","v":0},{"$f":"③加入者名簿!W45","v":0}]
[{"$f":"③加入者名簿!C46","v":0},{"$f":"③加入者名簿!F46","v":0},{"$f":"③加入者名簿!G46","v":0},{"$f":"③加入者名簿!H46","v":0},{"$f":"③加入者名簿!I46","v":0},{"$f":"③加入者名簿!J46","v":0},{"$f":"③加入者名簿!K46","v":0},{"$f":"③加入者名簿!L46","v":0},{"$f":"③加入者名簿!M46","v":0},{"$f":"③加入者名簿!N46","v":0},{"$f":"③加入者名簿!O46","v":0},{"$f":"③加入者名簿!P46","v":0},{"$f":"③加入者名簿!Q46","v":0},{"$f":"③加入者名簿!R46","v":0},{"$f":"③加入者名簿!S46","v":0},{"$f":"③加入者名簿!T46","v":0},{"$f":"③加入者名簿!U46","v":0},{"$f":"③加入者名簿!V46","v":0},{"$f":"③加入者名簿!W46","v":0}]
[{"$f":"③加入者名簿!C47","v":0},{"$f":"③加入者名簿!F47","v":0},{"$f":"③加入者名簿!G47","v":0},{"$f":"③加入者名簿!H47","v":0},{"$f":"③加入者名簿!I47","v":0},{"$f":"③加入者名簿!J47","v":0},{"$f":"③加入者名簿!K47","v":0},{"$f":"③加入者名簿!L47","v":0},{"$f":"③加入者名簿!M47","v":0},{"$f":"③加入者名簿!N47","v":0},{"$f":"③加入者名簿!O47","v":0},{"$f":"③加入者名簿!P47","v":0},{"$f":"③加入者名簿!Q47","v":0},{"$f":"③加入者名簿!R47","v":0},{"$f":"③加入者名簿!S47","v":0},{"$f":"③加入者名簿!T47","v":0},{"$f":"③加入者名簿!U47","v":0},{"$f":"③加入者名簿!V47","v":0},{"$f":"③加入者名簿!W47","v":0}]
[{"$f":"③加入者名簿!C48","v":0},{"$f":"③加入者名簿!F48","v":0},{"$f":"③加入者名簿!G48","v":0},{"$f":"③加入者名簿!H48","v":0},{"$f":"③加入者名簿!I48","v":0},{"$f":"③加入者名簿!J48","v":0},{"$f":"③加入者名簿!K48","v":0},{"$f":"③加入者名簿!L48","v":0},{"$f":"③加入者名簿!M48","v":0},{"$f":"③加入者名簿!N48","v":0},{"$f":"③加入者名簿!O48","v":0},{"$f":"③加入者名簿!P48","v":0},{"$f":"③加入者名簿!Q48","v":0},{"$f":"③加入者名簿!R48","v":0},{"$f":"③加入者名簿!S48","v":0},{"$f":"③加入者名簿!T48","v":0},{"$f":"③加入者名簿!U48","v":0},{"$f":"③加入者名簿!V48","v":0},{"$f":"③加入者名簿!W48","v":0}]
[{"$f":"③加入者名簿!C49","v":0},{"$f":"③加入者名簿!F49","v":0},{"$f":"③加入者名簿!G49","v":0},{"$f":"③加入者名簿!H49","v":0},{"$f":"③加入者名簿!I49","v":0},{"$f":"③加入者名簿!J49","v":0},{"$f":"③加入者名簿!K49","v":0},{"$f":"③加入者名簿!L49","v":0},{"$f":"③加入者名簿!M49","v":0},{"$f":"③加入者名簿!N49","v":0},{"$f":"③加入者名簿!O49","v":0},{"$f":"③加入者名簿!P49","v":0},{"$f":"③加入者名簿!Q49","v":0},{"$f":"③加入者名簿!R49","v":0},{"$f":"③加入者名簿!S49","v":0},{"$f":"③加入者名簿!T49","v":0},{"$f":"③加入者名簿!U49","v":0},{"$f":"③加入者名簿!V49","v":0},{"$f":"③加入者名簿!W49","v":0}]
[{"$f":"③加入者名簿!C50","v":0},{"$f":"③加入者名簿!F50","v":0},{"$f":"③加入者名簿!G50","v":0},{"$f":"③加入者名簿!H50","v":0},{"$f":"③加入者名簿!I50","v":0},{"$f":"③加入者名簿!J50","v":0},{"$f":"③加入者名簿!K50","v":0},{"$f":"③加入者名簿!L50","v":0},{"$f":"③加入者名簿!M50","v":0},{"$f":"③加入者名簿!N50","v":0},{"$f":"③加入者名簿!O50","v":0},{"$f":"③加入者名簿!P50","v":0},{"$f":"③加入者名簿!Q50","v":0},{"$f":"③加入者名簿!R50","v":0},{"$f":"③加入者名簿!S50","v":0},{"$f":"③加入者名簿!T50","v":0},{"$f":"③加入者名簿!U50","v":0},{"$f":"③加入者名簿!V50","v":0},{"$f":"③加入者名簿!W50","v":0}]
[{"$f":"③加入者名簿!C51","v":0},{"$f":"③加入者名簿!F51","v":0},{"$f":"③加入者名簿!G51","v":0},{"$f":"③加入者名簿!H51","v":0},{"$f":"③加入者名簿!I51","v":0},{"$f":"③加入者名簿!J51","v":0},{"$f":"③加入者名簿!K51","v":0},{"$f":"③加入者名簿!L51","v":0},{"$f":"③加入者名簿!M51","v":0},{"$f":"③加入者名簿!N51","v":0},{"$f":"③加入者名簿!O51","v":0},{"$f":"③加入者名簿!P51","v":0},{"$f":"③加入者名簿!Q51","v":0},{"$f":"③加入者名簿!R51","v":0},{"$f":"③加入者名簿!S51","v":0},{"$f":"③加入者名簿!T51","v":0},{"$f":"③加入者名簿!U51","v":0},{"$f":"③加入者名簿!V51","v":0},{"$f":"③加入者名簿!W51","v":0}]
[{"$f":"③加入者名簿!C52","v":0},{"$f":"③加入者名簿!F52","v":0},{"$f":"③加入者名簿!G52","v":0},{"$f":"③加入者名簿!H52","v":0},{"$f":"③加入者名簿!I52","v":0},{"$f":"③加入者名簿!J52","v":0},{"$f":"③加入者名簿!K52","v":0},{"$f":"③加入者名簿!L52","v":0},{"$f":"③加入者名簿!M52","v":0},{"$f":"③加入者名簿!N52","v":0},{"$f":"③加入者名簿!O52","v":0},{"$f":"③加入者名簿!P52","v":0},{"$f":"③加入者名簿!Q52","v":0},{"$f":"③加入者名簿!R52","v":0},{"$f":"③加入者名簿!S52","v":0},{"$f":"③加入者名簿!T52","v":0},{"$f":"③加入者名簿!U52","v":0},{"$f":"③加入者名簿!V52","v":0},{"$f":"③加入者名簿!W52","v":0}]
[{"$f":"③加入者名簿!C53","v":0},{"$f":"③加入者名簿!F53","v":0},{"$f":"③加入者名簿!G53","v":0},{"$f":"③加入者名簿!H53","v":0},{"$f":"③加入者名簿!I53","v":0},{"$f":"③加入者名簿!J53","v":0},{"$f":"③加入者名簿!K53","v":0},{"$f":"③加入者名簿!L53","v":0},{"$f":"③加入者名簿!M53","v":0},{"$f":"③加入者名簿!N53","v":0},{"$f":"③加入者名簿!O53","v":0},{"$f":"③加入者名簿!P53","v":0},{"$f":"③加入者名簿!Q53","v":0},{"$f":"③加入者名簿!R53","v":0},{"$f":"③加入者名簿!S53","v":0},{"$f":"③加入者名簿!T53","v":0},{"$f":"③加入者名簿!U53","v":0},{"$f":"③加入者名簿!V53","v":0},{"$f":"③加入者名簿!W53","v":0}]
[{"$f":"③加入者名簿!C54","v":0},{"$f":"③加入者名簿!F54","v":0},{"$f":"③加入者名簿!G54","v":0},{"$f":"③加入者名簿!H54","v":0},{"$f":"③加入者名簿!I54","v":0},{"$f":"③加入者名簿!J54","v":0},{"$f":"③加入者名簿!K54","v":0},{"$f":"③加入者名簿!L54","v":0},{"$f":"③加入者名簿!M54","v":0},{"$f":"③加入者名簿!N54","v":0},{"$f":"③加入者名簿!O54","v":0},{"$f":"③加入者名簿!P54","v":0},{"$f":"③加入者名簿!Q54","v":0},{"$f":"③加入者名簿!R54","v":0},{"$f":"③加入者名簿!S54","v":0},{"$f":"③加入者名簿!T54","v":0},{"$f":"③加入者名簿!U54","v":0},{"$f":"③加入者名簿!V54","v":0},{"$f":"③加入者名簿!W54","v":0}]
[{"$f":"③加入者名簿!C55","v":0},{"$f":"③加入者名簿!F55","v":0},{"$f":"③加入者名簿!G55","v":0},{"$f":"③加入者名簿!H55","v":0},{"$f":"③加入者名簿!I55","v":0},{"$f":"③加入者名簿!J55","v":0},{"$f":"③加入者名簿!K55","v":0},{"$f":"③加入者名簿!L55","v":0},{"$f":"③加入者名簿!M55","v":0},{"$f":"③加入者名簿!N55","v":0},{"$f":"③加入者名簿!O55","v":0},{"$f":"③加入者名簿!P55","v":0},{"$f":"③加入者名簿!Q55","v":0},{"$f":"③加入者名簿!R55","v":0},{"$f":"③加入者名簿!S55","v":0},{"$f":"③加入者名簿!T55","v":0},{"$f":"③加入者名簿!U55","v":0},{"$f":"③加入者名簿!V55","v":0},{"$f":"③加入者名簿!W55","v":0}]
[{"$f":"③加入者名簿!C56","v":0},{"$f":"③加入者名簿!F56","v":0},{"$f":"③加入者名簿!G56","v":0},{"$f":"③加入者名簿!H56","v":0},{"$f":"③加入者名簿!I56","v":0},{"$f":"③加入者名簿!J56","v":0},{"$f":"③加入者名簿!K56","v":0},{"$f":"③加入者名簿!L56","v":0},{"$f":"③加入者名簿!M56","v":0},{"$f":"③加入者名簿!N56","v":0},{"$f":"③加入者名簿!O56","v":0},{"$f":"③加入者名簿!P56","v":0},{"$f":"③加入者名簿!Q56","v":0},{"$f":"③加入者名簿!R56","v":0},{"$f":"③加入者名簿!S56","v":0},{"$f":"③加入者名簿!T56","v":0},{"$f":"③加入者名簿!U56","v":0},{"$f":"③加入者名簿!V56","v":0},{"$f":"③加入者名簿!W56","v":0}]
[{"$f":"③加入者名簿!C57","v":0},{"$f":"③加入者名簿!F57","v":0},{"$f":"③加入者名簿!G57","v":0},{"$f":"③加入者名簿!H57","v":0},{"$f":"③加入者名簿!I57","v":0},{"$f":"③加入者名簿!J57","v":0},{"$f":"③加入者名簿!K57","v":0},{"$f":"③加入者名簿!L57","v":0},{"$f":"③加入者名簿!M57","v":0},{"$f":"③加入者名簿!N57","v":0},{"$f":"③加入者名簿!O57","v":0},{"$f":"③加入者名簿!P57","v":0},{"$f":"③加入者名簿!Q57","v":0},{"$f":"③加入者名簿!R57","v":0},{"$f":"③加入者名簿!S57","v":0},{"$f":"③加入者名簿!T57","v":0},{"$f":"③加入者名簿!U57","v":0},{"$f":"③加入者名簿!V57","v":0},{"$f":"③加入者名簿!W57","v":0}]
[{"$f":"③加入者名簿!C58","v":0},{"$f":"③加入者名簿!F58","v":0},{"$f":"③加入者名簿!G58","v":0},{"$f":"③加入者名簿!H58","v":0},{"$f":"③加入者名簿!I58","v":0},{"$f":"③加入者名簿!J58","v":0},{"$f":"③加入者名簿!K58","v":0},{"$f":"③加入者名簿!L58","v":0},{"$f":"③加入者名簿!M58","v":0},{"$f":"③加入者名簿!N58","v":0},{"$f":"③加入者名簿!O58","v":0},{"$f":"③加入者名簿!P58","v":0},{"$f":"③加入者名簿!Q58","v":0},{"$f":"③加入者名簿!R58","v":0},{"$f":"③加入者名簿!S58","v":0},{"$f":"③加入者名簿!T58","v":0},{"$f":"③加入者名簿!U58","v":0},{"$f":"③加入者名簿!V58","v":0},{"$f":"③加入者名簿!W58","v":0}]
[{"$f":"③加入者名簿!C59","v":0},{"$f":"③加入者名簿!F59","v":0},{"$f":"③加入者名簿!G59","v":0},{"$f":"③加入者名簿!H59","v":0},{"$f":"③加入者名簿!I59","v":0},{"$f":"③加入者名簿!J59","v":0},{"$f":"③加入者名簿!K59","v":0},{"$f":"③加入者名簿!L59","v":0},{"$f":"③加入者名簿!M59","v":0},{"$f":"③加入者名簿!N59","v":0},{"$f":"③加入者名簿!O59","v":0},{"$f":"③加入者名簿!P59","v":0},{"$f":"③加入者名簿!Q59","v":0},{"$f":"③加入者名簿!R59","v":0},{"$f":"③加入者名簿!S59","v":0},{"$f":"③加入者名簿!T59","v":0},{"$f":"③加入者名簿!U59","v":0},{"$f":"③加入者名簿!V59","v":0},{"$f":"③加入者名簿!W59","v":0}]
[{"$f":"③加入者名簿!C60","v":0},{"$f":"③加入者名簿!F60","v":0},{"$f":"③加入者名簿!G60","v":0},{"$f":"③加入者名簿!H60","v":0},{"$f":"③加入者名簿!I60","v":0},{"$f":"③加入者名簿!J60","v":0},{"$f":"③加入者名簿!K60","v":0},{"$f":"③加入者名簿!L60","v":0},{"$f":"③加入者名簿!M60","v":0},{"$f":"③加入者名簿!N60","v":0},{"$f":"③加入者名簿!O60","v":0},{"$f":"③加入者名簿!P60","v":0},{"$f":"③加入者名簿!Q60","v":0},{"$f":"③加入者名簿!R60","v":0},{"$f":"③加入者名簿!S60","v":0},{"$f":"③加入者名簿!T60","v":0},{"$f":"③加入者名簿!U60","v":0},{"$f":"③加入者名簿!V60","v":0},{"$f":"③加入者名簿!W60","v":0}]
[{"$f":"③加入者名簿!C61","v":0},{"$f":"③加入者名簿!F61","v":0},{"$f":"③加入者名簿!G61","v":0},{"$f":"③加入者名簿!H61","v":0},{"$f":"③加入者名簿!I61","v":0},{"$f":"③加入者名簿!J61","v":0},{"$f":"③加入者名簿!K61","v":0},{"$f":"③加入者名簿!L61","v":0},{"$f":"③加入者名簿!M61","v":0},{"$f":"③加入者名簿!N61","v":0},{"$f":"③加入者名簿!O61","v":0},{"$f":"③加入者名簿!P61","v":0},{"$f":"③加入者名簿!Q61","v":0},{"$f":"③加入者名簿!R61","v":0},{"$f":"③加入者名簿!S61","v":0},{"$f":"③加入者名簿!T61","v":0},{"$f":"③加入者名簿!U61","v":0},{"$f":"③加入者名簿!V61","v":0},{"$f":"③加入者名簿!W61","v":0}]
[{"$f":"③加入者名簿!C62","v":0},{"$f":"③加入者名簿!F62","v":0},{"$f":"③加入者名簿!G62","v":0},{"$f":"③加入者名簿!H62","v":0},{"$f":"③加入者名簿!I62","v":0},{"$f":"③加入者名簿!J62","v":0},{"$f":"③加入者名簿!K62","v":0},{"$f":"③加入者名簿!L62","v":0},{"$f":"③加入者名簿!M62","v":0},{"$f":"③加入者名簿!N62","v":0},{"$f":"③加入者名簿!O62","v":0},{"$f":"③加入者名簿!P62","v":0},{"$f":"③加入者名簿!Q62","v":0},{"$f":"③加入者名簿!R62","v":0},{"$f":"③加入者名簿!S62","v":0},{"$f":"③加入者名簿!T62","v":0},{"$f":"③加入者名簿!U62","v":0},{"$f":"③加入者名簿!V62","v":0},{"$f":"③加入者名簿!W62","v":0}]
[{"$f":"③加入者名簿!C63","v":0},{"$f":"③加入者名簿!F63","v":0},{"$f":"③加入者名簿!G63","v":0},{"$f":"③加入者名簿!H63","v":0},{"$f":"③加入者名簿!I63","v":0},{"$f":"③加入者名簿!J63","v":0},{"$f":"③加入者名簿!K63","v":0},{"$f":"③加入者名簿!L63","v":0},{"$f":"③加入者名簿!M63","v":0},{"$f":"③加入者名簿!N63","v":0},{"$f":"③加入者名簿!O63","v":0},{"$f":"③加入者名簿!P63","v":0},{"$f":"③加入者名簿!Q63","v":0},{"$f":"③加入者名簿!R63","v":0},{"$f":"③加入者名簿!S63","v":0},{"$f":"③加入者名簿!T63","v":0},{"$f":"③加入者名簿!U63","v":0},{"$f":"③加入者名簿!V63","v":0},{"$f":"③加入者名簿!W63","v":0}]
[{"$f":"③加入者名簿!C64","v":0},{"$f":"③加入者名簿!F64","v":0},{"$f":"③加入者名簿!G64","v":0},{"$f":"③加入者名簿!H64","v":0},{"$f":"③加入者名簿!I64","v":0},{"$f":"③加入者名簿!J64","v":0},{"$f":"③加入者名簿!K64","v":0},{"$f":"③加入者名簿!L64","v":0},{"$f":"③加入者名簿!M64","v":0},{"$f":"③加入者名簿!N64","v":0},{"$f":"③加入者名簿!O64","v":0},{"$f":"③加入者名簿!P64","v":0},{"$f":"③加入者名簿!Q64","v":0},{"$f":"③加入者名簿!R64","v":0},{"$f":"③加入者名簿!S64","v":0},{"$f":"③加入者名簿!T64","v":0},{"$f":"③加入者名簿!U64","v":0},{"$f":"③加入者名簿!V64","v":0},{"$f":"③加入者名簿!W64","v":0}]
[{"$f":"③加入者名簿!C65","v":0},{"$f":"③加入者名簿!F65","v":0},{"$f":"③加入者名簿!G65","v":0},{"$f":"③加入者名簿!H65","v":0},{"$f":"③加入者名簿!I65","v":0},{"$f":"③加入者名簿!J65","v":0},{"$f":"③加入者名簿!K65","v":0},{"$f":"③加入者名簿!L65","v":0},{"$f":"③加入者名簿!M65","v":0},{"$f":"③加入者名簿!N65","v":0},{"$f":"③加入者名簿!O65","v":0},{"$f":"③加入者名簿!P65","v":0},{"$f":"③加入者名簿!Q65","v":0},{"$f":"③加入者名簿!R65","v":0},{"$f":"③加入者名簿!S65","v":0},{"$f":"③加入者名簿!T65","v":0},{"$f":"③加入者名簿!U65","v":0},{"$f":"③加入者名簿!V65","v":0},{"$f":"③加入者名簿!W65","v":0}]
[{"$f":"③加入者名簿!C66","v":0},{"$f":"③加入者名簿!F66","v":0},{"$f":"③加入者名簿!G66","v":0},{"$f":"③加入者名簿!H66","v":0},{"$f":"③加入者名簿!I66","v":0},{"$f":"③加入者名簿!J66","v":0},{"$f":"③加入者名簿!K66","v":0},{"$f":"③加入者名簿!L66","v":0},{"$f":"③加入者名簿!M66","v":0},{"$f":"③加入者名簿!N66","v":0},{"$f":"③加入者名簿!O66","v":0},{"$f":"③加入者名簿!P66","v":0},{"$f":"③加入者名簿!Q66","v":0},{"$f":"③加入者名簿!R66","v":0},{"$f":"③加入者名簿!S66","v":0},{"$f":"③加入者名簿!T66","v":0},{"$f":"③加入者名簿!U66","v":0},{"$f":"③加入者名簿!V66","v":0},{"$f":"③加入者名簿!W66","v":0}]
[{"$f":"③加入者名簿!C67","v":0},{"$f":"③加入者名簿!F67","v":0},{"$f":"③加入者名簿!G67","v":0},{"$f":"③加入者名簿!H67","v":0},{"$f":"③加入者名簿!I67","v":0},{"$f":"③加入者名簿!J67","v":0},{"$f":"③加入者名簿!K67","v":0},{"$f":"③加入者名簿!L67","v":0},{"$f":"③加入者名簿!M67","v":0},{"$f":"③加入者名簿!N67","v":0},{"$f":"③加入者名簿!O67","v":0},{"$f":"③加入者名簿!P67","v":0},{"$f":"③加入者名簿!Q67","v":0},{"$f":"③加入者名簿!R67","v":0},{"$f":"③加入者名簿!S67","v":0},{"$f":"③加入者名簿!T67","v":0},{"$f":"③加入者名簿!U67","v":0},{"$f":"③加入者名簿!V67","v":0},{"$f":"③加入者名簿!W67","v":0}]
[{"$f":"③加入者名簿!C68","v":0},{"$f":"③加入者名簿!F68","v":0},{"$f":"③加入者名簿!G68","v":0},{"$f":"③加入者名簿!H68","v":0},{"$f":"③加入者名簿!I68","v":0},{"$f":"③加入者名簿!J68","v":0},{"$f":"③加入者名簿!K68","v":0},{"$f":"③加入者名簿!L68","v":0},{"$f":"③加入者名簿!M68","v":0},{"$f":"③加入者名簿!N68","v":0},{"$f":"③加入者名簿!O68","v":0},{"$f":"③加入者名簿!P68","v":0},{"$f":"③加入者名簿!Q68","v":0},{"$f":"③加入者名簿!R68","v":0},{"$f":"③加入者名簿!S68","v":0},{"$f":"③加入者名簿!T68","v":0},{"$f":"③加入者名簿!U68","v":0},{"$f":"③加入者名簿!V68","v":0},{"$f":"③加入者名簿!W68","v":0}]
[{"$f":"③加入者名簿!C69","v":0},{"$f":"③加入者名簿!F69","v":0},{"$f":"③加入者名簿!G69","v":0},{"$f":"③加入者名簿!H69","v":0},{"$f":"③加入者名簿!I69","v":0},{"$f":"③加入者名簿!J69","v":0},{"$f":"③加入者名簿!K69","v":0},{"$f":"③加入者名簿!L69","v":0},{"$f":"③加入者名簿!M69","v":0},{"$f":"③加入者名簿!N69","v":0},{"$f":"③加入者名簿!O69","v":0},{"$f":"③加入者名簿!P69","v":0},{"$f":"③加入者名簿!Q69","v":0},{"$f":"③加入者名簿!R69","v":0},{"$f":"③加入者名簿!S69","v":0},{"$f":"③加入者名簿!T69","v":0},{"$f":"③加入者名簿!U69","v":0},{"$f":"③加入者名簿!V69","v":0},{"$f":"③加入者名簿!W69","v":0}]
[{"$f":"③加入者名簿!C70","v":0},{"$f":"③加入者名簿!F70","v":0},{"$f":"③加入者名簿!G70","v":0},{"$f":"③加入者名簿!H70","v":0},{"$f":"③加入者名簿!I70","v":0},{"$f":"③加入者名簿!J70","v":0},{"$f":"③加入者名簿!K70","v":0},{"$f":"③加入者名簿!L70","v":0},{"$f":"③加入者名簿!M70","v":0},{"$f":"③加入者名簿!N70","v":0},{"$f":"③加入者名簿!O70","v":0},{"$f":"③加入者名簿!P70","v":0},{"$f":"③加入者名簿!Q70","v":0},{"$f":"③加入者名簿!R70","v":0},{"$f":"③加入者名簿!S70","v":0},{"$f":"③加入者名簿!T70","v":0},{"$f":"③加入者名簿!U70","v":0},{"$f":"③加入者名簿!V70","v":0},{"$f":"③加入者名簿!W70","v":0}]
[{"$f":"③加入者名簿!C71","v":0},{"$f":"③加入者名簿!F71","v":0},{"$f":"③加入者名簿!G71","v":0},{"$f":"③加入者名簿!H71","v":0},{"$f":"③加入者名簿!I71","v":0},{"$f":"③加入者名簿!J71","v":0},{"$f":"③加入者名簿!K71","v":0},{"$f":"③加入者名簿!L71","v":0},{"$f":"③加入者名簿!M71","v":0},{"$f":"③加入者名簿!N71","v":0},{"$f":"③加入者名簿!O71","v":0},{"$f":"③加入者名簿!P71","v":0},{"$f":"③加入者名簿!Q71","v":0},{"$f":"③加入者名簿!R71","v":0},{"$f":"③加入者名簿!S71","v":0},{"$f":"③加入者名簿!T71","v":0},{"$f":"③加入者名簿!U71","v":0},{"$f":"③加入者名簿!V71","v":0},{"$f":"③加入者名簿!W71","v":0}]
[{"$f":"③加入者名簿!C72","v":0},{"$f":"③加入者名簿!F72","v":0},{"$f":"③加入者名簿!G72","v":0},{"$f":"③加入者名簿!H72","v":0},{"$f":"③加入者名簿!I72","v":0},{"$f":"③加入者名簿!J72","v":0},{"$f":"③加入者名簿!K72","v":0},{"$f":"③加入者名簿!L72","v":0},{"$f":"③加入者名簿!M72","v":0},{"$f":"③加入者名簿!N72","v":0},{"$f":"③加入者名簿!O72","v":0},{"$f":"③加入者名簿!P72","v":0},{"$f":"③加入者名簿!Q72","v":0},{"$f":"③加入者名簿!R72","v":0},{"$f":"③加入者名簿!S72","v":0},{"$f":"③加入者名簿!T72","v":0},{"$f":"③加入者名簿!U72","v":0},{"$f":"③加入者名簿!V72","v":0},{"$f":"③加入者名簿!W72","v":0}]
[{"$f":"③加入者名簿!C73","v":0},{"$f":"③加入者名簿!F73","v":0},{"$f":"③加入者名簿!G73","v":0},{"$f":"③加入者名簿!H73","v":0},{"$f":"③加入者名簿!I73","v":0},{"$f":"③加入者名簿!J73","v":0},{"$f":"③加入者名簿!K73","v":0},{"$f":"③加入者名簿!L73","v":0},{"$f":"③加入者名簿!M73","v":0},{"$f":"③加入者名簿!N73","v":0},{"$f":"③加入者名簿!O73","v":0},{"$f":"③加入者名簿!P73","v":0},{"$f":"③加入者名簿!Q73","v":0},{"$f":"③加入者名簿!R73","v":0},{"$f":"③加入者名簿!S73","v":0},{"$f":"③加入者名簿!T73","v":0},{"$f":"③加入者名簿!U73","v":0},{"$f":"③加入者名簿!V73","v":0},{"$f":"③加入者名簿!W73","v":0}]
[{"$f":"③加入者名簿!C74","v":0},{"$f":"③加入者名簿!F74","v":0},{"$f":"③加入者名簿!G74","v":0},{"$f":"③加入者名簿!H74","v":0},{"$f":"③加入者名簿!I74","v":0},{"$f":"③加入者名簿!J74","v":0},{"$f":"③加入者名簿!K74","v":0},{"$f":"③加入者名簿!L74","v":0},{"$f":"③加入者名簿!M74","v":0},{"$f":"③加入者名簿!N74","v":0},{"$f":"③加入者名簿!O74","v":0},{"$f":"③加入者名簿!P74","v":0},{"$f":"③加入者名簿!Q74","v":0},{"$f":"③加入者名簿!R74","v":0},{"$f":"③加入者名簿!S74","v":0},{"$f":"③加入者名簿!T74","v":0},{"$f":"③加入者名簿!U74","v":0},{"$f":"③加入者名簿!V74","v":0},{"$f":"③加入者名簿!W74","v":0}]
[{"$f":"③加入者名簿!C75","v":0},{"$f":"③加入者名簿!F75","v":0},{"$f":"③加入者名簿!G75","v":0},{"$f":"③加入者名簿!H75","v":0},{"$f":"③加入者名簿!I75","v":0},{"$f":"③加入者名簿!J75","v":0},{"$f":"③加入者名簿!K75","v":0},{"$f":"③加入者名簿!L75","v":0},{"$f":"③加入者名簿!M75","v":0},{"$f":"③加入者名簿!N75","v":0},{"$f":"③加入者名簿!O75","v":0},{"$f":"③加入者名簿!P75","v":0},{"$f":"③加入者名簿!Q75","v":0},{"$f":"③加入者名簿!R75","v":0},{"$f":"③加入者名簿!S75","v":0},{"$f":"③加入者名簿!T75","v":0},{"$f":"③加入者名簿!U75","v":0},{"$f":"③加入者名簿!V75","v":0},{"$f":"③加入者名簿!W75","v":0}]
[{"$f":"③加入者名簿!C76","v":0},{"$f":"③加入者名簿!F76","v":0},{"$f":"③加入者名簿!G76","v":0},{"$f":"③加入者名簿!H76","v":0},{"$f":"③加入者名簿!I76","v":0},{"$f":"③加入者名簿!J76","v":0},{"$f":"③加入者名簿!K76","v":0},{"$f":"③加入者名簿!L76","v":0},{"$f":"③加入者名簿!M76","v":0},{"$f":"③加入者名簿!N76","v":0},{"$f":"③加入者名簿!O76","v":0},{"$f":"③加入者名簿!P76","v":0},{"$f":"③加入者名簿!Q76","v":0},{"$f":"③加入者名簿!R76","v":0},{"$f":"③加入者名簿!S76","v":0},{"$f":"③加入者名簿!T76","v":0},{"$f":"③加入者名簿!U76","v":0},{"$f":"③加入者名簿!V76","v":0},{"$f":"③加入者名簿!W76","v":0}]
[{"$f":"③加入者名簿!C77","v":0},{"$f":"③加入者名簿!F77","v":0},{"$f":"③加入者名簿!G77","v":0},{"$f":"③加入者名簿!H77","v":0},{"$f":"③加入者名簿!I77","v":0},{"$f":"③加入者名簿!J77","v":0},{"$f":"③加入者名簿!K77","v":0},{"$f":"③加入者名簿!L77","v":0},{"$f":"③加入者名簿!M77","v":0},{"$f":"③加入者名簿!N77","v":0},{"$f":"③加入者名簿!O77","v":0},{"$f":"③加入者名簿!P77","v":0},{"$f":"③加入者名簿!Q77","v":0},{"$f":"③加入者名簿!R77","v":0},{"$f":"③加入者名簿!S77","v":0},{"$f":"③加入者名簿!T77","v":0},{"$f":"③加入者名簿!U77","v":0},{"$f":"③加入者名簿!V77","v":0},{"$f":"③加入者名簿!W77","v":0}]
[{"$f":"③加入者名簿!C78","v":0},{"$f":"③加入者名簿!F78","v":0},{"$f":"③加入者名簿!G78","v":0},{"$f":"③加入者名簿!H78","v":0},{"$f":"③加入者名簿!I78","v":0},{"$f":"③加入者名簿!J78","v":0},{"$f":"③加入者名簿!K78","v":0},{"$f":"③加入者名簿!L78","v":0},{"$f":"③加入者名簿!M78","v":0},{"$f":"③加入者名簿!N78","v":0},{"$f":"③加入者名簿!O78","v":0},{"$f":"③加入者名簿!P78","v":0},{"$f":"③加入者名簿!Q78","v":0},{"$f":"③加入者名簿!R78","v":0},{"$f":"③加入者名簿!S78","v":0},{"$f":"③加入者名簿!T78","v":0},{"$f":"③加入者名簿!U78","v":0},{"$f":"③加入者名簿!V78","v":0},{"$f":"③加入者名簿!W78","v":0}]
[{"$f":"③加入者名簿!C79","v":0},{"$f":"③加入者名簿!F79","v":0},{"$f":"③加入者名簿!G79","v":0},{"$f":"③加入者名簿!H79","v":0},{"$f":"③加入者名簿!I79","v":0},{"$f":"③加入者名簿!J79","v":0},{"$f":"③加入者名簿!K79","v":0},{"$f":"③加入者名簿!L79","v":0},{"$f":"③加入者名簿!M79","v":0},{"$f":"③加入者名簿!N79","v":0},{"$f":"③加入者名簿!O79","v":0},{"$f":"③加入者名簿!P79","v":0},{"$f":"③加入者名簿!Q79","v":0},{"$f":"③加入者名簿!R79","v":0},{"$f":"③加入者名簿!S79","v":0},{"$f":"③加入者名簿!T79","v":0},{"$f":"③加入者名簿!U79","v":0},{"$f":"③加入者名簿!V79","v":0},{"$f":"③加入者名簿!W79","v":0}]
[{"$f":"③加入者名簿!C80","v":0},{"$f":"③加入者名簿!F80","v":0},{"$f":"③加入者名簿!G80","v":0},{"$f":"③加入者名簿!H80","v":0},{"$f":"③加入者名簿!I80","v":0},{"$f":"③加入者名簿!J80","v":0},{"$f":"③加入者名簿!K80","v":0},{"$f":"③加入者名簿!L80","v":0},{"$f":"③加入者名簿!M80","v":0},{"$f":"③加入者名簿!N80","v":0},{"$f":"③加入者名簿!O80","v":0},{"$f":"③加入者名簿!P80","v":0},{"$f":"③加入者名簿!Q80","v":0},{"$f":"③加入者名簿!R80","v":0},{"$f":"③加入者名簿!S80","v":0},{"$f":"③加入者名簿!T80","v":0},{"$f":"③加入者名簿!U80","v":0},{"$f":"③加入者名簿!V80","v":0},{"$f":"③加入者名簿!W80","v":0}]
[{"$f":"③加入者名簿!C81","v":0},{"$f":"③加入者名簿!F81","v":0},{"$f":"③加入者名簿!G81","v":0},{"$f":"③加入者名簿!H81","v":0},{"$f":"③加入者名簿!I81","v":0},{"$f":"③加入者名簿!J81","v":0},{"$f":"③加入者名簿!K81","v":0},{"$f":"③加入者名簿!L81","v":0},{"$f":"③加入者名簿!M81","v":0},{"$f":"③加入者名簿!N81","v":0},{"$f":"③加入者名簿!O81","v":0},{"$f":"③加入者名簿!P81","v":0},{"$f":"③加入者名簿!Q81","v":0},{"$f":"③加入者名簿!R81","v":0},{"$f":"③加入者名簿!S81","v":0},{"$f":"③加入者名簿!T81","v":0},{"$f":"③加入者名簿!U81","v":0},{"$f":"③加入者名簿!V81","v":0},{"$f":"③加入者名簿!W81","v":0}]
[{"$f":"③加入者名簿!C82","v":0},{"$f":"③加入者名簿!F82","v":0},{"$f":"③加入者名簿!G82","v":0},{"$f":"③加入者名簿!H82","v":0},{"$f":"③加入者名簿!I82","v":0},{"$f":"③加入者名簿!J82","v":0},{"$f":"③加入者名簿!K82","v":0},{"$f":"③加入者名簿!L82","v":0},{"$f":"③加入者名簿!M82","v":0},{"$f":"③加入者名簿!N82","v":0},{"$f":"③加入者名簿!O82","v":0},{"$f":"③加入者名簿!P82","v":0},{"$f":"③加入者名簿!Q82","v":0},{"$f":"③加入者名簿!R82","v":0},{"$f":"③加入者名簿!S82","v":0},{"$f":"③加入者名簿!T82","v":0},{"$f":"③加入者名簿!U82","v":0},{"$f":"③加入者名簿!V82","v":0},{"$f":"③加入者名簿!W82","v":0}]
[{"$f":"③加入者名簿!C83","v":0},{"$f":"③加入者名簿!F83","v":0},{"$f":"③加入者名簿!G83","v":0},{"$f":"③加入者名簿!H83","v":0},{"$f":"③加入者名簿!I83","v":0},{"$f":"③加入者名簿!J83","v":0},{"$f":"③加入者名簿!K83","v":0},{"$f":"③加入者名簿!L83","v":0},{"$f":"③加入者名簿!M83","v":0},{"$f":"③加入者名簿!N83","v":0},{"$f":"③加入者名簿!O83","v":0},{"$f":"③加入者名簿!P83","v":0},{"$f":"③加入者名簿!Q83","v":0},{"$f":"③加入者名簿!R83","v":0},{"$f":"③加入者名簿!S83","v":0},{"$f":"③加入者名簿!T83","v":0},{"$f":"③加入者名簿!U83","v":0},{"$f":"③加入者名簿!V83","v":0},{"$f":"③加入者名簿!W83","v":0}]
[{"$f":"③加入者名簿!C84","v":0},{"$f":"③加入者名簿!F84","v":0},{"$f":"③加入者名簿!G84","v":0},{"$f":"③加入者名簿!H84","v":0},{"$f":"③加入者名簿!I84","v":0},{"$f":"③加入者名簿!J84","v":0},{"$f":"③加入者名簿!K84","v":0},{"$f":"③加入者名簿!L84","v":0},{"$f":"③加入者名簿!M84","v":0},{"$f":"③加入者名簿!N84","v":0},{"$f":"③加入者名簿!O84","v":0},{"$f":"③加入者名簿!P84","v":0},{"$f":"③加入者名簿!Q84","v":0},{"$f":"③加入者名簿!R84","v":0},{"$f":"③加入者名簿!S84","v":0},{"$f":"③加入者名簿!T84","v":0},{"$f":"③加入者名簿!U84","v":0},{"$f":"③加入者名簿!V84","v":0},{"$f":"③加入者名簿!W84","v":0}]
[{"$f":"③加入者名簿!C85","v":0},{"$f":"③加入者名簿!F85","v":0},{"$f":"③加入者名簿!G85","v":0},{"$f":"③加入者名簿!H85","v":0},{"$f":"③加入者名簿!I85","v":0},{"$f":"③加入者名簿!J85","v":0},{"$f":"③加入者名簿!K85","v":0},{"$f":"③加入者名簿!L85","v":0},{"$f":"③加入者名簿!M85","v":0},{"$f":"③加入者名簿!N85","v":0},{"$f":"③加入者名簿!O85","v":0},{"$f":"③加入者名簿!P85","v":0},{"$f":"③加入者名簿!Q85","v":0},{"$f":"③加入者名簿!R85","v":0},{"$f":"③加入者名簿!S85","v":0},{"$f":"③加入者名簿!T85","v":0},{"$f":"③加入者名簿!U85","v":0},{"$f":"③加入者名簿!V85","v":0},{"$f":"③加入者名簿!W85","v":0}]
[{"$f":"③加入者名簿!C86","v":0},{"$f":"③加入者名簿!F86","v":0},{"$f":"③加入者名簿!G86","v":0},{"$f":"③加入者名簿!H86","v":0},{"$f":"③加入者名簿!I86","v":0},{"$f":"③加入者名簿!J86","v":0},{"$f":"③加入者名簿!K86","v":0},{"$f":"③加入者名簿!L86","v":0},{"$f":"③加入者名簿!M86","v":0},{"$f":"③加入者名簿!N86","v":0},{"$f":"③加入者名簿!O86","v":0},{"$f":"③加入者名簿!P86","v":0},{"$f":"③加入者名簿!Q86","v":0},{"$f":"③加入者名簿!R86","v":0},{"$f":"③加入者名簿!S86","v":0},{"$f":"③加入者名簿!T86","v":0},{"$f":"③加入者名簿!U86","v":0},{"$f":"③加入者名簿!V86","v":0},{"$f":"③加入者名簿!W86","v":0}]
[{"$f":"③加入者名簿!C87","v":0},{"$f":"③加入者名簿!F87","v":0},{"$f":"③加入者名簿!G87","v":0},{"$f":"③加入者名簿!H87","v":0},{"$f":"③加入者名簿!I87","v":0},{"$f":"③加入者名簿!J87","v":0},{"$f":"③加入者名簿!K87","v":0},{"$f":"③加入者名簿!L87","v":0},{"$f":"③加入者名簿!M87","v":0},{"$f":"③加入者名簿!N87","v":0},{"$f":"③加入者名簿!O87","v":0},{"$f":"③加入者名簿!P87","v":0},{"$f":"③加入者名簿!Q87","v":0},{"$f":"③加入者名簿!R87","v":0},{"$f":"③加入者名簿!S87","v":0},{"$f":"③加入者名簿!T87","v":0},{"$f":"③加入者名簿!U87","v":0},{"$f":"③加入者名簿!V87","v":0},{"$f":"③加入者名簿!W87","v":0}]
[{"$f":"③加入者名簿!C88","v":0},{"$f":"③加入者名簿!F88","v":0},{"$f":"③加入者名簿!G88","v":0},{"$f":"③加入者名簿!H88","v":0},{"$f":"③加入者名簿!I88","v":0},{"$f":"③加入者名簿!J88","v":0},{"$f":"③加入者名簿!K88","v":0},{"$f":"③加入者名簿!L88","v":0},{"$f":"③加入者名簿!M88","v":0},{"$f":"③加入者名簿!N88","v":0},{"$f":"③加入者名簿!O88","v":0},{"$f":"③加入者名簿!P88","v":0},{"$f":"③加入者名簿!Q88","v":0},{"$f":"③加入者名簿!R88","v":0},{"$f":"③加入者名簿!S88","v":0},{"$f":"③加入者名簿!T88","v":0},{"$f":"③加入者名簿!U88","v":0},{"$f":"③加入者名簿!V88","v":0},{"$f":"③加入者名簿!W88","v":0}]
[{"$f":"③加入者名簿!C89","v":0},{"$f":"③加入者名簿!F89","v":0},{"$f":"③加入者名簿!G89","v":0},{"$f":"③加入者名簿!H89","v":0},{"$f":"③加入者名簿!I89","v":0},{"$f":"③加入者名簿!J89","v":0},{"$f":"③加入者名簿!K89","v":0},{"$f":"③加入者名簿!L89","v":0},{"$f":"③加入者名簿!M89","v":0},{"$f":"③加入者名簿!N89","v":0},{"$f":"③加入者名簿!O89","v":0},{"$f":"③加入者名簿!P89","v":0},{"$f":"③加入者名簿!Q89","v":0},{"$f":"③加入者名簿!R89","v":0},{"$f":"③加入者名簿!S89","v":0},{"$f":"③加入者名簿!T89","v":0},{"$f":"③加入者名簿!U89","v":0},{"$f":"③加入者名簿!V89","v":0},{"$f":"③加入者名簿!W89","v":0}]
[{"$f":"③加入者名簿!C90","v":0},{"$f":"③加入者名簿!F90","v":0},{"$f":"③加入者名簿!G90","v":0},{"$f":"③加入者名簿!H90","v":0},{"$f":"③加入者名簿!I90","v":0},{"$f":"③加入者名簿!J90","v":0},{"$f":"③加入者名簿!K90","v":0},{"$f":"③加入者名簿!L90","v":0},{"$f":"③加入者名簿!M90","v":0},{"$f":"③加入者名簿!N90","v":0},{"$f":"③加入者名簿!O90","v":0},{"$f":"③加入者名簿!P90","v":0},{"$f":"③加入者名簿!Q90","v":0},{"$f":"③加入者名簿!R90","v":0},{"$f":"③加入者名簿!S90","v":0},{"$f":"③加入者名簿!T90","v":0},{"$f":"③加入者名簿!U90","v":0},{"$f":"③加入者名簿!V90","v":0},{"$f":"③加入者名簿!W90","v":0}]
[{"$f":"③加入者名簿!C91","v":0},{"$f":"③加入者名簿!F91","v":0},{"$f":"③加入者名簿!G91","v":0},{"$f":"③加入者名簿!H91","v":0},{"$f":"③加入者名簿!I91","v":0},{"$f":"③加入者名簿!J91","v":0},{"$f":"③加入者名簿!K91","v":0},{"$f":"③加入者名簿!L91","v":0},{"$f":"③加入者名簿!M91","v":0},{"$f":"③加入者名簿!N91","v":0},{"$f":"③加入者名簿!O91","v":0},{"$f":"③加入者名簿!P91","v":0},{"$f":"③加入者名簿!Q91","v":0},{"$f":"③加入者名簿!R91","v":0},{"$f":"③加入者名簿!S91","v":0},{"$f":"③加入者名簿!T91","v":0},{"$f":"③加入者名簿!U91","v":0},{"$f":"③加入者名簿!V91","v":0},{"$f":"③加入者名簿!W91","v":0}]
[{"$f":"③加入者名簿!C92","v":0},{"$f":"③加入者名簿!F92","v":0},{"$f":"③加入者名簿!G92","v":0},{"$f":"③加入者名簿!H92","v":0},{"$f":"③加入者名簿!I92","v":0},{"$f":"③加入者名簿!J92","v":0},{"$f":"③加入者名簿!K92","v":0},{"$f":"③加入者名簿!L92","v":0},{"$f":"③加入者名簿!M92","v":0},{"$f":"③加入者名簿!N92","v":0},{"$f":"③加入者名簿!O92","v":0},{"$f":"③加入者名簿!P92","v":0},{"$f":"③加入者名簿!Q92","v":0},{"$f":"③加入者名簿!R92","v":0},{"$f":"③加入者名簿!S92","v":0},{"$f":"③加入者名簿!T92","v":0},{"$f":"③加入者名簿!U92","v":0},{"$f":"③加入者名簿!V92","v":0},{"$f":"③加入者名簿!W92","v":0}]
[{"$f":"③加入者名簿!C93","v":0},{"$f":"③加入者名簿!F93","v":0},{"$f":"③加入者名簿!G93","v":0},{"$f":"③加入者名簿!H93","v":0},{"$f":"③加入者名簿!I93","v":0},{"$f":"③加入者名簿!J93","v":0},{"$f":"③加入者名簿!K93","v":0},{"$f":"③加入者名簿!L93","v":0},{"$f":"③加入者名簿!M93","v":0},{"$f":"③加入者名簿!N93","v":0},{"$f":"③加入者名簿!O93","v":0},{"$f":"③加入者名簿!P93","v":0},{"$f":"③加入者名簿!Q93","v":0},{"$f":"③加入者名簿!R93","v":0},{"$f":"③加入者名簿!S93","v":0},{"$f":"③加入者名簿!T93","v":0},{"$f":"③加入者名簿!U93","v":0},{"$f":"③加入者名簿!V93","v":0},{"$f":"③加入者名簿!W93","v":0}]
[{"$f":"③加入者名簿!C94","v":0},{"$f":"③加入者名簿!F94","v":0},{"$f":"③加入者名簿!G94","v":0},{"$f":"③加入者名簿!H94","v":0},{"$f":"③加入者名簿!I94","v":0},{"$f":"③加入者名簿!J94","v":0},{"$f":"③加入者名簿!K94","v":0},{"$f":"③加入者名簿!L94","v":0},{"$f":"③加入者名簿!M94","v":0},{"$f":"③加入者名簿!N94","v":0},{"$f":"③加入者名簿!O94","v":0},{"$f":"③加入者名簿!P94","v":0},{"$f":"③加入者名簿!Q94","v":0},{"$f":"③加入者名簿!R94","v":0},{"$f":"③加入者名簿!S94","v":0},{"$f":"③加入者名簿!T94","v":0},{"$f":"③加入者名簿!U94","v":0},{"$f":"③加入者名簿!V94","v":0},{"$f":"③加入者名簿!W94","v":0}]
[{"$f":"③加入者名簿!C95","v":0},{"$f":"③加入者名簿!F95","v":0},{"$f":"③加入者名簿!G95","v":0},{"$f":"③加入者名簿!H95","v":0},{"$f":"③加入者名簿!I95","v":0},{"$f":"③加入者名簿!J95","v":0},{"$f":"③加入者名簿!K95","v":0},{"$f":"③加入者名簿!L95","v":0},{"$f":"③加入者名簿!M95","v":0},{"$f":"③加入者名簿!N95","v":0},{"$f":"③加入者名簿!O95","v":0},{"$f":"③加入者名簿!P95","v":0},{"$f":"③加入者名簿!Q95","v":0},{"$f":"③加入者名簿!R95","v":0},{"$f":"③加入者名簿!S95","v":0},{"$f":"③加入者名簿!T95","v":0},{"$f":"③加入者名簿!U95","v":0},{"$f":"③加入者名簿!V95","v":0},{"$f":"③加入者名簿!W95","v":0}]
[{"$f":"③加入者名簿!C96","v":0},{"$f":"③加入者名簿!F96","v":0},{"$f":"③加入者名簿!G96","v":0},{"$f":"③加入者名簿!H96","v":0},{"$f":"③加入者名簿!I96","v":0},{"$f":"③加入者名簿!J96","v":0},{"$f":"③加入者名簿!K96","v":0},{"$f":"③加入者名簿!L96","v":0},{"$f":"③加入者名簿!M96","v":0},{"$f":"③加入者名簿!N96","v":0},{"$f":"③加入者名簿!O96","v":0},{"$f":"③加入者名簿!P96","v":0},{"$f":"③加入者名簿!Q96","v":0},{"$f":"③加入者名簿!R96","v":0},{"$f":"③加入者名簿!S96","v":0},{"$f":"③加入者名簿!T96","v":0},{"$f":"③加入者名簿!U96","v":0},{"$f":"③加入者名簿!V96","v":0},{"$f":"③加入者名簿!W96","v":0}]
[{"$f":"③加入者名簿!C97","v":0},{"$f":"③加入者名簿!F97","v":0},{"$f":"③加入者名簿!G97","v":0},{"$f":"③加入者名簿!H97","v":0},{"$f":"③加入者名簿!I97","v":0},{"$f":"③加入者名簿!J97","v":0},{"$f":"③加入者名簿!K97","v":0},{"$f":"③加入者名簿!L97","v":0},{"$f":"③加入者名簿!M97","v":0},{"$f":"③加入者名簿!N97","v":0},{"$f":"③加入者名簿!O97","v":0},{"$f":"③加入者名簿!P97","v":0},{"$f":"③加入者名簿!Q97","v":0},{"$f":"③加入者名簿!R97","v":0},{"$f":"③加入者名簿!S97","v":0},{"$f":"③加入者名簿!T97","v":0},{"$f":"③加入者名簿!U97","v":0},{"$f":"③加入者名簿!V97","v":0},{"$f":"③加入者名簿!W97","v":0}]
[{"$f":"③加入者名簿!C98","v":0},{"$f":"③加入者名簿!F98","v":0},{"$f":"③加入者名簿!G98","v":0},{"$f":"③加入者名簿!H98","v":0},{"$f":"③加入者名簿!I98","v":0},{"$f":"③加入者名簿!J98","v":0},{"$f":"③加入者名簿!K98","v":0},{"$f":"③加入者名簿!L98","v":0},{"$f":"③加入者名簿!M98","v":0},{"$f":"③加入者名簿!N98","v":0},{"$f":"③加入者名簿!O98","v":0},{"$f":"③加入者名簿!P98","v":0},{"$f":"③加入者名簿!Q98","v":0},{"$f":"③加入者名簿!R98","v":0},{"$f":"③加入者名簿!S98","v":0},{"$f":"③加入者名簿!T98","v":0},{"$f":"③加入者名簿!U98","v":0},{"$f":"③加入者名簿!V98","v":0},{"$f":"③加入者名簿!W98","v":0}]
[{"$f":"③加入者名簿!C99","v":0},{"$f":"③加入者名簿!F99","v":0},{"$f":"③加入者名簿!G99","v":0},{"$f":"③加入者名簿!H99","v":0},{"$f":"③加入者名簿!I99","v":0},{"$f":"③加入者名簿!J99","v":0},{"$f":"③加入者名簿!K99","v":0},{"$f":"③加入者名簿!L99","v":0},{"$f":"③加入者名簿!M99","v":0},{"$f":"③加入者名簿!N99","v":0},{"$f":"③加入者名簿!O99","v":0},{"$f":"③加入者名簿!P99","v":0},{"$f":"③加入者名簿!Q99","v":0},{"$f":"③加入者名簿!R99","v":0},{"$f":"③加入者名簿!S99","v":0},{"$f":"③加入者名簿!T99","v":0},{"$f":"③加入者名簿!U99","v":0},{"$f":"③加入者名簿!V99","v":0},{"$f":"③加入者名簿!W99","v":0}]
[{"$f":"③加入者名簿!C100","v":0},{"$f":"③加入者名簿!F100","v":0},{"$f":"③加入者名簿!G100","v":0},{"$f":"③加入者名簿!H100","v":0},{"$f":"③加入者名簿!I100","v":0},{"$f":"③加入者名簿!J100","v":0},{"$f":"③加入者名簿!K100","v":0},{"$f":"③加入者名簿!L100","v":0},{"$f":"③加入者名簿!M100","v":0},{"$f":"③加入者名簿!N100","v":0},{"$f":"③加入者名簿!O100","v":0},{"$f":"③加入者名簿!P100","v":0},{"$f":"③加入者名簿!Q100","v":0},{"$f":"③加入者名簿!R100","v":0},{"$f":"③加入者名簿!S100","v":0},{"$f":"③加入者名簿!T100","v":0},{"$f":"③加入者名簿!U100","v":0},{"$f":"③加入者名簿!V100","v":0},{"$f":"③加入者名簿!W100","v":0}]
[{"$f":"③加入者名簿!C101","v":0},{"$f":"③加入者名簿!F101","v":0},{"$f":"③加入者名簿!G101","v":0},{"$f":"③加入者名簿!H101","v":0},{"$f":"③加入者名簿!I101","v":0},{"$f":"③加入者名簿!J101","v":0},{"$f":"③加入者名簿!K101","v":0},{"$f":"③加入者名簿!L101","v":0},{"$f":"③加入者名簿!M101","v":0},{"$f":"③加入者名簿!N101","v":0},{"$f":"③加入者名簿!O101","v":0},{"$f":"③加入者名簿!P101","v":0},{"$f":"③加入者名簿!Q101","v":0},{"$f":"③加入者名簿!R101","v":0},{"$f":"③加入者名簿!S101","v":0},{"$f":"③加入者名簿!T101","v":0},{"$f":"③加入者名簿!U101","v":0},{"$f":"③加入者名簿!V101","v":0},{"$f":"③加入者名簿!W101","v":0}]
[{"$f":"③加入者名簿!C102","v":0},{"$f":"③加入者名簿!F102","v":0},{"$f":"③加入者名簿!G102","v":0},{"$f":"③加入者名簿!H102","v":0},{"$f":"③加入者名簿!I102","v":0},{"$f":"③加入者名簿!J102","v":0},{"$f":"③加入者名簿!K102","v":0},{"$f":"③加入者名簿!L102","v":0},{"$f":"③加入者名簿!M102","v":0},{"$f":"③加入者名簿!N102","v":0},{"$f":"③加入者名簿!O102","v":0},{"$f":"③加入者名簿!P102","v":0},{"$f":"③加入者名簿!Q102","v":0},{"$f":"③加入者名簿!R102","v":0},{"$f":"③加入者名簿!S102","v":0},{"$f":"③加入者名簿!T102","v":0},{"$f":"③加入者名簿!U102","v":0},{"$f":"③加入者名簿!V102","v":0},{"$f":"③加入者名簿!W102","v":0}]
[{"$f":"③加入者名簿!C103","v":0},{"$f":"③加入者名簿!F103","v":0},{"$f":"③加入者名簿!G103","v":0},{"$f":"③加入者名簿!H103","v":0},{"$f":"③加入者名簿!I103","v":0},{"$f":"③加入者名簿!J103","v":0},{"$f":"③加入者名簿!K103","v":0},{"$f":"③加入者名簿!L103","v":0},{"$f":"③加入者名簿!M103","v":0},{"$f":"③加入者名簿!N103","v":0},{"$f":"③加入者名簿!O103","v":0},{"$f":"③加入者名簿!P103","v":0},{"$f":"③加入者名簿!Q103","v":0},{"$f":"③加入者名簿!R103","v":0},{"$f":"③加入者名簿!S103","v":0},{"$f":"③加入者名簿!T103","v":0},{"$f":"③加入者名簿!U103","v":0},{"$f":"③加入者名簿!V103","v":0},{"$f":"③加入者名簿!W103","v":0}]
[{"$f":"③加入者名簿!C104","v":0},{"$f":"③加入者名簿!F104","v":0},{"$f":"③加入者名簿!G104","v":0},{"$f":"③加入者名簿!H104","v":0},{"$f":"③加入者名簿!I104","v":0},{"$f":"③加入者名簿!J104","v":0},{"$f":"③加入者名簿!K104","v":0},{"$f":"③加入者名簿!L104","v":0},{"$f":"③加入者名簿!M104","v":0},{"$f":"③加入者名簿!N104","v":0},{"$f":"③加入者名簿!O104","v":0},{"$f":"③加入者名簿!P104","v":0},{"$f":"③加入者名簿!Q104","v":0},{"$f":"③加入者名簿!R104","v":0},{"$f":"③加入者名簿!S104","v":0},{"$f":"③加入者名簿!T104","v":0},{"$f":"③加入者名簿!U104","v":0},{"$f":"③加入者名簿!V104","v":0},{"$f":"③加入者名簿!W104","v":0}]
[{"$f":"③加入者名簿!C105","v":0},{"$f":"③加入者名簿!F105","v":0},{"$f":"③加入者名簿!G105","v":0},{"$f":"③加入者名簿!H105","v":0},{"$f":"③加入者名簿!I105","v":0},{"$f":"③加入者名簿!J105","v":0},{"$f":"③加入者名簿!K105","v":0},{"$f":"③加入者名簿!L105","v":0},{"$f":"③加入者名簿!M105","v":0},{"$f":"③加入者名簿!N105","v":0},{"$f":"③加入者名簿!O105","v":0},{"$f":"③加入者名簿!P105","v":0},{"$f":"③加入者名簿!Q105","v":0},{"$f":"③加入者名簿!R105","v":0},{"$f":"③加入者名簿!S105","v":0},{"$f":"③加入者名簿!T105","v":0},{"$f":"③加入者名簿!U105","v":0},{"$f":"③加入者名簿!V105","v":0},{"$f":"③加入者名簿!W105","v":0}]
[{"$f":"③加入者名簿!C106","v":0},{"$f":"③加入者名簿!F106","v":0},{"$f":"③加入者名簿!G106","v":0},{"$f":"③加入者名簿!H106","v":0},{"$f":"③加入者名簿!I106","v":0},{"$f":"③加入者名簿!J106","v":0},{"$f":"③加入者名簿!K106","v":0},{"$f":"③加入者名簿!L106","v":0},{"$f":"③加入者名簿!M106","v":0},{"$f":"③加入者名簿!N106","v":0},{"$f":"③加入者名簿!O106","v":0},{"$f":"③加入者名簿!P106","v":0},{"$f":"③加入者名簿!Q106","v":0},{"$f":"③加入者名簿!R106","v":0},{"$f":"③加入者名簿!S106","v":0},{"$f":"③加入者名簿!T106","v":0},{"$f":"③加入者名簿!U106","v":0},{"$f":"③加入者名簿!V106","v":0},{"$f":"③加入者名簿!W106","v":0}]
[{"$f":"③加入者名簿!C107","v":0},{"$f":"③加入者名簿!F107","v":0},{"$f":"③加入者名簿!G107","v":0},{"$f":"③加入者名簿!H107","v":0},{"$f":"③加入者名簿!I107","v":0},{"$f":"③加入者名簿!J107","v":0},{"$f":"③加入者名簿!K107","v":0},{"$f":"③加入者名簿!L107","v":0},{"$f":"③加入者名簿!M107","v":0},{"$f":"③加入者名簿!N107","v":0},{"$f":"③加入者名簿!O107","v":0},{"$f":"③加入者名簿!P107","v":0},{"$f":"③加入者名簿!Q107","v":0},{"$f":"③加入者名簿!R107","v":0},{"$f":"③加入者名簿!S107","v":0},{"$f":"③加入者名簿!T107","v":0},{"$f":"③加入者名簿!U107","v":0},{"$f":"③加入者名簿!V107","v":0},{"$f":"③加入者名簿!W107","v":0}]
[{"$f":"③加入者名簿!C108","v":0},{"$f":"③加入者名簿!F108","v":0},{"$f":"③加入者名簿!G108","v":0},{"$f":"③加入者名簿!H108","v":0},{"$f":"③加入者名簿!I108","v":0},{"$f":"③加入者名簿!J108","v":0},{"$f":"③加入者名簿!K108","v":0},{"$f":"③加入者名簿!L108","v":0},{"$f":"③加入者名簿!M108","v":0},{"$f":"③加入者名簿!N108","v":0},{"$f":"③加入者名簿!O108","v":0},{"$f":"③加入者名簿!P108","v":0},{"$f":"③加入者名簿!Q108","v":0},{"$f":"③加入者名簿!R108","v":0},{"$f":"③加入者名簿!S108","v":0},{"$f":"③加入者名簿!T108","v":0},{"$f":"③加入者名簿!U108","v":0},{"$f":"③加入者名簿!V108","v":0},{"$f":"③加入者名簿!W108","v":0}]
[{"$f":"③加入者名簿!C109","v":0},{"$f":"③加入者名簿!F109","v":0},{"$f":"③加入者名簿!G109","v":0},{"$f":"③加入者名簿!H109","v":0},{"$f":"③加入者名簿!I109","v":0},{"$f":"③加入者名簿!J109","v":0},{"$f":"③加入者名簿!K109","v":0},{"$f":"③加入者名簿!L109","v":0},{"$f":"③加入者名簿!M109","v":0},{"$f":"③加入者名簿!N109","v":0},{"$f":"③加入者名簿!O109","v":0},{"$f":"③加入者名簿!P109","v":0},{"$f":"③加入者名簿!Q109","v":0},{"$f":"③加入者名簿!R109","v":0},{"$f":"③加入者名簿!S109","v":0},{"$f":"③加入者名簿!T109","v":0},{"$f":"③加入者名簿!U109","v":0},{"$f":"③加入者名簿!V109","v":0},{"$f":"③加入者名簿!W109","v":0}]
[{"$f":"③加入者名簿!C110","v":0},{"$f":"③加入者名簿!F110","v":0},{"$f":"③加入者名簿!G110","v":0},{"$f":"③加入者名簿!H110","v":0},{"$f":"③加入者名簿!I110","v":0},{"$f":"③加入者名簿!J110","v":0},{"$f":"③加入者名簿!K110","v":0},{"$f":"③加入者名簿!L110","v":0},{"$f":"③加入者名簿!M110","v":0},{"$f":"③加入者名簿!N110","v":0},{"$f":"③加入者名簿!O110","v":0},{"$f":"③加入者名簿!P110","v":0},{"$f":"③加入者名簿!Q110","v":0},{"$f":"③加入者名簿!R110","v":0},{"$f":"③加入者名簿!S110","v":0},{"$f":"③加入者名簿!T110","v":0},{"$f":"③加入者名簿!U110","v":0},{"$f":"③加入者名簿!V110","v":0},{"$f":"③加入者名簿!W110","v":0}]
[{"$f":"③加入者名簿!C111","v":0},{"$f":"③加入者名簿!F111","v":0},{"$f":"③加入者名簿!G111","v":0},{"$f":"③加入者名簿!H111","v":0},{"$f":"③加入者名簿!I111","v":0},{"$f":"③加入者名簿!J111","v":0},{"$f":"③加入者名簿!K111","v":0},{"$f":"③加入者名簿!L111","v":0},{"$f":"③加入者名簿!M111","v":0},{"$f":"③加入者名簿!N111","v":0},{"$f":"③加入者名簿!O111","v":0},{"$f":"③加入者名簿!P111","v":0},{"$f":"③加入者名簿!Q111","v":0},{"$f":"③加入者名簿!R111","v":0},{"$f":"③加入者名簿!S111","v":0},{"$f":"③加入者名簿!T111","v":0},{"$f":"③加入者名簿!U111","v":0},{"$f":"③加入者名簿!V111","v":0},{"$f":"③加入者名簿!W111","v":0}]
[{"$f":"③加入者名簿!C112","v":0},{"$f":"③加入者名簿!F112","v":0},{"$f":"③加入者名簿!G112","v":0},{"$f":"③加入者名簿!H112","v":0},{"$f":"③加入者名簿!I112","v":0},{"$f":"③加入者名簿!J112","v":0},{"$f":"③加入者名簿!K112","v":0},{"$f":"③加入者名簿!L112","v":0},{"$f":"③加入者名簿!M112","v":0},{"$f":"③加入者名簿!N112","v":0},{"$f":"③加入者名簿!O112","v":0},{"$f":"③加入者名簿!P112","v":0},{"$f":"③加入者名簿!Q112","v":0},{"$f":"③加入者名簿!R112","v":0},{"$f":"③加入者名簿!S112","v":0},{"$f":"③加入者名簿!T112","v":0},{"$f":"③加入者名簿!U112","v":0},{"$f":"③加入者名簿!V112","v":0},{"$f":"③加入者名簿!W112","v":0}]
[{"$f":"③加入者名簿!C113","v":0},{"$f":"③加入者名簿!F113","v":0},{"$f":"③加入者名簿!G113","v":0},{"$f":"③加入者名簿!H113","v":0},{"$f":"③加入者名簿!I113","v":0},{"$f":"③加入者名簿!J113","v":0},{"$f":"③加入者名簿!K113","v":0},{"$f":"③加入者名簿!L113","v":0},{"$f":"③加入者名簿!M113","v":0},{"$f":"③加入者名簿!N113","v":0},{"$f":"③加入者名簿!O113","v":0},{"$f":"③加入者名簿!P113","v":0},{"$f":"③加入者名簿!Q113","v":0},{"$f":"③加入者名簿!R113","v":0},{"$f":"③加入者名簿!S113","v":0},{"$f":"③加入者名簿!T113","v":0},{"$f":"③加入者名簿!U113","v":0},{"$f":"③加入者名簿!V113","v":0},{"$f":"③加入者名簿!W113","v":0}]
[{"$f":"③加入者名簿!C114","v":0},{"$f":"③加入者名簿!F114","v":0},{"$f":"③加入者名簿!G114","v":0},{"$f":"③加入者名簿!H114","v":0},{"$f":"③加入者名簿!I114","v":0},{"$f":"③加入者名簿!J114","v":0},{"$f":"③加入者名簿!K114","v":0},{"$f":"③加入者名簿!L114","v":0},{"$f":"③加入者名簿!M114","v":0},{"$f":"③加入者名簿!N114","v":0},{"$f":"③加入者名簿!O114","v":0},{"$f":"③加入者名簿!P114","v":0},{"$f":"③加入者名簿!Q114","v":0},{"$f":"③加入者名簿!R114","v":0},{"$f":"③加入者名簿!S114","v":0},{"$f":"③加入者名簿!T114","v":0},{"$f":"③加入者名簿!U114","v":0},{"$f":"③加入者名簿!V114","v":0},{"$f":"③加入者名簿!W114","v":0}]
[{"$f":"③加入者名簿!C115","v":0},{"$f":"③加入者名簿!F115","v":0},{"$f":"③加入者名簿!G115","v":0},{"$f":"③加入者名簿!H115","v":0},{"$f":"③加入者名簿!I115","v":0},{"$f":"③加入者名簿!J115","v":0},{"$f":"③加入者名簿!K115","v":0},{"$f":"③加入者名簿!L115","v":0},{"$f":"③加入者名簿!M115","v":0},{"$f":"③加入者名簿!N115","v":0},{"$f":"③加入者名簿!O115","v":0},{"$f":"③加入者名簿!P115","v":0},{"$f":"③加入者名簿!Q115","v":0},{"$f":"③加入者名簿!R115","v":0},{"$f":"③加入者名簿!S115","v":0},{"$f":"③加入者名簿!T115","v":0},{"$f":"③加入者名簿!U115","v":0},{"$f":"③加入者名簿!V115","v":0},{"$f":"③加入者名簿!W115","v":0}]
[{"$f":"③加入者名簿!C116","v":0},{"$f":"③加入者名簿!F116","v":0},{"$f":"③加入者名簿!G116","v":0},{"$f":"③加入者名簿!H116","v":0},{"$f":"③加入者名簿!I116","v":0},{"$f":"③加入者名簿!J116","v":0},{"$f":"③加入者名簿!K116","v":0},{"$f":"③加入者名簿!L116","v":0},{"$f":"③加入者名簿!M116","v":0},{"$f":"③加入者名簿!N116","v":0},{"$f":"③加入者名簿!O116","v":0},{"$f":"③加入者名簿!P116","v":0},{"$f":"③加入者名簿!Q116","v":0},{"$f":"③加入者名簿!R116","v":0},{"$f":"③加入者名簿!S116","v":0},{"$f":"③加入者名簿!T116","v":0},{"$f":"③加入者名簿!U116","v":0},{"$f":"③加入者名簿!V116","v":0},{"$f":"③加入者名簿!W116","v":0}]
[{"$f":"③加入者名簿!C117","v":0},{"$f":"③加入者名簿!F117","v":0},{"$f":"③加入者名簿!G117","v":0},{"$f":"③加入者名簿!H117","v":0},{"$f":"③加入者名簿!I117","v":0},{"$f":"③加入者名簿!J117","v":0},{"$f":"③加入者名簿!K117","v":0},{"$f":"③加入者名簿!L117","v":0},{"$f":"③加入者名簿!M117","v":0},{"$f":"③加入者名簿!N117","v":0},{"$f":"③加入者名簿!O117","v":0},{"$f":"③加入者名簿!P117","v":0},{"$f":"③加入者名簿!Q117","v":0},{"$f":"③加入者名簿!R117","v":0},{"$f":"③加入者名簿!S117","v":0},{"$f":"③加入者名簿!T117","v":0},{"$f":"③加入者名簿!U117","v":0},{"$f":"③加入者名簿!V117","v":0},{"$f":"③加入者名簿!W117","v":0}]
[{"$f":"③加入者名簿!C118","v":0},{"$f":"③加入者名簿!F118","v":0},{"$f":"③加入者名簿!G118","v":0},{"$f":"③加入者名簿!H118","v":0},{"$f":"③加入者名簿!I118","v":0},{"$f":"③加入者名簿!J118","v":0},{"$f":"③加入者名簿!K118","v":0},{"$f":"③加入者名簿!L118","v":0},{"$f":"③加入者名簿!M118","v":0},{"$f":"③加入者名簿!N118","v":0},{"$f":"③加入者名簿!O118","v":0},{"$f":"③加入者名簿!P118","v":0},{"$f":"③加入者名簿!Q118","v":0},{"$f":"③加入者名簿!R118","v":0},{"$f":"③加入者名簿!S118","v":0},{"$f":"③加入者名簿!T118","v":0},{"$f":"③加入者名簿!U118","v":0},{"$f":"③加入者名簿!V118","v":0},{"$f":"③加入者名簿!W118","v":0}]
[{"$f":"③加入者名簿!C119","v":0},{"$f":"③加入者名簿!F119","v":0},{"$f":"③加入者名簿!G119","v":0},{"$f":"③加入者名簿!H119","v":0},{"$f":"③加入者名簿!I119","v":0},{"$f":"③加入者名簿!J119","v":0},{"$f":"③加入者名簿!K119","v":0},{"$f":"③加入者名簿!L119","v":0},{"$f":"③加入者名簿!M119","v":0},{"$f":"③加入者名簿!N119","v":0},{"$f":"③加入者名簿!O119","v":0},{"$f":"③加入者名簿!P119","v":0},{"$f":"③加入者名簿!Q119","v":0},{"$f":"③加入者名簿!R119","v":0},{"$f":"③加入者名簿!S119","v":0},{"$f":"③加入者名簿!T119","v":0},{"$f":"③加入者名簿!U119","v":0},{"$f":"③加入者名簿!V119","v":0},{"$f":"③加入者名簿!W119","v":0}]
[{"$f":"③加入者名簿!C120","v":0},{"$f":"③加入者名簿!F120","v":0},{"$f":"③加入者名簿!G120","v":0},{"$f":"③加入者名簿!H120","v":0},{"$f":"③加入者名簿!I120","v":0},{"$f":"③加入者名簿!J120","v":0},{"$f":"③加入者名簿!K120","v":0},{"$f":"③加入者名簿!L120","v":0},{"$f":"③加入者名簿!M120","v":0},{"$f":"③加入者名簿!N120","v":0},{"$f":"③加入者名簿!O120","v":0},{"$f":"③加入者名簿!P120","v":0},{"$f":"③加入者名簿!Q120","v":0},{"$f":"③加入者名簿!R120","v":0},{"$f":"③加入者名簿!S120","v":0},{"$f":"③加入者名簿!T120","v":0},{"$f":"③加入者名簿!U120","v":0},{"$f":"③加入者名簿!V120","v":0},{"$f":"③加入者名簿!W120","v":0}]
[{"$f":"③加入者名簿!C121","v":0},{"$f":"③加入者名簿!F121","v":0},{"$f":"③加入者名簿!G121","v":0},{"$f":"③加入者名簿!H121","v":0},{"$f":"③加入者名簿!I121","v":0},{"$f":"③加入者名簿!J121","v":0},{"$f":"③加入者名簿!K121","v":0},{"$f":"③加入者名簿!L121","v":0},{"$f":"③加入者名簿!M121","v":0},{"$f":"③加入者名簿!N121","v":0},{"$f":"③加入者名簿!O121","v":0},{"$f":"③加入者名簿!P121","v":0},{"$f":"③加入者名簿!Q121","v":0},{"$f":"③加入者名簿!R121","v":0},{"$f":"③加入者名簿!S121","v":0},{"$f":"③加入者名簿!T121","v":0},{"$f":"③加入者名簿!U121","v":0},{"$f":"③加入者名簿!V121","v":0},{"$f":"③加入者名簿!W121","v":0}]
[{"$f":"③加入者名簿!C122","v":0},{"$f":"③加入者名簿!F122","v":0},{"$f":"③加入者名簿!G122","v":0},{"$f":"③加入者名簿!H122","v":0},{"$f":"③加入者名簿!I122","v":0},{"$f":"③加入者名簿!J122","v":0},{"$f":"③加入者名簿!K122","v":0},{"$f":"③加入者名簿!L122","v":0},{"$f":"③加入者名簿!M122","v":0},{"$f":"③加入者名簿!N122","v":0},{"$f":"③加入者名簿!O122","v":0},{"$f":"③加入者名簿!P122","v":0},{"$f":"③加入者名簿!Q122","v":0},{"$f":"③加入者名簿!R122","v":0},{"$f":"③加入者名簿!S122","v":0},{"$f":"③加入者名簿!T122","v":0},{"$f":"③加入者名簿!U122","v":0},{"$f":"③加入者名簿!V122","v":0},{"$f":"③加入者名簿!W122","v":0}]
[{"$f":"③加入者名簿!C123","v":0},{"$f":"③加入者名簿!F123","v":0},{"$f":"③加入者名簿!G123","v":0},{"$f":"③加入者名簿!H123","v":0},{"$f":"③加入者名簿!I123","v":0},{"$f":"③加入者名簿!J123","v":0},{"$f":"③加入者名簿!K123","v":0},{"$f":"③加入者名簿!L123","v":0},{"$f":"③加入者名簿!M123","v":0},{"$f":"③加入者名簿!N123","v":0},{"$f":"③加入者名簿!O123","v":0},{"$f":"③加入者名簿!P123","v":0},{"$f":"③加入者名簿!Q123","v":0},{"$f":"③加入者名簿!R123","v":0},{"$f":"③加入者名簿!S123","v":0},{"$f":"③加入者名簿!T123","v":0},{"$f":"③加入者名簿!U123","v":0},{"$f":"③加入者名簿!V123","v":0},{"$f":"③加入者名簿!W123","v":0}]
[{"$f":"③加入者名簿!C124","v":0},{"$f":"③加入者名簿!F124","v":0},{"$f":"③加入者名簿!G124","v":0},{"$f":"③加入者名簿!H124","v":0},{"$f":"③加入者名簿!I124","v":0},{"$f":"③加入者名簿!J124","v":0},{"$f":"③加入者名簿!K124","v":0},{"$f":"③加入者名簿!L124","v":0},{"$f":"③加入者名簿!M124","v":0},{"$f":"③加入者名簿!N124","v":0},{"$f":"③加入者名簿!O124","v":0},{"$f":"③加入者名簿!P124","v":0},{"$f":"③加入者名簿!Q124","v":0},{"$f":"③加入者名簿!R124","v":0},{"$f":"③加入者名簿!S124","v":0},{"$f":"③加入者名簿!T124","v":0},{"$f":"③加入者名簿!U124","v":0},{"$f":"③加入者名簿!V124","v":0},{"$f":"③加入者名簿!W124","v":0}]
[{"$f":"③加入者名簿!C125","v":0},{"$f":"③加入者名簿!F125","v":0},{"$f":"③加入者名簿!G125","v":0},{"$f":"③加入者名簿!H125","v":0},{"$f":"③加入者名簿!I125","v":0},{"$f":"③加入者名簿!J125","v":0},{"$f":"③加入者名簿!K125","v":0},{"$f":"③加入者名簿!L125","v":0},{"$f":"③加入者名簿!M125","v":0},{"$f":"③加入者名簿!N125","v":0},{"$f":"③加入者名簿!O125","v":0},{"$f":"③加入者名簿!P125","v":0},{"$f":"③加入者名簿!Q125","v":0},{"$f":"③加入者名簿!R125","v":0},{"$f":"③加入者名簿!S125","v":0},{"$f":"③加入者名簿!T125","v":0},{"$f":"③加入者名簿!U125","v":0},{"$f":"③加入者名簿!V125","v":0},{"$f":"③加入者名簿!W125","v":0}]
[{"$f":"③加入者名簿!C126","v":0},{"$f":"③加入者名簿!F126","v":0},{"$f":"③加入者名簿!G126","v":0},{"$f":"③加入者名簿!H126","v":0},{"$f":"③加入者名簿!I126","v":0},{"$f":"③加入者名簿!J126","v":0},{"$f":"③加入者名簿!K126","v":0},{"$f":"③加入者名簿!L126","v":0},{"$f":"③加入者名簿!M126","v":0},{"$f":"③加入者名簿!N126","v":0},{"$f":"③加入者名簿!O126","v":0},{"$f":"③加入者名簿!P126","v":0},{"$f":"③加入者名簿!Q126","v":0},{"$f":"③加入者名簿!R126","v":0},{"$f":"③加入者名簿!S126","v":0},{"$f":"③加入者名簿!T126","v":0},{"$f":"③加入者名簿!U126","v":0},{"$f":"③加入者名簿!V126","v":0},{"$f":"③加入者名簿!W126","v":0}]
[{"$f":"③加入者名簿!C127","v":0},{"$f":"③加入者名簿!F127","v":0},{"$f":"③加入者名簿!G127","v":0},{"$f":"③加入者名簿!H127","v":0},{"$f":"③加入者名簿!I127","v":0},{"$f":"③加入者名簿!J127","v":0},{"$f":"③加入者名簿!K127","v":0},{"$f":"③加入者名簿!L127","v":0},{"$f":"③加入者名簿!M127","v":0},{"$f":"③加入者名簿!N127","v":0},{"$f":"③加入者名簿!O127","v":0},{"$f":"③加入者名簿!P127","v":0},{"$f":"③加入者名簿!Q127","v":0},{"$f":"③加入者名簿!R127","v":0},{"$f":"③加入者名簿!S127","v":0},{"$f":"③加入者名簿!T127","v":0},{"$f":"③加入者名簿!U127","v":0},{"$f":"③加入者名簿!V127","v":0},{"$f":"③加入者名簿!W127","v":0}]
[{"$f":"③加入者名簿!C128","v":0},{"$f":"③加入者名簿!F128","v":0},{"$f":"③加入者名簿!G128","v":0},{"$f":"③加入者名簿!H128","v":0},{"$f":"③加入者名簿!I128","v":0},{"$f":"③加入者名簿!J128","v":0},{"$f":"③加入者名簿!K128","v":0},{"$f":"③加入者名簿!L128","v":0},{"$f":"③加入者名簿!M128","v":0},{"$f":"③加入者名簿!N128","v":0},{"$f":"③加入者名簿!O128","v":0},{"$f":"③加入者名簿!P128","v":0},{"$f":"③加入者名簿!Q128","v":0},{"$f":"③加入者名簿!R128","v":0},{"$f":"③加入者名簿!S128","v":0},{"$f":"③加入者名簿!T128","v":0},{"$f":"③加入者名簿!U128","v":0},{"$f":"③加入者名簿!V128","v":0},{"$f":"③加入者名簿!W128","v":0}]
[{"$f":"③加入者名簿!C129","v":0},{"$f":"③加入者名簿!F129","v":0},{"$f":"③加入者名簿!G129","v":0},{"$f":"③加入者名簿!H129","v":0},{"$f":"③加入者名簿!I129","v":0},{"$f":"③加入者名簿!J129","v":0},{"$f":"③加入者名簿!K129","v":0},{"$f":"③加入者名簿!L129","v":0},{"$f":"③加入者名簿!M129","v":0},{"$f":"③加入者名簿!N129","v":0},{"$f":"③加入者名簿!O129","v":0},{"$f":"③加入者名簿!P129","v":0},{"$f":"③加入者名簿!Q129","v":0},{"$f":"③加入者名簿!R129","v":0},{"$f":"③加入者名簿!S129","v":0},{"$f":"③加入者名簿!T129","v":0},{"$f":"③加入者名簿!U129","v":0},{"$f":"③加入者名簿!V129","v":0},{"$f":"③加入者名簿!W129","v":0}]
[{"$f":"③加入者名簿!C130","v":0},{"$f":"③加入者名簿!F130","v":0},{"$f":"③加入者名簿!G130","v":0},{"$f":"③加入者名簿!H130","v":0},{"$f":"③加入者名簿!I130","v":0},{"$f":"③加入者名簿!J130","v":0},{"$f":"③加入者名簿!K130","v":0},{"$f":"③加入者名簿!L130","v":0},{"$f":"③加入者名簿!M130","v":0},{"$f":"③加入者名簿!N130","v":0},{"$f":"③加入者名簿!O130","v":0},{"$f":"③加入者名簿!P130","v":0},{"$f":"③加入者名簿!Q130","v":0},{"$f":"③加入者名簿!R130","v":0},{"$f":"③加入者名簿!S130","v":0},{"$f":"③加入者名簿!T130","v":0},{"$f":"③加入者名簿!U130","v":0},{"$f":"③加入者名簿!V130","v":0},{"$f":"③加入者名簿!W130","v":0}]
[{"$f":"③加入者名簿!C131","v":0},{"$f":"③加入者名簿!F131","v":0},{"$f":"③加入者名簿!G131","v":0},{"$f":"③加入者名簿!H131","v":0},{"$f":"③加入者名簿!I131","v":0},{"$f":"③加入者名簿!J131","v":0},{"$f":"③加入者名簿!K131","v":0},{"$f":"③加入者名簿!L131","v":0},{"$f":"③加入者名簿!M131","v":0},{"$f":"③加入者名簿!N131","v":0},{"$f":"③加入者名簿!O131","v":0},{"$f":"③加入者名簿!P131","v":0},{"$f":"③加入者名簿!Q131","v":0},{"$f":"③加入者名簿!R131","v":0},{"$f":"③加入者名簿!S131","v":0},{"$f":"③加入者名簿!T131","v":0},{"$f":"③加入者名簿!U131","v":0},{"$f":"③加入者名簿!V131","v":0},{"$f":"③加入者名簿!W131","v":0}]
[{"$f":"③加入者名簿!C132","v":0},{"$f":"③加入者名簿!F132","v":0},{"$f":"③加入者名簿!G132","v":0},{"$f":"③加入者名簿!H132","v":0},{"$f":"③加入者名簿!I132","v":0},{"$f":"③加入者名簿!J132","v":0},{"$f":"③加入者名簿!K132","v":0},{"$f":"③加入者名簿!L132","v":0},{"$f":"③加入者名簿!M132","v":0},{"$f":"③加入者名簿!N132","v":0},{"$f":"③加入者名簿!O132","v":0},{"$f":"③加入者名簿!P132","v":0},{"$f":"③加入者名簿!Q132","v":0},{"$f":"③加入者名簿!R132","v":0},{"$f":"③加入者名簿!S132","v":0},{"$f":"③加入者名簿!T132","v":0},{"$f":"③加入者名簿!U132","v":0},{"$f":"③加入者名簿!V132","v":0},{"$f":"③加入者名簿!W132","v":0}]
[{"$f":"③加入者名簿!C133","v":0},{"$f":"③加入者名簿!F133","v":0},{"$f":"③加入者名簿!G133","v":0},{"$f":"③加入者名簿!H133","v":0},{"$f":"③加入者名簿!I133","v":0},{"$f":"③加入者名簿!J133","v":0},{"$f":"③加入者名簿!K133","v":0},{"$f":"③加入者名簿!L133","v":0},{"$f":"③加入者名簿!M133","v":0},{"$f":"③加入者名簿!N133","v":0},{"$f":"③加入者名簿!O133","v":0},{"$f":"③加入者名簿!P133","v":0},{"$f":"③加入者名簿!Q133","v":0},{"$f":"③加入者名簿!R133","v":0},{"$f":"③加入者名簿!S133","v":0},{"$f":"③加入者名簿!T133","v":0},{"$f":"③加入者名簿!U133","v":0},{"$f":"③加入者名簿!V133","v":0},{"$f":"③加入者名簿!W133","v":0}]
[{"$f":"③加入者名簿!C134","v":0},{"$f":"③加入者名簿!F134","v":0},{"$f":"③加入者名簿!G134","v":0},{"$f":"③加入者名簿!H134","v":0},{"$f":"③加入者名簿!I134","v":0},{"$f":"③加入者名簿!J134","v":0},{"$f":"③加入者名簿!K134","v":0},{"$f":"③加入者名簿!L134","v":0},{"$f":"③加入者名簿!M134","v":0},{"$f":"③加入者名簿!N134","v":0},{"$f":"③加入者名簿!O134","v":0},{"$f":"③加入者名簿!P134","v":0},{"$f":"③加入者名簿!Q134","v":0},{"$f":"③加入者名簿!R134","v":0},{"$f":"③加入者名簿!S134","v":0},{"$f":"③加入者名簿!T134","v":0},{"$f":"③加入者名簿!U134","v":0},{"$f":"③加入者名簿!V134","v":0},{"$f":"③加入者名簿!W134","v":0}]
[{"$f":"③加入者名簿!C135","v":0},{"$f":"③加入者名簿!F135","v":0},{"$f":"③加入者名簿!G135","v":0},{"$f":"③加入者名簿!H135","v":0},{"$f":"③加入者名簿!I135","v":0},{"$f":"③加入者名簿!J135","v":0},{"$f":"③加入者名簿!K135","v":0},{"$f":"③加入者名簿!L135","v":0},{"$f":"③加入者名簿!M135","v":0},{"$f":"③加入者名簿!N135","v":0},{"$f":"③加入者名簿!O135","v":0},{"$f":"③加入者名簿!P135","v":0},{"$f":"③加入者名簿!Q135","v":0},{"$f":"③加入者名簿!R135","v":0},{"$f":"③加入者名簿!S135","v":0},{"$f":"③加入者名簿!T135","v":0},{"$f":"③加入者名簿!U135","v":0},{"$f":"③加入者名簿!V135","v":0},{"$f":"③加入者名簿!W135","v":0}]
[{"$f":"③加入者名簿!C136","v":0},{"$f":"③加入者名簿!F136","v":0},{"$f":"③加入者名簿!G136","v":0},{"$f":"③加入者名簿!H136","v":0},{"$f":"③加入者名簿!I136","v":0},{"$f":"③加入者名簿!J136","v":0},{"$f":"③加入者名簿!K136","v":0},{"$f":"③加入者名簿!L136","v":0},{"$f":"③加入者名簿!M136","v":0},{"$f":"③加入者名簿!N136","v":0},{"$f":"③加入者名簿!O136","v":0},{"$f":"③加入者名簿!P136","v":0},{"$f":"③加入者名簿!Q136","v":0},{"$f":"③加入者名簿!R136","v":0},{"$f":"③加入者名簿!S136","v":0},{"$f":"③加入者名簿!T136","v":0},{"$f":"③加入者名簿!U136","v":0},{"$f":"③加入者名簿!V136","v":0},{"$f":"③加入者名簿!W136","v":0}]
[{"$f":"③加入者名簿!C137","v":0},{"$f":"③加入者名簿!F137","v":0},{"$f":"③加入者名簿!G137","v":0},{"$f":"③加入者名簿!H137","v":0},{"$f":"③加入者名簿!I137","v":0},{"$f":"③加入者名簿!J137","v":0},{"$f":"③加入者名簿!K137","v":0},{"$f":"③加入者名簿!L137","v":0},{"$f":"③加入者名簿!M137","v":0},{"$f":"③加入者名簿!N137","v":0},{"$f":"③加入者名簿!O137","v":0},{"$f":"③加入者名簿!P137","v":0},{"$f":"③加入者名簿!Q137","v":0},{"$f":"③加入者名簿!R137","v":0},{"$f":"③加入者名簿!S137","v":0},{"$f":"③加入者名簿!T137","v":0},{"$f":"③加入者名簿!U137","v":0},{"$f":"③加入者名簿!V137","v":0},{"$f":"③加入者名簿!W137","v":0}]
[{"$f":"③加入者名簿!C138","v":0},{"$f":"③加入者名簿!F138","v":0},{"$f":"③加入者名簿!G138","v":0},{"$f":"③加入者名簿!H138","v":0},{"$f":"③加入者名簿!I138","v":0},{"$f":"③加入者名簿!J138","v":0},{"$f":"③加入者名簿!K138","v":0},{"$f":"③加入者名簿!L138","v":0},{"$f":"③加入者名簿!M138","v":0},{"$f":"③加入者名簿!N138","v":0},{"$f":"③加入者名簿!O138","v":0},{"$f":"③加入者名簿!P138","v":0},{"$f":"③加入者名簿!Q138","v":0},{"$f":"③加入者名簿!R138","v":0},{"$f":"③加入者名簿!S138","v":0},{"$f":"③加入者名簿!T138","v":0},{"$f":"③加入者名簿!U138","v":0},{"$f":"③加入者名簿!V138","v":0},{"$f":"③加入者名簿!W138","v":0}]
[{"$f":"③加入者名簿!C139","v":0},{"$f":"③加入者名簿!F139","v":0},{"$f":"③加入者名簿!G139","v":0},{"$f":"③加入者名簿!H139","v":0},{"$f":"③加入者名簿!I139","v":0},{"$f":"③加入者名簿!J139","v":0},{"$f":"③加入者名簿!K139","v":0},{"$f":"③加入者名簿!L139","v":0},{"$f":"③加入者名簿!M139","v":0},{"$f":"③加入者名簿!N139","v":0},{"$f":"③加入者名簿!O139","v":0},{"$f":"③加入者名簿!P139","v":0},{"$f":"③加入者名簿!Q139","v":0},{"$f":"③加入者名簿!R139","v":0},{"$f":"③加入者名簿!S139","v":0},{"$f":"③加入者名簿!T139","v":0},{"$f":"③加入者名簿!U139","v":0},{"$f":"③加入者名簿!V139","v":0},{"$f":"③加入者名簿!W139","v":0}]
[{"$f":"③加入者名簿!C140","v":0},{"$f":"③加入者名簿!F140","v":0},{"$f":"③加入者名簿!G140","v":0},{"$f":"③加入者名簿!H140","v":0},{"$f":"③加入者名簿!I140","v":0},{"$f":"③加入者名簿!J140","v":0},{"$f":"③加入者名簿!K140","v":0},{"$f":"③加入者名簿!L140","v":0},{"$f":"③加入者名簿!M140","v":0},{"$f":"③加入者名簿!N140","v":0},{"$f":"③加入者名簿!O140","v":0},{"$f":"③加入者名簿!P140","v":0},{"$f":"③加入者名簿!Q140","v":0},{"$f":"③加入者名簿!R140","v":0},{"$f":"③加入者名簿!S140","v":0},{"$f":"③加入者名簿!T140","v":0},{"$f":"③加入者名簿!U140","v":0},{"$f":"③加入者名簿!V140","v":0},{"$f":"③加入者名簿!W140","v":0}]
[{"$f":"③加入者名簿!C141","v":0},{"$f":"③加入者名簿!F141","v":0},{"$f":"③加入者名簿!G141","v":0},{"$f":"③加入者名簿!H141","v":0},{"$f":"③加入者名簿!I141","v":0},{"$f":"③加入者名簿!J141","v":0},{"$f":"③加入者名簿!K141","v":0},{"$f":"③加入者名簿!L141","v":0},{"$f":"③加入者名簿!M141","v":0},{"$f":"③加入者名簿!N141","v":0},{"$f":"③加入者名簿!O141","v":0},{"$f":"③加入者名簿!P141","v":0},{"$f":"③加入者名簿!Q141","v":0},{"$f":"③加入者名簿!R141","v":0},{"$f":"③加入者名簿!S141","v":0},{"$f":"③加入者名簿!T141","v":0},{"$f":"③加入者名簿!U141","v":0},{"$f":"③加入者名簿!V141","v":0},{"$f":"③加入者名簿!W141","v":0}]
[{"$f":"③加入者名簿!C142","v":0},{"$f":"③加入者名簿!F142","v":0},{"$f":"③加入者名簿!G142","v":0},{"$f":"③加入者名簿!H142","v":0},{"$f":"③加入者名簿!I142","v":0},{"$f":"③加入者名簿!J142","v":0},{"$f":"③加入者名簿!K142","v":0},{"$f":"③加入者名簿!L142","v":0},{"$f":"③加入者名簿!M142","v":0},{"$f":"③加入者名簿!N142","v":0},{"$f":"③加入者名簿!O142","v":0},{"$f":"③加入者名簿!P142","v":0},{"$f":"③加入者名簿!Q142","v":0},{"$f":"③加入者名簿!R142","v":0},{"$f":"③加入者名簿!S142","v":0},{"$f":"③加入者名簿!T142","v":0},{"$f":"③加入者名簿!U142","v":0},{"$f":"③加入者名簿!V142","v":0},{"$f":"③加入者名簿!W142","v":0}]
[{"$f":"③加入者名簿!C143","v":0},{"$f":"③加入者名簿!F143","v":0},{"$f":"③加入者名簿!G143","v":0},{"$f":"③加入者名簿!H143","v":0},{"$f":"③加入者名簿!I143","v":0},{"$f":"③加入者名簿!J143","v":0},{"$f":"③加入者名簿!K143","v":0},{"$f":"③加入者名簿!L143","v":0},{"$f":"③加入者名簿!M143","v":0},{"$f":"③加入者名簿!N143","v":0},{"$f":"③加入者名簿!O143","v":0},{"$f":"③加入者名簿!P143","v":0},{"$f":"③加入者名簿!Q143","v":0},{"$f":"③加入者名簿!R143","v":0},{"$f":"③加入者名簿!S143","v":0},{"$f":"③加入者名簿!T143","v":0},{"$f":"③加入者名簿!U143","v":0},{"$f":"③加入者名簿!V143","v":0},{"$f":"③加入者名簿!W143","v":0}]
[{"$f":"③加入者名簿!C144","v":0},{"$f":"③加入者名簿!F144","v":0},{"$f":"③加入者名簿!G144","v":0},{"$f":"③加入者名簿!H144","v":0},{"$f":"③加入者名簿!I144","v":0},{"$f":"③加入者名簿!J144","v":0},{"$f":"③加入者名簿!K144","v":0},{"$f":"③加入者名簿!L144","v":0},{"$f":"③加入者名簿!M144","v":0},{"$f":"③加入者名簿!N144","v":0},{"$f":"③加入者名簿!O144","v":0},{"$f":"③加入者名簿!P144","v":0},{"$f":"③加入者名簿!Q144","v":0},{"$f":"③加入者名簿!R144","v":0},{"$f":"③加入者名簿!S144","v":0},{"$f":"③加入者名簿!T144","v":0},{"$f":"③加入者名簿!U144","v":0},{"$f":"③加入者名簿!V144","v":0},{"$f":"③加入者名簿!W144","v":0}]
[{"$f":"③加入者名簿!C145","v":0},{"$f":"③加入者名簿!F145","v":0},{"$f":"③加入者名簿!G145","v":0},{"$f":"③加入者名簿!H145","v":0},{"$f":"③加入者名簿!I145","v":0},{"$f":"③加入者名簿!J145","v":0},{"$f":"③加入者名簿!K145","v":0},{"$f":"③加入者名簿!L145","v":0},{"$f":"③加入者名簿!M145","v":0},{"$f":"③加入者名簿!N145","v":0},{"$f":"③加入者名簿!O145","v":0},{"$f":"③加入者名簿!P145","v":0},{"$f":"③加入者名簿!Q145","v":0},{"$f":"③加入者名簿!R145","v":0},{"$f":"③加入者名簿!S145","v":0},{"$f":"③加入者名簿!T145","v":0},{"$f":"③加入者名簿!U145","v":0},{"$f":"③加入者名簿!V145","v":0},{"$f":"③加入者名簿!W145","v":0}]
[{"$f":"③加入者名簿!C146","v":0},{"$f":"③加入者名簿!F146","v":0},{"$f":"③加入者名簿!G146","v":0},{"$f":"③加入者名簿!H146","v":0},{"$f":"③加入者名簿!I146","v":0},{"$f":"③加入者名簿!J146","v":0},{"$f":"③加入者名簿!K146","v":0},{"$f":"③加入者名簿!L146","v":0},{"$f":"③加入者名簿!M146","v":0},{"$f":"③加入者名簿!N146","v":0},{"$f":"③加入者名簿!O146","v":0},{"$f":"③加入者名簿!P146","v":0},{"$f":"③加入者名簿!Q146","v":0},{"$f":"③加入者名簿!R146","v":0},{"$f":"③加入者名簿!S146","v":0},{"$f":"③加入者名簿!T146","v":0},{"$f":"③加入者名簿!U146","v":0},{"$f":"③加入者名簿!V146","v":0},{"$f":"③加入者名簿!W146","v":0}]
[{"$f":"③加入者名簿!C147","v":0},{"$f":"③加入者名簿!F147","v":0},{"$f":"③加入者名簿!G147","v":0},{"$f":"③加入者名簿!H147","v":0},{"$f":"③加入者名簿!I147","v":0},{"$f":"③加入者名簿!J147","v":0},{"$f":"③加入者名簿!K147","v":0},{"$f":"③加入者名簿!L147","v":0},{"$f":"③加入者名簿!M147","v":0},{"$f":"③加入者名簿!N147","v":0},{"$f":"③加入者名簿!O147","v":0},{"$f":"③加入者名簿!P147","v":0},{"$f":"③加入者名簿!Q147","v":0},{"$f":"③加入者名簿!R147","v":0},{"$f":"③加入者名簿!S147","v":0},{"$f":"③加入者名簿!T147","v":0},{"$f":"③加入者名簿!U147","v":0},{"$f":"③加入者名簿!V147","v":0},{"$f":"③加入者名簿!W147","v":0}]
[{"$f":"③加入者名簿!C148","v":0},{"$f":"③加入者名簿!F148","v":0},{"$f":"③加入者名簿!G148","v":0},{"$f":"③加入者名簿!H148","v":0},{"$f":"③加入者名簿!I148","v":0},{"$f":"③加入者名簿!J148","v":0},{"$f":"③加入者名簿!K148","v":0},{"$f":"③加入者名簿!L148","v":0},{"$f":"③加入者名簿!M148","v":0},{"$f":"③加入者名簿!N148","v":0},{"$f":"③加入者名簿!O148","v":0},{"$f":"③加入者名簿!P148","v":0},{"$f":"③加入者名簿!Q148","v":0},{"$f":"③加入者名簿!R148","v":0},{"$f":"③加入者名簿!S148","v":0},{"$f":"③加入者名簿!T148","v":0},{"$f":"③加入者名簿!U148","v":0},{"$f":"③加入者名簿!V148","v":0},{"$f":"③加入者名簿!W148","v":0}]
[{"$f":"③加入者名簿!C149","v":0},{"$f":"③加入者名簿!F149","v":0},{"$f":"③加入者名簿!G149","v":0},{"$f":"③加入者名簿!H149","v":0},{"$f":"③加入者名簿!I149","v":0},{"$f":"③加入者名簿!J149","v":0},{"$f":"③加入者名簿!K149","v":0},{"$f":"③加入者名簿!L149","v":0},{"$f":"③加入者名簿!M149","v":0},{"$f":"③加入者名簿!N149","v":0},{"$f":"③加入者名簿!O149","v":0},{"$f":"③加入者名簿!P149","v":0},{"$f":"③加入者名簿!Q149","v":0},{"$f":"③加入者名簿!R149","v":0},{"$f":"③加入者名簿!S149","v":0},{"$f":"③加入者名簿!T149","v":0},{"$f":"③加入者名簿!U149","v":0},{"$f":"③加入者名簿!V149","v":0},{"$f":"③加入者名簿!W149","v":0}]
[{"$f":"③加入者名簿!C150","v":0},{"$f":"③加入者名簿!F150","v":0},{"$f":"③加入者名簿!G150","v":0},{"$f":"③加入者名簿!H150","v":0},{"$f":"③加入者名簿!I150","v":0},{"$f":"③加入者名簿!J150","v":0},{"$f":"③加入者名簿!K150","v":0},{"$f":"③加入者名簿!L150","v":0},{"$f":"③加入者名簿!M150","v":0},{"$f":"③加入者名簿!N150","v":0},{"$f":"③加入者名簿!O150","v":0},{"$f":"③加入者名簿!P150","v":0},{"$f":"③加入者名簿!Q150","v":0},{"$f":"③加入者名簿!R150","v":0},{"$f":"③加入者名簿!S150","v":0},{"$f":"③加入者名簿!T150","v":0},{"$f":"③加入者名簿!U150","v":0},{"$f":"③加入者名簿!V150","v":0},{"$f":"③加入者名簿!W150","v":0}]
[{"$f":"③加入者名簿!C151","v":0},{"$f":"③加入者名簿!F151","v":0},{"$f":"③加入者名簿!G151","v":0},{"$f":"③加入者名簿!H151","v":0},{"$f":"③加入者名簿!I151","v":0},{"$f":"③加入者名簿!J151","v":0},{"$f":"③加入者名簿!K151","v":0},{"$f":"③加入者名簿!L151","v":0},{"$f":"③加入者名簿!M151","v":0},{"$f":"③加入者名簿!N151","v":0},{"$f":"③加入者名簿!O151","v":0},{"$f":"③加入者名簿!P151","v":0},{"$f":"③加入者名簿!Q151","v":0},{"$f":"③加入者名簿!R151","v":0},{"$f":"③加入者名簿!S151","v":0},{"$f":"③加入者名簿!T151","v":0},{"$f":"③加入者名簿!U151","v":0},{"$f":"③加入者名簿!V151","v":0},{"$f":"③加入者名簿!W151","v":0}]
[{"$f":"③加入者名簿!C152","v":0},{"$f":"③加入者名簿!F152","v":0},{"$f":"③加入者名簿!G152","v":0},{"$f":"③加入者名簿!H152","v":0},{"$f":"③加入者名簿!I152","v":0},{"$f":"③加入者名簿!J152","v":0},{"$f":"③加入者名簿!K152","v":0},{"$f":"③加入者名簿!L152","v":0},{"$f":"③加入者名簿!M152","v":0},{"$f":"③加入者名簿!N152","v":0},{"$f":"③加入者名簿!O152","v":0},{"$f":"③加入者名簿!P152","v":0},{"$f":"③加入者名簿!Q152","v":0},{"$f":"③加入者名簿!R152","v":0},{"$f":"③加入者名簿!S152","v":0},{"$f":"③加入者名簿!T152","v":0},{"$f":"③加入者名簿!U152","v":0},{"$f":"③加入者名簿!V152","v":0},{"$f":"③加入者名簿!W152","v":0}]
[{"$f":"③加入者名簿!C153","v":0},{"$f":"③加入者名簿!F153","v":0},{"$f":"③加入者名簿!G153","v":0},{"$f":"③加入者名簿!H153","v":0},{"$f":"③加入者名簿!I153","v":0},{"$f":"③加入者名簿!J153","v":0},{"$f":"③加入者名簿!K153","v":0},{"$f":"③加入者名簿!L153","v":0},{"$f":"③加入者名簿!M153","v":0},{"$f":"③加入者名簿!N153","v":0},{"$f":"③加入者名簿!O153","v":0},{"$f":"③加入者名簿!P153","v":0},{"$f":"③加入者名簿!Q153","v":0},{"$f":"③加入者名簿!R153","v":0},{"$f":"③加入者名簿!S153","v":0},{"$f":"③加入者名簿!T153","v":0},{"$f":"③加入者名簿!U153","v":0},{"$f":"③加入者名簿!V153","v":0},{"$f":"③加入者名簿!W153","v":0}]
[{"$f":"③加入者名簿!C154","v":0},{"$f":"③加入者名簿!F154","v":0},{"$f":"③加入者名簿!G154","v":0},{"$f":"③加入者名簿!H154","v":0},{"$f":"③加入者名簿!I154","v":0},{"$f":"③加入者名簿!J154","v":0},{"$f":"③加入者名簿!K154","v":0},{"$f":"③加入者名簿!L154","v":0},{"$f":"③加入者名簿!M154","v":0},{"$f":"③加入者名簿!N154","v":0},{"$f":"③加入者名簿!O154","v":0},{"$f":"③加入者名簿!P154","v":0},{"$f":"③加入者名簿!Q154","v":0},{"$f":"③加入者名簿!R154","v":0},{"$f":"③加入者名簿!S154","v":0},{"$f":"③加入者名簿!T154","v":0},{"$f":"③加入者名簿!U154","v":0},{"$f":"③加入者名簿!V154","v":0},{"$f":"③加入者名簿!W154","v":0}]
[{"$f":"③加入者名簿!C155","v":0},{"$f":"③加入者名簿!F155","v":0},{"$f":"③加入者名簿!G155","v":0},{"$f":"③加入者名簿!H155","v":0},{"$f":"③加入者名簿!I155","v":0},{"$f":"③加入者名簿!J155","v":0},{"$f":"③加入者名簿!K155","v":0},{"$f":"③加入者名簿!L155","v":0},{"$f":"③加入者名簿!M155","v":0},{"$f":"③加入者名簿!N155","v":0},{"$f":"③加入者名簿!O155","v":0},{"$f":"③加入者名簿!P155","v":0},{"$f":"③加入者名簿!Q155","v":0},{"$f":"③加入者名簿!R155","v":0},{"$f":"③加入者名簿!S155","v":0},{"$f":"③加入者名簿!T155","v":0},{"$f":"③加入者名簿!U155","v":0},{"$f":"③加入者名簿!V155","v":0},{"$f":"③加入者名簿!W155","v":0}]
[{"$f":"③加入者名簿!C156","v":0},{"$f":"③加入者名簿!F156","v":0},{"$f":"③加入者名簿!G156","v":0},{"$f":"③加入者名簿!H156","v":0},{"$f":"③加入者名簿!I156","v":0},{"$f":"③加入者名簿!J156","v":0},{"$f":"③加入者名簿!K156","v":0},{"$f":"③加入者名簿!L156","v":0},{"$f":"③加入者名簿!M156","v":0},{"$f":"③加入者名簿!N156","v":0},{"$f":"③加入者名簿!O156","v":0},{"$f":"③加入者名簿!P156","v":0},{"$f":"③加入者名簿!Q156","v":0},{"$f":"③加入者名簿!R156","v":0},{"$f":"③加入者名簿!S156","v":0},{"$f":"③加入者名簿!T156","v":0},{"$f":"③加入者名簿!U156","v":0},{"$f":"③加入者名簿!V156","v":0},{"$f":"③加入者名簿!W156","v":0}]